BEGIN:VCALENDAR
PRODID:-//nuDatenautomaten//framework iCal4j //DE
VERSION:2.0
CALSCALE:GREGORIAN
BEGIN:VTIMEZONE
TZID:Europe/Berlin
LAST-MODIFIED:20260306T231828Z
TZURL:https://www.tzurl.org/zoneinfo/Europe/Berlin
X-LIC-LOCATION:Europe/Berlin
X-PROLEPTIC-TZNAME:LMT
BEGIN:STANDARD
TZNAME:CET
TZOFFSETFROM:+005328
TZOFFSETTO:+0100
DTSTART:18930401T000000
END:STANDARD
BEGIN:DAYLIGHT
TZNAME:CEST
TZOFFSETFROM:+0100
TZOFFSETTO:+0200
DTSTART:19160430T230000
RDATE:19400401T020000
RDATE:19430329T020000
RDATE:19460414T020000
RDATE:19470406T030000
RDATE:19480418T020000
RDATE:19490410T020000
RDATE:19800406T020000
END:DAYLIGHT
BEGIN:STANDARD
TZNAME:CET
TZOFFSETFROM:+0200
TZOFFSETTO:+0100
DTSTART:19161001T010000
RDATE:19421102T030000
RDATE:19431004T030000
RDATE:19441002T030000
RDATE:19451118T030000
RDATE:19461007T030000
END:STANDARD
BEGIN:DAYLIGHT
TZNAME:CEST
TZOFFSETFROM:+0100
TZOFFSETTO:+0200
DTSTART:19170416T020000
RRULE:FREQ=YEARLY;UNTIL=19180415T010000Z;BYMONTH=4;BYDAY=3MO
END:DAYLIGHT
BEGIN:STANDARD
TZNAME:CET
TZOFFSETFROM:+0200
TZOFFSETTO:+0100
DTSTART:19170917T030000
RRULE:FREQ=YEARLY;UNTIL=19180916T010000Z;BYMONTH=9;BYDAY=3MO
END:STANDARD
BEGIN:DAYLIGHT
TZNAME:CEST
TZOFFSETFROM:+0100
TZOFFSETTO:+0200
DTSTART:19440403T020000
RRULE:FREQ=YEARLY;UNTIL=19450402T010000Z;BYMONTH=4;BYDAY=1MO
END:DAYLIGHT
BEGIN:DAYLIGHT
TZNAME:CEMT
TZOFFSETFROM:+0200
TZOFFSETTO:+0300
DTSTART:19450524T020000
RDATE:19470511T030000
END:DAYLIGHT
BEGIN:DAYLIGHT
TZNAME:CEST
TZOFFSETFROM:+0300
TZOFFSETTO:+0200
DTSTART:19450924T030000
RDATE:19470629T030000
END:DAYLIGHT
BEGIN:STANDARD
TZNAME:CET
TZOFFSETFROM:+0100
TZOFFSETTO:+0100
DTSTART:19460101T000000
RDATE:19800101T000000
END:STANDARD
BEGIN:STANDARD
TZNAME:CET
TZOFFSETFROM:+0200
TZOFFSETTO:+0100
DTSTART:19471005T030000
RRULE:FREQ=YEARLY;UNTIL=19491002T010000Z;BYMONTH=10;BYDAY=1SU
END:STANDARD
BEGIN:STANDARD
TZNAME:CET
TZOFFSETFROM:+0200
TZOFFSETTO:+0100
DTSTART:19800928T030000
RRULE:FREQ=YEARLY;UNTIL=19950924T010000Z;BYMONTH=9;BYDAY=-1SU
END:STANDARD
BEGIN:DAYLIGHT
TZNAME:CEST
TZOFFSETFROM:+0100
TZOFFSETTO:+0200
DTSTART:19810329T020000
RRULE:FREQ=YEARLY;BYMONTH=3;BYDAY=-1SU
END:DAYLIGHT
BEGIN:STANDARD
TZNAME:CET
TZOFFSETFROM:+0200
TZOFFSETTO:+0100
DTSTART:19961027T030000
RRULE:FREQ=YEARLY;BYMONTH=10;BYDAY=-1SU
END:STANDARD
END:VTIMEZONE
BEGIN:VEVENT
DTSTAMP:20260420T143355Z
DTSTART;TZID=Europe/Berlin:20211003T160000
DTEND;TZID=Europe/Berlin:20211003T173000
SUMMARY:Bezirksliga mJA - 1 HSG Neudorf/Döbeln vs Medizin Bad Gottleuba (15103)
UID:91a3bacc-195c-4d92-8c1d-436ce2454b3c
STATUS:CONFIRMED
LAST-MODIFIED:20211011T134905Z
DESCRIPTION:Bezirksliga männliche Jugend A  (Staffel 1)\nBegegnungs-Nr: 15103\nHeim: HSG Neudorf/Döbeln\nGast: Medizin Bad Gottleuba\nHalle: Stadt-SH Döbeln (31202)\nAdresse: Str. des Friedens 9\, 04720 Döbeln\n
LOCATION:Stadt-SH Döbeln (31202): Str. des Friedens 9\, 04720 Döbeln
CATEGORIES:Saison 2021/22
END:VEVENT
BEGIN:VEVENT
DTSTAMP:20260420T143355Z
DTSTART;TZID=Europe/Berlin:20211106T121500
DTEND;TZID=Europe/Berlin:20211106T134500
SUMMARY:Bezirksliga mJA - 1 HC Großenhain  vs HSG Neudorf/Döbeln (15105)
UID:77d8f313-ed9e-4efc-99d5-61bbb5936374
STATUS:CONFIRMED
LAST-MODIFIED:20211110T150201Z
DESCRIPTION:Bezirksliga männliche Jugend A  (Staffel 1)\nBegegnungs-Nr: 15105\nHeim: HC Großenhain \nGast: HSG Neudorf/Döbeln\nHalle: Rödertal-SH (33205)\nAdresse: Am Marstall 4\, 01558 Großenhain\n
LOCATION:Rödertal-SH (33205): Am Marstall 4\, 01558 Großenhain
CATEGORIES:Saison 2021/22
END:VEVENT
BEGIN:VEVENT
DTSTAMP:20260420T143355Z
DTSTART;TZID=Europe/Berlin:20211114T110000
DTEND;TZID=Europe/Berlin:20211114T123000
SUMMARY:Bezirksliga mJA - 1 Kurort Hartha vs HSG Neudorf/Döbeln (15107)
UID:792bdf69-75cf-4c31-b3a8-2ace057c449f
STATUS:CONFIRMED
LAST-MODIFIED:20220429T072158Z
DESCRIPTION:Bezirksliga männliche Jugend A  (Staffel 1)\nBegegnungs-Nr: 15107\nHeim: Kurort Hartha\nGast: HSG Neudorf/Döbeln\nHalle: Saubach-SH Wilsdruff (33208)\nAdresse: Nossener Str. 21b\, 01723 Wilsdruff\n
LOCATION:Saubach-SH Wilsdruff (33208): Nossener Str. 21b\, 01723 Wilsdruff
CATEGORIES:Saison 2021/22
END:VEVENT
BEGIN:VEVENT
DTSTAMP:20260420T143355Z
DTSTART;TZID=Europe/Berlin:20210925T121500
DTEND;TZID=Europe/Berlin:20210925T134500
SUMMARY:Bezirksliga mJA - 1 VfB Torgau vs HSG Neudorf/Döbeln (15102)
UID:c5a201e3-cb26-4bc2-855b-7e04d053b9c4
STATUS:CONFIRMED
LAST-MODIFIED:20210925T183825Z
DESCRIPTION:Bezirksliga männliche Jugend A  (Staffel 1)\nBegegnungs-Nr: 15102\nHeim: VfB Torgau\nGast: HSG Neudorf/Döbeln\nHalle: SH J.-Walter Gymnasium Torgau (31601)\nAdresse: Schloßstr. 7-9\, 04860 Torgau\n
LOCATION:SH J.-Walter Gymnasium Torgau (31601): Schloßstr. 7-9\, 04860 Torgau
CATEGORIES:Saison 2021/22
END:VEVENT
END:VCALENDAR
