BEGIN:VCALENDAR
PRODID:-//nuDatenautomaten//framework iCal4j //DE
VERSION:2.0
CALSCALE:GREGORIAN
BEGIN:VTIMEZONE
TZID:Europe/Berlin
LAST-MODIFIED:20260306T231828Z
TZURL:https://www.tzurl.org/zoneinfo/Europe/Berlin
X-LIC-LOCATION:Europe/Berlin
X-PROLEPTIC-TZNAME:LMT
BEGIN:STANDARD
TZNAME:CET
TZOFFSETFROM:+005328
TZOFFSETTO:+0100
DTSTART:18930401T000000
END:STANDARD
BEGIN:DAYLIGHT
TZNAME:CEST
TZOFFSETFROM:+0100
TZOFFSETTO:+0200
DTSTART:19160430T230000
RDATE:19400401T020000
RDATE:19430329T020000
RDATE:19460414T020000
RDATE:19470406T030000
RDATE:19480418T020000
RDATE:19490410T020000
RDATE:19800406T020000
END:DAYLIGHT
BEGIN:STANDARD
TZNAME:CET
TZOFFSETFROM:+0200
TZOFFSETTO:+0100
DTSTART:19161001T010000
RDATE:19421102T030000
RDATE:19431004T030000
RDATE:19441002T030000
RDATE:19451118T030000
RDATE:19461007T030000
END:STANDARD
BEGIN:DAYLIGHT
TZNAME:CEST
TZOFFSETFROM:+0100
TZOFFSETTO:+0200
DTSTART:19170416T020000
RRULE:FREQ=YEARLY;UNTIL=19180415T010000Z;BYMONTH=4;BYDAY=3MO
END:DAYLIGHT
BEGIN:STANDARD
TZNAME:CET
TZOFFSETFROM:+0200
TZOFFSETTO:+0100
DTSTART:19170917T030000
RRULE:FREQ=YEARLY;UNTIL=19180916T010000Z;BYMONTH=9;BYDAY=3MO
END:STANDARD
BEGIN:DAYLIGHT
TZNAME:CEST
TZOFFSETFROM:+0100
TZOFFSETTO:+0200
DTSTART:19440403T020000
RRULE:FREQ=YEARLY;UNTIL=19450402T010000Z;BYMONTH=4;BYDAY=1MO
END:DAYLIGHT
BEGIN:DAYLIGHT
TZNAME:CEMT
TZOFFSETFROM:+0200
TZOFFSETTO:+0300
DTSTART:19450524T020000
RDATE:19470511T030000
END:DAYLIGHT
BEGIN:DAYLIGHT
TZNAME:CEST
TZOFFSETFROM:+0300
TZOFFSETTO:+0200
DTSTART:19450924T030000
RDATE:19470629T030000
END:DAYLIGHT
BEGIN:STANDARD
TZNAME:CET
TZOFFSETFROM:+0100
TZOFFSETTO:+0100
DTSTART:19460101T000000
RDATE:19800101T000000
END:STANDARD
BEGIN:STANDARD
TZNAME:CET
TZOFFSETFROM:+0200
TZOFFSETTO:+0100
DTSTART:19471005T030000
RRULE:FREQ=YEARLY;UNTIL=19491002T010000Z;BYMONTH=10;BYDAY=1SU
END:STANDARD
BEGIN:STANDARD
TZNAME:CET
TZOFFSETFROM:+0200
TZOFFSETTO:+0100
DTSTART:19800928T030000
RRULE:FREQ=YEARLY;UNTIL=19950924T010000Z;BYMONTH=9;BYDAY=-1SU
END:STANDARD
BEGIN:DAYLIGHT
TZNAME:CEST
TZOFFSETFROM:+0100
TZOFFSETTO:+0200
DTSTART:19810329T020000
RRULE:FREQ=YEARLY;BYMONTH=3;BYDAY=-1SU
END:DAYLIGHT
BEGIN:STANDARD
TZNAME:CET
TZOFFSETFROM:+0200
TZOFFSETTO:+0100
DTSTART:19961027T030000
RRULE:FREQ=YEARLY;BYMONTH=10;BYDAY=-1SU
END:STANDARD
END:VTIMEZONE
BEGIN:VEVENT
DTSTAMP:20260426T041317Z
DTSTART;TZID=Europe/Berlin:20211114T130000
DTEND;TZID=Europe/Berlin:20211114T143000
SUMMARY:BLF SF 01 Dresden II vs USV TU Dresden II (2021)
UID:28275861-8007-4b29-82f5-303e9a8d8a4a
STATUS:CONFIRMED
LAST-MODIFIED:20211114T143654Z
DESCRIPTION:BezLiga SM Frauen\nBegegnungs-Nr: 2021\nHeim: SF 01 Dresden II\nGast: USV TU Dresden II\nHalle: SH Bertolt-Brecht-Gymnasium Dresden (33129)\nAdresse: Thomaestraße 60\, 01307 Dresden\n
LOCATION:SH Bertolt-Brecht-Gymnasium Dresden (33129): Thomaestraße 60\, 01307 Dresden
CATEGORIES:Saison 2021/22
END:VEVENT
BEGIN:VEVENT
DTSTAMP:20260426T041317Z
DTSTART;TZID=Europe/Berlin:20211010T130000
DTEND;TZID=Europe/Berlin:20211010T143000
SUMMARY:BLF SF 01 Dresden II vs SG Klotzsche II (2011)
UID:04e43bd9-672b-43fd-a214-e261cf8f32e3
STATUS:CONFIRMED
LAST-MODIFIED:20211010T150947Z
DESCRIPTION:BezLiga SM Frauen\nBegegnungs-Nr: 2011\nHeim: SF 01 Dresden II\nGast: SG Klotzsche II\nHalle: SH Hülße-Gymnasium Dresden (33120)\nAdresse: Hülßestraße 16\, 01237 Dresden\n
LOCATION:SH Hülße-Gymnasium Dresden (33120): Hülßestraße 16\, 01237 Dresden
CATEGORIES:Saison 2021/22
END:VEVENT
BEGIN:VEVENT
DTSTAMP:20260426T041317Z
DTSTART;TZID=Europe/Berlin:20210926T140000
DTEND;TZID=Europe/Berlin:20210926T153000
SUMMARY:BLF SF 01 Dresden II vs SSV Heidenau  II (2002)
UID:0241cfbf-fd2b-42f1-801d-578abcf19f61
STATUS:CONFIRMED
LAST-MODIFIED:20210927T060310Z
DESCRIPTION:BezLiga SM Frauen\nBegegnungs-Nr: 2002\nHeim: SF 01 Dresden II\nGast: SSV Heidenau  II\nHalle: SH Hülße-Gymnasium Dresden (33120)\nAdresse: Hülßestraße 16\, 01237 Dresden\n
LOCATION:SH Hülße-Gymnasium Dresden (33120): Hülßestraße 16\, 01237 Dresden
CATEGORIES:Saison 2021/22
END:VEVENT
BEGIN:VEVENT
DTSTAMP:20260426T041317Z
DTSTART;TZID=Europe/Berlin:20220515T120000
DTEND;TZID=Europe/Berlin:20220515T133000
SUMMARY:BLF SF 01 Dresden II vs HSG Weißeritztal (2088)
UID:50dfea1b-a0a1-436e-8202-edac06ae7e0f
STATUS:CONFIRMED
LAST-MODIFIED:20220515T163650Z
DESCRIPTION:BezLiga SM Frauen\nBegegnungs-Nr: 2088\nHeim: SF 01 Dresden II\nGast: HSG Weißeritztal\nHalle: SH 117. Grundschule Dresden (33132)\nAdresse: Reichenbachstr. 12\, 01069 Dresden\n
LOCATION:SH 117. Grundschule Dresden (33132): Reichenbachstr. 12\, 01069 Dresden
CATEGORIES:Saison 2021/22
END:VEVENT
BEGIN:VEVENT
DTSTAMP:20260426T041317Z
DTSTART;TZID=Europe/Berlin:20211003T140000
DTEND;TZID=Europe/Berlin:20211003T153000
SUMMARY:BLF SG Meißen/Riesa III vs SF 01 Dresden II (2006)
UID:94472657-2469-4174-ac00-39504c479308
STATUS:CONFIRMED
LAST-MODIFIED:20211003T140719Z
DESCRIPTION:BezLiga SM Frauen\nBegegnungs-Nr: 2006\nHeim: SG Meißen/Riesa III\nGast: SF 01 Dresden II\nHalle: WM-Sporthalle Riesa (33213)\nAdresse: Am Sportzentrum 1\, 01587 Riesa\n
LOCATION:WM-Sporthalle Riesa (33213): Am Sportzentrum 1\, 01587 Riesa
CATEGORIES:Saison 2021/22
END:VEVENT
BEGIN:VEVENT
DTSTAMP:20260426T041317Z
DTSTART;TZID=Europe/Berlin:20211017T150000
DTEND;TZID=Europe/Berlin:20211017T163000
SUMMARY:BLF SHV Oschatz vs SF 01 Dresden II (2013)
UID:3c0cda13-c7eb-412e-a122-3c9dcd4a5612
STATUS:CONFIRMED
LAST-MODIFIED:20211020T152743Z
DESCRIPTION:BezLiga SM Frauen\nBegegnungs-Nr: 2013\nHeim: SHV Oschatz\nGast: SF 01 Dresden II\nHalle: Rosental-SH Oschatz (31604)\nAdresse: Berufsschulstraße 8\, 04758 Oschatz\n
LOCATION:Rosental-SH Oschatz (31604): Berufsschulstraße 8\, 04758 Oschatz
CATEGORIES:Saison 2021/22
END:VEVENT
BEGIN:VEVENT
DTSTAMP:20260426T041317Z
DTSTART;TZID=Europe/Berlin:20220508T143000
DTEND;TZID=Europe/Berlin:20220508T160000
SUMMARY:BLF HSV Weinböhla II vs SF 01 Dresden II (2074)
UID:0e0e7933-4e51-49d1-881e-59b0860ea908
STATUS:CONFIRMED
LAST-MODIFIED:20220508T144005Z
DESCRIPTION:BezLiga SM Frauen\nBegegnungs-Nr: 2074\nHeim: HSV Weinböhla II\nGast: SF 01 Dresden II\nHalle: Nassau-SH Weinböhla (33224)\nAdresse: Meißner Str. 1\, 01689 Weinböhla\n
LOCATION:Nassau-SH Weinböhla (33224): Meißner Str. 1\, 01689 Weinböhla
CATEGORIES:Saison 2021/22
END:VEVENT
BEGIN:VEVENT
DTSTAMP:20260426T041317Z
DTSTART;TZID=Europe/Berlin:20211106T160000
DTEND;TZID=Europe/Berlin:20211106T173000
SUMMARY:BLF Radebeuler HV vs SF 01 Dresden II (2020)
UID:544f796a-5c3f-4c27-87fe-dd753bfe01ef
STATUS:CONFIRMED
LAST-MODIFIED:20211107T081250Z
DESCRIPTION:BezLiga SM Frauen\nBegegnungs-Nr: 2020\nHeim: Radebeuler HV\nGast: SF 01 Dresden II\nHalle: Lößnitz-SH Radebeul (33204)\nAdresse: Steinbachstr. 13\, 01445 Radebeul\n
LOCATION:Lößnitz-SH Radebeul (33204): Steinbachstr. 13\, 01445 Radebeul
CATEGORIES:Saison 2021/22
END:VEVENT
END:VCALENDAR
