BEGIN:VCALENDAR
PRODID:-//nuDatenautomaten//framework iCal4j //DE
VERSION:2.0
CALSCALE:GREGORIAN
BEGIN:VTIMEZONE
TZID:Europe/Berlin
LAST-MODIFIED:20260306T231828Z
TZURL:https://www.tzurl.org/zoneinfo/Europe/Berlin
X-LIC-LOCATION:Europe/Berlin
X-PROLEPTIC-TZNAME:LMT
BEGIN:STANDARD
TZNAME:CET
TZOFFSETFROM:+005328
TZOFFSETTO:+0100
DTSTART:18930401T000000
END:STANDARD
BEGIN:DAYLIGHT
TZNAME:CEST
TZOFFSETFROM:+0100
TZOFFSETTO:+0200
DTSTART:19160430T230000
RDATE:19400401T020000
RDATE:19430329T020000
RDATE:19460414T020000
RDATE:19470406T030000
RDATE:19480418T020000
RDATE:19490410T020000
RDATE:19800406T020000
END:DAYLIGHT
BEGIN:STANDARD
TZNAME:CET
TZOFFSETFROM:+0200
TZOFFSETTO:+0100
DTSTART:19161001T010000
RDATE:19421102T030000
RDATE:19431004T030000
RDATE:19441002T030000
RDATE:19451118T030000
RDATE:19461007T030000
END:STANDARD
BEGIN:DAYLIGHT
TZNAME:CEST
TZOFFSETFROM:+0100
TZOFFSETTO:+0200
DTSTART:19170416T020000
RRULE:FREQ=YEARLY;UNTIL=19180415T010000Z;BYMONTH=4;BYDAY=3MO
END:DAYLIGHT
BEGIN:STANDARD
TZNAME:CET
TZOFFSETFROM:+0200
TZOFFSETTO:+0100
DTSTART:19170917T030000
RRULE:FREQ=YEARLY;UNTIL=19180916T010000Z;BYMONTH=9;BYDAY=3MO
END:STANDARD
BEGIN:DAYLIGHT
TZNAME:CEST
TZOFFSETFROM:+0100
TZOFFSETTO:+0200
DTSTART:19440403T020000
RRULE:FREQ=YEARLY;UNTIL=19450402T010000Z;BYMONTH=4;BYDAY=1MO
END:DAYLIGHT
BEGIN:DAYLIGHT
TZNAME:CEMT
TZOFFSETFROM:+0200
TZOFFSETTO:+0300
DTSTART:19450524T020000
RDATE:19470511T030000
END:DAYLIGHT
BEGIN:DAYLIGHT
TZNAME:CEST
TZOFFSETFROM:+0300
TZOFFSETTO:+0200
DTSTART:19450924T030000
RDATE:19470629T030000
END:DAYLIGHT
BEGIN:STANDARD
TZNAME:CET
TZOFFSETFROM:+0100
TZOFFSETTO:+0100
DTSTART:19460101T000000
RDATE:19800101T000000
END:STANDARD
BEGIN:STANDARD
TZNAME:CET
TZOFFSETFROM:+0200
TZOFFSETTO:+0100
DTSTART:19471005T030000
RRULE:FREQ=YEARLY;UNTIL=19491002T010000Z;BYMONTH=10;BYDAY=1SU
END:STANDARD
BEGIN:STANDARD
TZNAME:CET
TZOFFSETFROM:+0200
TZOFFSETTO:+0100
DTSTART:19800928T030000
RRULE:FREQ=YEARLY;UNTIL=19950924T010000Z;BYMONTH=9;BYDAY=-1SU
END:STANDARD
BEGIN:DAYLIGHT
TZNAME:CEST
TZOFFSETFROM:+0100
TZOFFSETTO:+0200
DTSTART:19810329T020000
RRULE:FREQ=YEARLY;BYMONTH=3;BYDAY=-1SU
END:DAYLIGHT
BEGIN:STANDARD
TZNAME:CET
TZOFFSETFROM:+0200
TZOFFSETTO:+0100
DTSTART:19961027T030000
RRULE:FREQ=YEARLY;BYMONTH=10;BYDAY=-1SU
END:STANDARD
END:VTIMEZONE
BEGIN:VEVENT
DTSTAMP:20260426T035414Z
DTSTART;TZID=Europe/Berlin:20211106T113000
DTEND;TZID=Europe/Berlin:20211106T123000
SUMMARY:Bezirksliga mJD - 1 SG MoGoNo Leipzig vs Leipziger SV Südwest (18112)
UID:be1f0c86-d797-407e-b24d-750774457623
STATUS:CONFIRMED
LAST-MODIFIED:20211111T181734Z
DESCRIPTION:Bezirksliga männliche Jugend D (Staffel 1)\nBegegnungs-Nr: 18112\nHeim: SG MoGoNo Leipzig\nGast: Leipziger SV Südwest\nHalle: SH Kästner-Grundschule Leipzig (31131)\nAdresse: Erfurter Str\, 04155 Leipzig\n
LOCATION:SH Kästner-Grundschule Leipzig (31131): Erfurter Str\, 04155 Leipzig
CATEGORIES:Saison 2021/22
END:VEVENT
BEGIN:VEVENT
DTSTAMP:20260426T035414Z
DTSTART;TZID=Europe/Berlin:20211010T121500
DTEND;TZID=Europe/Berlin:20211010T131500
SUMMARY:Bezirksliga mJD - 1 SG MoGoNo Leipzig vs HSG Neudorf/Döbeln (18107)
UID:180bf288-2574-428d-8ac4-152d4e3a74ba
STATUS:CONFIRMED
LAST-MODIFIED:20211011T141954Z
DESCRIPTION:Bezirksliga männliche Jugend D (Staffel 1)\nBegegnungs-Nr: 18107\nHeim: SG MoGoNo Leipzig\nGast: HSG Neudorf/Döbeln\nHalle: SH Kästner-Grundschule Leipzig (31131)\nAdresse: Erfurter Str\, 04155 Leipzig\n
LOCATION:SH Kästner-Grundschule Leipzig (31131): Erfurter Str\, 04155 Leipzig
CATEGORIES:Saison 2021/22
END:VEVENT
BEGIN:VEVENT
DTSTAMP:20260426T035414Z
DTSTART;TZID=Europe/Berlin:20220319T102000
DTEND;TZID=Europe/Berlin:20220319T112000
SUMMARY:Bezirksliga mJD - 1 SG MoGoNo Leipzig vs Bornaer HV 09 (18120)
UID:a2f4a7f8-36c4-456e-b2cf-f42ae7ba93a0
STATUS:CONFIRMED
LAST-MODIFIED:20220323T164014Z
DESCRIPTION:Bezirksliga männliche Jugend D (Staffel 1)\nBegegnungs-Nr: 18120\nHeim: SG MoGoNo Leipzig\nGast: Bornaer HV 09\nHalle: SH Kästner-Grundschule Leipzig (31131)\nAdresse: Erfurter Str\, 04155 Leipzig\n
LOCATION:SH Kästner-Grundschule Leipzig (31131): Erfurter Str\, 04155 Leipzig
CATEGORIES:Saison 2021/22
END:VEVENT
BEGIN:VEVENT
DTSTAMP:20260426T035414Z
DTSTART;TZID=Europe/Berlin:20211114T110000
DTEND;TZID=Europe/Berlin:20211114T120000
SUMMARY:Bezirksliga mJD - 1 Germania Zwenkau vs SG MoGoNo Leipzig (18110)
UID:e4eb97b3-8438-4eaa-a9c3-d97dd90a15f5
STATUS:CONFIRMED
LAST-MODIFIED:20220309T095810Z
DESCRIPTION:Bezirksliga männliche Jugend D (Staffel 1)\nBegegnungs-Nr: 18110\nHeim: Germania Zwenkau\nGast: SG MoGoNo Leipzig\nHalle: Stadthalle Zwenkau (31113)\nAdresse: Heinrich-Mann-Weg 17\, 04442 Zwenkau\n
LOCATION:Stadthalle Zwenkau (31113): Heinrich-Mann-Weg 17\, 04442 Zwenkau
CATEGORIES:Saison 2021/22
END:VEVENT
BEGIN:VEVENT
DTSTAMP:20260426T035414Z
DTSTART;TZID=Europe/Berlin:20220305T113000
DTEND;TZID=Europe/Berlin:20220305T123000
SUMMARY:Bezirksliga mJD - 1 HSV Mölkau - Die Haie  vs SG MoGoNo Leipzig (18116)
UID:e01e5cad-4e30-4d76-ba00-368feb13066c
STATUS:CONFIRMED
LAST-MODIFIED:20220311T094728Z
DESCRIPTION:Bezirksliga männliche Jugend D (Staffel 1)\nBegegnungs-Nr: 18116\nHeim: HSV Mölkau - Die Haie \nGast: SG MoGoNo Leipzig\nHalle: SH Oberschule Leipzig-Mölkau (31106)\nAdresse: Schulstr. 6\, 04316 Leipzig\n
LOCATION:SH Oberschule Leipzig-Mölkau (31106): Schulstr. 6\, 04316 Leipzig
CATEGORIES:Saison 2021/22
END:VEVENT
BEGIN:VEVENT
DTSTAMP:20260426T035414Z
DTSTART;TZID=Europe/Berlin:20211003T151500
DTEND;TZID=Europe/Berlin:20211003T161500
SUMMARY:Bezirksliga mJD - 1 SG LVB vs SG MoGoNo Leipzig (18104)
UID:c8dc1339-4574-4e7a-b239-3d4c33108f05
STATUS:CONFIRMED
DESCRIPTION:Bezirksliga männliche Jugend D (Staffel 1)\nBegegnungs-Nr: 18104\nHeim: SG LVB\nGast: SG MoGoNo Leipzig\nHalle: SH Gymnasium an der Telemannstraße  (31109)\nAdresse: Telemannstraße 9\, 04107 Leipzig\n
LOCATION:SH Gymnasium an der Telemannstraße  (31109): Telemannstraße 9\, 04107 Leipzig
CATEGORIES:Saison 2021/22
END:VEVENT
END:VCALENDAR
