BEGIN:VCALENDAR
PRODID:-//nuDatenautomaten//framework iCal4j //DE
VERSION:2.0
CALSCALE:GREGORIAN
BEGIN:VTIMEZONE
TZID:Europe/Berlin
LAST-MODIFIED:20260306T231828Z
TZURL:https://www.tzurl.org/zoneinfo/Europe/Berlin
X-LIC-LOCATION:Europe/Berlin
X-PROLEPTIC-TZNAME:LMT
BEGIN:STANDARD
TZNAME:CET
TZOFFSETFROM:+005328
TZOFFSETTO:+0100
DTSTART:18930401T000000
END:STANDARD
BEGIN:DAYLIGHT
TZNAME:CEST
TZOFFSETFROM:+0100
TZOFFSETTO:+0200
DTSTART:19160430T230000
RDATE:19400401T020000
RDATE:19430329T020000
RDATE:19460414T020000
RDATE:19470406T030000
RDATE:19480418T020000
RDATE:19490410T020000
RDATE:19800406T020000
END:DAYLIGHT
BEGIN:STANDARD
TZNAME:CET
TZOFFSETFROM:+0200
TZOFFSETTO:+0100
DTSTART:19161001T010000
RDATE:19421102T030000
RDATE:19431004T030000
RDATE:19441002T030000
RDATE:19451118T030000
RDATE:19461007T030000
END:STANDARD
BEGIN:DAYLIGHT
TZNAME:CEST
TZOFFSETFROM:+0100
TZOFFSETTO:+0200
DTSTART:19170416T020000
RRULE:FREQ=YEARLY;UNTIL=19180415T010000Z;BYMONTH=4;BYDAY=3MO
END:DAYLIGHT
BEGIN:STANDARD
TZNAME:CET
TZOFFSETFROM:+0200
TZOFFSETTO:+0100
DTSTART:19170917T030000
RRULE:FREQ=YEARLY;UNTIL=19180916T010000Z;BYMONTH=9;BYDAY=3MO
END:STANDARD
BEGIN:DAYLIGHT
TZNAME:CEST
TZOFFSETFROM:+0100
TZOFFSETTO:+0200
DTSTART:19440403T020000
RRULE:FREQ=YEARLY;UNTIL=19450402T010000Z;BYMONTH=4;BYDAY=1MO
END:DAYLIGHT
BEGIN:DAYLIGHT
TZNAME:CEMT
TZOFFSETFROM:+0200
TZOFFSETTO:+0300
DTSTART:19450524T020000
RDATE:19470511T030000
END:DAYLIGHT
BEGIN:DAYLIGHT
TZNAME:CEST
TZOFFSETFROM:+0300
TZOFFSETTO:+0200
DTSTART:19450924T030000
RDATE:19470629T030000
END:DAYLIGHT
BEGIN:STANDARD
TZNAME:CET
TZOFFSETFROM:+0100
TZOFFSETTO:+0100
DTSTART:19460101T000000
RDATE:19800101T000000
END:STANDARD
BEGIN:STANDARD
TZNAME:CET
TZOFFSETFROM:+0200
TZOFFSETTO:+0100
DTSTART:19471005T030000
RRULE:FREQ=YEARLY;UNTIL=19491002T010000Z;BYMONTH=10;BYDAY=1SU
END:STANDARD
BEGIN:STANDARD
TZNAME:CET
TZOFFSETFROM:+0200
TZOFFSETTO:+0100
DTSTART:19800928T030000
RRULE:FREQ=YEARLY;UNTIL=19950924T010000Z;BYMONTH=9;BYDAY=-1SU
END:STANDARD
BEGIN:DAYLIGHT
TZNAME:CEST
TZOFFSETFROM:+0100
TZOFFSETTO:+0200
DTSTART:19810329T020000
RRULE:FREQ=YEARLY;BYMONTH=3;BYDAY=-1SU
END:DAYLIGHT
BEGIN:STANDARD
TZNAME:CET
TZOFFSETFROM:+0200
TZOFFSETTO:+0100
DTSTART:19961027T030000
RRULE:FREQ=YEARLY;BYMONTH=10;BYDAY=-1SU
END:STANDARD
END:VTIMEZONE
BEGIN:VEVENT
DTSTAMP:20260425T200516Z
DTSTART;TZID=Europe/Berlin:20220515T120000
DTEND;TZID=Europe/Berlin:20220515T133000
SUMMARY:BLF Radebeuler HV vs HSV Weinböhla II (2089)
UID:0446cefc-28a8-435d-bc0b-e451401f2531
STATUS:CONFIRMED
LAST-MODIFIED:20220515T163827Z
DESCRIPTION:BezLiga SM Frauen\nBegegnungs-Nr: 2089\nHeim: Radebeuler HV\nGast: HSV Weinböhla II\nHalle: Lößnitz-SH Radebeul (33204)\nAdresse: Steinbachstr. 13\, 01445 Radebeul\n
LOCATION:Lößnitz-SH Radebeul (33204): Steinbachstr. 13\, 01445 Radebeul
CATEGORIES:Saison 2021/22
END:VEVENT
BEGIN:VEVENT
DTSTAMP:20260425T200516Z
DTSTART;TZID=Europe/Berlin:20211009T160000
DTEND;TZID=Europe/Berlin:20211009T173000
SUMMARY:BLF Radebeuler HV vs SHV Oschatz (2012)
UID:85dc0551-2ba9-41a0-9491-c5b4d5c2cc0f
STATUS:CONFIRMED
LAST-MODIFIED:20211010T081543Z
DESCRIPTION:BezLiga SM Frauen\nBegegnungs-Nr: 2012\nHeim: Radebeuler HV\nGast: SHV Oschatz\nHalle: Lößnitz-SH Radebeul (33204)\nAdresse: Steinbachstr. 13\, 01445 Radebeul\n
LOCATION:Lößnitz-SH Radebeul (33204): Steinbachstr. 13\, 01445 Radebeul
CATEGORIES:Saison 2021/22
END:VEVENT
BEGIN:VEVENT
DTSTAMP:20260425T200516Z
DTSTART;TZID=Europe/Berlin:20220402T160000
DTEND;TZID=Europe/Berlin:20220402T173000
SUMMARY:BLF Radebeuler HV vs USV TU Dresden II (2073)
UID:11e6cb09-8528-4d4a-a010-7230d0046ae3
STATUS:CONFIRMED
LAST-MODIFIED:20220402T162719Z
DESCRIPTION:BezLiga SM Frauen\nBegegnungs-Nr: 2073\nHeim: Radebeuler HV\nGast: USV TU Dresden II\nHalle: Lößnitz-SH Radebeul (33204)\nAdresse: Steinbachstr. 13\, 01445 Radebeul\n
LOCATION:Lößnitz-SH Radebeul (33204): Steinbachstr. 13\, 01445 Radebeul
CATEGORIES:Saison 2021/22
END:VEVENT
BEGIN:VEVENT
DTSTAMP:20260425T200516Z
DTSTART;TZID=Europe/Berlin:20210925T160000
DTEND;TZID=Europe/Berlin:20210925T173000
SUMMARY:BLF Radebeuler HV vs SG Klotzsche II (2004)
UID:a543a2d4-bb98-4850-a545-53348e084c7c
STATUS:CONFIRMED
LAST-MODIFIED:20210927T060157Z
DESCRIPTION:BezLiga SM Frauen\nBegegnungs-Nr: 2004\nHeim: Radebeuler HV\nGast: SG Klotzsche II\nHalle: Lößnitz-SH Radebeul (33204)\nAdresse: Steinbachstr. 13\, 01445 Radebeul\n
LOCATION:Lößnitz-SH Radebeul (33204): Steinbachstr. 13\, 01445 Radebeul
CATEGORIES:Saison 2021/22
END:VEVENT
BEGIN:VEVENT
DTSTAMP:20260425T200516Z
DTSTART;TZID=Europe/Berlin:20211106T160000
DTEND;TZID=Europe/Berlin:20211106T173000
SUMMARY:BLF Radebeuler HV vs SF 01 Dresden II (2020)
UID:544f796a-5c3f-4c27-87fe-dd753bfe01ef
STATUS:CONFIRMED
LAST-MODIFIED:20211107T081250Z
DESCRIPTION:BezLiga SM Frauen\nBegegnungs-Nr: 2020\nHeim: Radebeuler HV\nGast: SF 01 Dresden II\nHalle: Lößnitz-SH Radebeul (33204)\nAdresse: Steinbachstr. 13\, 01445 Radebeul\n
LOCATION:Lößnitz-SH Radebeul (33204): Steinbachstr. 13\, 01445 Radebeul
CATEGORIES:Saison 2021/22
END:VEVENT
BEGIN:VEVENT
DTSTAMP:20260425T200516Z
DTSTART;TZID=Europe/Berlin:20220518T190000
DTEND;TZID=Europe/Berlin:20220518T203000
SUMMARY:BLF SG Meißen/Riesa III vs Radebeuler HV (2085)
UID:49a52c4e-9456-4ed0-bf43-4305dbb6a7ac
STATUS:CONFIRMED
LAST-MODIFIED:20220523T161934Z
DESCRIPTION:BezLiga SM Frauen\nBegegnungs-Nr: 2085\nHeim: SG Meißen/Riesa III\nGast: Radebeuler HV\nHalle: SH \"Heiliger Grund\" Meißen (33212)\nAdresse: Goethestraße 27\, 01662 Meißen\n
LOCATION:SH \"Heiliger Grund\" Meißen (33212): Goethestraße 27\, 01662 Meißen
CATEGORIES:Saison 2021/22
END:VEVENT
BEGIN:VEVENT
DTSTAMP:20260425T200516Z
DTSTART;TZID=Europe/Berlin:20220413T193000
DTEND;TZID=Europe/Berlin:20220413T210000
SUMMARY:BLF HSG Weißeritztal vs Radebeuler HV (2024)
UID:c6f8544a-c9e1-444a-a360-d0a5dc7424cd
STATUS:CONFIRMED
LAST-MODIFIED:20220414T101609Z
DESCRIPTION:BezLiga SM Frauen\nBegegnungs-Nr: 2024\nHeim: HSG Weißeritztal\nGast: Radebeuler HV\nHalle: Saubach-SH Wilsdruff (33208)\nAdresse: Nossener Str. 21b\, 01723 Wilsdruff\n
LOCATION:Saubach-SH Wilsdruff (33208): Nossener Str. 21b\, 01723 Wilsdruff
CATEGORIES:Saison 2021/22
END:VEVENT
BEGIN:VEVENT
DTSTAMP:20260425T200516Z
DTSTART;TZID=Europe/Berlin:20211002T180000
DTEND;TZID=Europe/Berlin:20211002T193000
SUMMARY:BLF TSV 1862 Radeburg vs Radebeuler HV (2008)
UID:17ad1ecc-f655-404d-a86a-15d93acf2e7c
STATUS:CONFIRMED
LAST-MODIFIED:20220318T095125Z
DESCRIPTION:BezLiga SM Frauen\nBegegnungs-Nr: 2008\nHeim: TSV 1862 Radeburg\nGast: Radebeuler HV\nHalle: Paul-Tiedemann-SH Radeburg (33214)\nAdresse: Meißner Berg 83c\, 01471 Radeburg\n
LOCATION:Paul-Tiedemann-SH Radeburg (33214): Meißner Berg 83c\, 01471 Radeburg
CATEGORIES:Saison 2021/22
END:VEVENT
BEGIN:VEVENT
DTSTAMP:20260425T200516Z
DTSTART;TZID=Europe/Berlin:20220409T140000
DTEND;TZID=Europe/Berlin:20220409T153000
SUMMARY:BLF SSV Heidenau  II vs Radebeuler HV (2077)
UID:629e1832-c4dd-4481-85cf-a31f12dc8161
STATUS:CONFIRMED
LAST-MODIFIED:20220409T164543Z
DESCRIPTION:BezLiga SM Frauen\nBegegnungs-Nr: 2077\nHeim: SSV Heidenau  II\nGast: Radebeuler HV\nHalle: SH Pestalozzi-Gymnasium Heidenau (33306)\nAdresse: Hauptstraße 37\, 01809 Heidenau\n
LOCATION:SH Pestalozzi-Gymnasium Heidenau (33306): Hauptstraße 37\, 01809 Heidenau
CATEGORIES:Saison 2021/22
END:VEVENT
END:VCALENDAR
