BEGIN:VCALENDAR
PRODID:-//nuDatenautomaten//framework iCal4j //DE
VERSION:2.0
CALSCALE:GREGORIAN
BEGIN:VTIMEZONE
TZID:Europe/Berlin
LAST-MODIFIED:20260306T231828Z
TZURL:https://www.tzurl.org/zoneinfo/Europe/Berlin
X-LIC-LOCATION:Europe/Berlin
X-PROLEPTIC-TZNAME:LMT
BEGIN:STANDARD
TZNAME:CET
TZOFFSETFROM:+005328
TZOFFSETTO:+0100
DTSTART:18930401T000000
END:STANDARD
BEGIN:DAYLIGHT
TZNAME:CEST
TZOFFSETFROM:+0100
TZOFFSETTO:+0200
DTSTART:19160430T230000
RDATE:19400401T020000
RDATE:19430329T020000
RDATE:19460414T020000
RDATE:19470406T030000
RDATE:19480418T020000
RDATE:19490410T020000
RDATE:19800406T020000
END:DAYLIGHT
BEGIN:STANDARD
TZNAME:CET
TZOFFSETFROM:+0200
TZOFFSETTO:+0100
DTSTART:19161001T010000
RDATE:19421102T030000
RDATE:19431004T030000
RDATE:19441002T030000
RDATE:19451118T030000
RDATE:19461007T030000
END:STANDARD
BEGIN:DAYLIGHT
TZNAME:CEST
TZOFFSETFROM:+0100
TZOFFSETTO:+0200
DTSTART:19170416T020000
RRULE:FREQ=YEARLY;UNTIL=19180415T010000Z;BYMONTH=4;BYDAY=3MO
END:DAYLIGHT
BEGIN:STANDARD
TZNAME:CET
TZOFFSETFROM:+0200
TZOFFSETTO:+0100
DTSTART:19170917T030000
RRULE:FREQ=YEARLY;UNTIL=19180916T010000Z;BYMONTH=9;BYDAY=3MO
END:STANDARD
BEGIN:DAYLIGHT
TZNAME:CEST
TZOFFSETFROM:+0100
TZOFFSETTO:+0200
DTSTART:19440403T020000
RRULE:FREQ=YEARLY;UNTIL=19450402T010000Z;BYMONTH=4;BYDAY=1MO
END:DAYLIGHT
BEGIN:DAYLIGHT
TZNAME:CEMT
TZOFFSETFROM:+0200
TZOFFSETTO:+0300
DTSTART:19450524T020000
RDATE:19470511T030000
END:DAYLIGHT
BEGIN:DAYLIGHT
TZNAME:CEST
TZOFFSETFROM:+0300
TZOFFSETTO:+0200
DTSTART:19450924T030000
RDATE:19470629T030000
END:DAYLIGHT
BEGIN:STANDARD
TZNAME:CET
TZOFFSETFROM:+0100
TZOFFSETTO:+0100
DTSTART:19460101T000000
RDATE:19800101T000000
END:STANDARD
BEGIN:STANDARD
TZNAME:CET
TZOFFSETFROM:+0200
TZOFFSETTO:+0100
DTSTART:19471005T030000
RRULE:FREQ=YEARLY;UNTIL=19491002T010000Z;BYMONTH=10;BYDAY=1SU
END:STANDARD
BEGIN:STANDARD
TZNAME:CET
TZOFFSETFROM:+0200
TZOFFSETTO:+0100
DTSTART:19800928T030000
RRULE:FREQ=YEARLY;UNTIL=19950924T010000Z;BYMONTH=9;BYDAY=-1SU
END:STANDARD
BEGIN:DAYLIGHT
TZNAME:CEST
TZOFFSETFROM:+0100
TZOFFSETTO:+0200
DTSTART:19810329T020000
RRULE:FREQ=YEARLY;BYMONTH=3;BYDAY=-1SU
END:DAYLIGHT
BEGIN:STANDARD
TZNAME:CET
TZOFFSETFROM:+0200
TZOFFSETTO:+0100
DTSTART:19961027T030000
RRULE:FREQ=YEARLY;BYMONTH=10;BYDAY=-1SU
END:STANDARD
END:VTIMEZONE
BEGIN:VEVENT
DTSTAMP:20260423T194848Z
DTSTART;TZID=Europe/Berlin:20211113T124500
DTEND;TZID=Europe/Berlin:20211113T134500
SUMMARY:Sachsenliga mJC SG Pirna/Heidenau vs HSG Freiberg (20015)
UID:3e7fd7da-4ad0-474c-8d52-ceca8df6c0af
STATUS:CONFIRMED
LAST-MODIFIED:20211118T183710Z
DESCRIPTION:Sachsenliga männliche Jugend C\nBegegnungs-Nr: 20015\nHeim: SG Pirna/Heidenau\nGast: HSG Freiberg\nHalle: SH Pestalozzi-Gymnasium Heidenau (33306)\nAdresse: Hauptstraße 37\, 01809 Heidenau\n
LOCATION:SH Pestalozzi-Gymnasium Heidenau (33306): Hauptstraße 37\, 01809 Heidenau
CATEGORIES:Saison 2021/22
END:VEVENT
BEGIN:VEVENT
DTSTAMP:20260423T194848Z
DTSTART;TZID=Europe/Berlin:20220319T110000
DTEND;TZID=Europe/Berlin:20220319T120000
SUMMARY:Sachsenliga mJC SG Pirna/Heidenau vs NSG ZHC/Werdau (20031)
UID:8937c06e-579b-4b46-8194-0e53e45d139a
STATUS:CONFIRMED
LAST-MODIFIED:20220323T175417Z
DESCRIPTION:Sachsenliga männliche Jugend C\nBegegnungs-Nr: 20031\nHeim: SG Pirna/Heidenau\nGast: NSG ZHC/Werdau\nHalle: SH Pestalozzi-Gymnasium Heidenau (33306)\nAdresse: Hauptstraße 37\, 01809 Heidenau\n
LOCATION:SH Pestalozzi-Gymnasium Heidenau (33306): Hauptstraße 37\, 01809 Heidenau
CATEGORIES:Saison 2021/22
END:VEVENT
BEGIN:VEVENT
DTSTAMP:20260423T194848Z
DTSTART;TZID=Europe/Berlin:20220520T180000
DTEND;TZID=Europe/Berlin:20220520T190000
SUMMARY:Sachsenliga mJC SG Pirna/Heidenau vs HSG Rottluff/Lok Chemnitz (20064)
UID:850f9e71-df9c-4da2-a22a-c289d760cfa6
STATUS:CONFIRMED
LAST-MODIFIED:20220522T133840Z
DESCRIPTION:Sachsenliga männliche Jugend C\nBegegnungs-Nr: 20064\nHeim: SG Pirna/Heidenau\nGast: HSG Rottluff/Lok Chemnitz\nHalle: SH Pestalozzi-Gymnasium Heidenau (33306)\nAdresse: Hauptstraße 37\, 01809 Heidenau\n
LOCATION:SH Pestalozzi-Gymnasium Heidenau (33306): Hauptstraße 37\, 01809 Heidenau
CATEGORIES:Saison 2021/22
END:VEVENT
BEGIN:VEVENT
DTSTAMP:20260423T194848Z
DTSTART;TZID=Europe/Berlin:20211009T130000
DTEND;TZID=Europe/Berlin:20211009T140000
SUMMARY:Sachsenliga mJC SG Pirna/Heidenau vs HSV Dresden (20006)
UID:34e04a46-5e1a-44b4-bf9a-c92e7c51114f
STATUS:CONFIRMED
LAST-MODIFIED:20211025T150719Z
DESCRIPTION:Sachsenliga männliche Jugend C\nBegegnungs-Nr: 20006\nHeim: SG Pirna/Heidenau\nGast: HSV Dresden\nHalle: SH Pestalozzi-Gymnasium Heidenau (33306)\nAdresse: Hauptstraße 37\, 01809 Heidenau\n
LOCATION:SH Pestalozzi-Gymnasium Heidenau (33306): Hauptstraße 37\, 01809 Heidenau
CATEGORIES:Saison 2021/22
END:VEVENT
BEGIN:VEVENT
DTSTAMP:20260423T194848Z
DTSTART;TZID=Europe/Berlin:20220305T150000
DTEND;TZID=Europe/Berlin:20220305T160000
SUMMARY:Sachsenliga mJC SG Pirna/Heidenau vs NSG RIMENI (20025)
UID:0c0ba024-82f7-4880-97a1-44e1d4dd15f7
STATUS:CONFIRMED
LAST-MODIFIED:20220323T174738Z
DESCRIPTION:Sachsenliga männliche Jugend C\nBegegnungs-Nr: 20025\nHeim: SG Pirna/Heidenau\nGast: NSG RIMENI\nHalle: SH Pirna-Sonnenstein (33302)\nAdresse: Struppener Str. 9\, 01796 Pirna\n
LOCATION:SH Pirna-Sonnenstein (33302): Struppener Str. 9\, 01796 Pirna
CATEGORIES:Saison 2021/22
END:VEVENT
BEGIN:VEVENT
DTSTAMP:20260423T194848Z
DTSTART;TZID=Europe/Berlin:20211106T133000
DTEND;TZID=Europe/Berlin:20211106T143000
SUMMARY:Sachsenliga mJC NSG EHV/NH Aue vs SG Pirna/Heidenau (20010)
UID:cbcf11f9-9ba7-4859-b60a-b480fcc23e52
STATUS:CONFIRMED
LAST-MODIFIED:20211107T173843Z
DESCRIPTION:Sachsenliga männliche Jugend C\nBegegnungs-Nr: 20010\nHeim: NSG EHV/NH Aue\nGast: SG Pirna/Heidenau\nHalle: SH Zeller Berg Aue  (32304)\nAdresse: Agricolastr. 5\, 08280 Aue\n
LOCATION:SH Zeller Berg Aue  (32304): Agricolastr. 5\, 08280 Aue
CATEGORIES:Saison 2021/22
END:VEVENT
BEGIN:VEVENT
DTSTAMP:20260423T194848Z
DTSTART;TZID=Europe/Berlin:20220515T123000
DTEND;TZID=Europe/Berlin:20220515T133000
SUMMARY:Sachsenliga mJC SC DHfK Leipzig vs SG Pirna/Heidenau (20026)
UID:dca09c05-40c9-4f6b-a1a9-ff1583100175
STATUS:CONFIRMED
LAST-MODIFIED:20220522T133740Z
DESCRIPTION:Sachsenliga männliche Jugend C\nBegegnungs-Nr: 20026\nHeim: SC DHfK Leipzig\nGast: SG Pirna/Heidenau\nHalle: Kleine ARENA Leipzig (31117)\nAdresse: Am Sportforum 1\, 04105 Leipzig\n
LOCATION:Kleine ARENA Leipzig (31117): Am Sportforum 1\, 04105 Leipzig
CATEGORIES:Saison 2021/22
END:VEVENT
BEGIN:VEVENT
DTSTAMP:20260423T194848Z
DTSTART;TZID=Europe/Berlin:20220403T160000
DTEND;TZID=Europe/Berlin:20220403T170000
SUMMARY:Sachsenliga mJC SG LVB vs SG Pirna/Heidenau (20043)
UID:17bb04a1-4f83-4f8c-a0f1-253d921e9bd7
STATUS:CONFIRMED
LAST-MODIFIED:20220522T132806Z
DESCRIPTION:Sachsenliga männliche Jugend C\nBegegnungs-Nr: 20043\nHeim: SG LVB\nGast: SG Pirna/Heidenau\nHalle: SH am Grünen Gleis (31134)\nAdresse: Baumannstraße 13\, 04229 Leipzig\n
LOCATION:SH am Grünen Gleis (31134): Baumannstraße 13\, 04229 Leipzig
CATEGORIES:Saison 2021/22
END:VEVENT
BEGIN:VEVENT
DTSTAMP:20260423T194848Z
DTSTART;TZID=Europe/Berlin:20220409T103000
DTEND;TZID=Europe/Berlin:20220409T113000
SUMMARY:Sachsenliga mJC HC Elbflorenz 2006 vs SG Pirna/Heidenau (20049)
UID:1a707e98-d327-431b-86df-c076321caf00
STATUS:CONFIRMED
LAST-MODIFIED:20220522T132823Z
DESCRIPTION:Sachsenliga männliche Jugend C\nBegegnungs-Nr: 20049\nHeim: HC Elbflorenz 2006\nGast: SG Pirna/Heidenau\nHalle: BallsportARENA Dresden (33133)\nAdresse: Weißeritzstraße 4\, 01067 Dresden\n
LOCATION:BallsportARENA Dresden (33133): Weißeritzstraße 4\, 01067 Dresden
CATEGORIES:Saison 2021/22
END:VEVENT
BEGIN:VEVENT
DTSTAMP:20260423T194848Z
DTSTART;TZID=Europe/Berlin:20211016T140000
DTEND;TZID=Europe/Berlin:20211016T150000
SUMMARY:Sachsenliga mJC Koweg Görlitz vs SG Pirna/Heidenau (20002)
UID:b061bac9-b531-4e16-a472-ea22c2599e1f
STATUS:CONFIRMED
LAST-MODIFIED:20211025T151443Z
DESCRIPTION:Sachsenliga männliche Jugend C\nBegegnungs-Nr: 20002\nHeim: Koweg Görlitz\nGast: SG Pirna/Heidenau\nHalle: SH Rauschwalde (34301)\nAdresse: Diesterwegplatz 8\, 02827 Görlitz\n
LOCATION:SH Rauschwalde (34301): Diesterwegplatz 8\, 02827 Görlitz
CATEGORIES:Saison 2021/22
END:VEVENT
END:VCALENDAR
