BEGIN:VCALENDAR
PRODID:-//nuDatenautomaten//framework iCal4j //DE
VERSION:2.0
CALSCALE:GREGORIAN
BEGIN:VTIMEZONE
TZID:Europe/Berlin
LAST-MODIFIED:20260306T231828Z
TZURL:https://www.tzurl.org/zoneinfo/Europe/Berlin
X-LIC-LOCATION:Europe/Berlin
X-PROLEPTIC-TZNAME:LMT
BEGIN:STANDARD
TZNAME:CET
TZOFFSETFROM:+005328
TZOFFSETTO:+0100
DTSTART:18930401T000000
END:STANDARD
BEGIN:DAYLIGHT
TZNAME:CEST
TZOFFSETFROM:+0100
TZOFFSETTO:+0200
DTSTART:19160430T230000
RDATE:19400401T020000
RDATE:19430329T020000
RDATE:19460414T020000
RDATE:19470406T030000
RDATE:19480418T020000
RDATE:19490410T020000
RDATE:19800406T020000
END:DAYLIGHT
BEGIN:STANDARD
TZNAME:CET
TZOFFSETFROM:+0200
TZOFFSETTO:+0100
DTSTART:19161001T010000
RDATE:19421102T030000
RDATE:19431004T030000
RDATE:19441002T030000
RDATE:19451118T030000
RDATE:19461007T030000
END:STANDARD
BEGIN:DAYLIGHT
TZNAME:CEST
TZOFFSETFROM:+0100
TZOFFSETTO:+0200
DTSTART:19170416T020000
RRULE:FREQ=YEARLY;UNTIL=19180415T010000Z;BYMONTH=4;BYDAY=3MO
END:DAYLIGHT
BEGIN:STANDARD
TZNAME:CET
TZOFFSETFROM:+0200
TZOFFSETTO:+0100
DTSTART:19170917T030000
RRULE:FREQ=YEARLY;UNTIL=19180916T010000Z;BYMONTH=9;BYDAY=3MO
END:STANDARD
BEGIN:DAYLIGHT
TZNAME:CEST
TZOFFSETFROM:+0100
TZOFFSETTO:+0200
DTSTART:19440403T020000
RRULE:FREQ=YEARLY;UNTIL=19450402T010000Z;BYMONTH=4;BYDAY=1MO
END:DAYLIGHT
BEGIN:DAYLIGHT
TZNAME:CEMT
TZOFFSETFROM:+0200
TZOFFSETTO:+0300
DTSTART:19450524T020000
RDATE:19470511T030000
END:DAYLIGHT
BEGIN:DAYLIGHT
TZNAME:CEST
TZOFFSETFROM:+0300
TZOFFSETTO:+0200
DTSTART:19450924T030000
RDATE:19470629T030000
END:DAYLIGHT
BEGIN:STANDARD
TZNAME:CET
TZOFFSETFROM:+0100
TZOFFSETTO:+0100
DTSTART:19460101T000000
RDATE:19800101T000000
END:STANDARD
BEGIN:STANDARD
TZNAME:CET
TZOFFSETFROM:+0200
TZOFFSETTO:+0100
DTSTART:19471005T030000
RRULE:FREQ=YEARLY;UNTIL=19491002T010000Z;BYMONTH=10;BYDAY=1SU
END:STANDARD
BEGIN:STANDARD
TZNAME:CET
TZOFFSETFROM:+0200
TZOFFSETTO:+0100
DTSTART:19800928T030000
RRULE:FREQ=YEARLY;UNTIL=19950924T010000Z;BYMONTH=9;BYDAY=-1SU
END:STANDARD
BEGIN:DAYLIGHT
TZNAME:CEST
TZOFFSETFROM:+0100
TZOFFSETTO:+0200
DTSTART:19810329T020000
RRULE:FREQ=YEARLY;BYMONTH=3;BYDAY=-1SU
END:DAYLIGHT
BEGIN:STANDARD
TZNAME:CET
TZOFFSETFROM:+0200
TZOFFSETTO:+0100
DTSTART:19961027T030000
RRULE:FREQ=YEARLY;BYMONTH=10;BYDAY=-1SU
END:STANDARD
END:VTIMEZONE
BEGIN:VEVENT
DTSTAMP:20260425T030040Z
DTSTART;TZID=Europe/Berlin:20211009T110000
DTEND;TZID=Europe/Berlin:20211009T120000
SUMMARY:KlmJC SG Ruppendorf vs Motor Wilsdruff  (6003)
UID:84f98fa8-c47f-41ce-8d60-4b9e58ae77cd
STATUS:CONFIRMED
LAST-MODIFIED:20211010T102022Z
DESCRIPTION:KreisLiga DD mJC\nBegegnungs-Nr: 6003\nHeim: SG Ruppendorf\nGast: Motor Wilsdruff \nHalle: SH Glashütte (33225)\nAdresse: Prießnitztal 32\, 01768 Glashütte\n
LOCATION:SH Glashütte (33225): Prießnitztal 32\, 01768 Glashütte
CATEGORIES:Saison 2021/22
END:VEVENT
BEGIN:VEVENT
DTSTAMP:20260425T030040Z
DTSTART;TZID=Europe/Berlin:20220423T140000
DTEND;TZID=Europe/Berlin:20220423T150000
SUMMARY:KlmJC SG Ruppendorf vs SG Pirna/Heidenau II (6009)
UID:98706bad-52e7-4aad-be22-6465140591ec
STATUS:CONFIRMED
LAST-MODIFIED:20220424T084221Z
DESCRIPTION:KreisLiga DD mJC\nBegegnungs-Nr: 6009\nHeim: SG Ruppendorf\nGast: SG Pirna/Heidenau II\nHalle: SH Glashütte (33225)\nAdresse: Prießnitztal 32\, 01768 Glashütte\n
LOCATION:SH Glashütte (33225): Prießnitztal 32\, 01768 Glashütte
CATEGORIES:Saison 2021/22
END:VEVENT
BEGIN:VEVENT
DTSTAMP:20260425T030040Z
DTSTART;TZID=Europe/Berlin:20220402T110000
DTEND;TZID=Europe/Berlin:20220402T120000
SUMMARY:KlmJC SG Klotzsche vs SG Ruppendorf (6034)
UID:b9fab194-bd4e-454a-99a0-5f963c9278d6
STATUS:CONFIRMED
LAST-MODIFIED:20220403T210443Z
DESCRIPTION:KreisLiga DD mJC\nBegegnungs-Nr: 6034\nHeim: SG Klotzsche\nGast: SG Ruppendorf\nHalle: SH Gymnasium Klotzsche (33126)\nAdresse: Karl-Marx-Straße 44\, 01109 Dresden\n
LOCATION:SH Gymnasium Klotzsche (33126): Karl-Marx-Straße 44\, 01109 Dresden
CATEGORIES:Saison 2021/22
END:VEVENT
BEGIN:VEVENT
DTSTAMP:20260425T030040Z
DTSTART;TZID=Europe/Berlin:20220508T090000
DTEND;TZID=Europe/Berlin:20220508T100000
SUMMARY:KlmJC Kurort Hartha vs SG Ruppendorf (6007)
UID:27de223c-384c-4591-9dc1-83817bc07e7d
STATUS:CONFIRMED
LAST-MODIFIED:20220509T160343Z
DESCRIPTION:KreisLiga DD mJC\nBegegnungs-Nr: 6007\nHeim: Kurort Hartha\nGast: SG Ruppendorf\nHalle: Saubach-SH Wilsdruff (33208)\nAdresse: Nossener Str. 21b\, 01723 Wilsdruff\n
LOCATION:Saubach-SH Wilsdruff (33208): Nossener Str. 21b\, 01723 Wilsdruff
CATEGORIES:Saison 2021/22
END:VEVENT
BEGIN:VEVENT
DTSTAMP:20260425T030040Z
DTSTART;TZID=Europe/Berlin:20220430T100100
DTEND;TZID=Europe/Berlin:20220430T110100
SUMMARY:KlmJC SG Weixdorf vs SG Ruppendorf (6038)
UID:810f6529-41ed-47bc-9f98-933b68678811
STATUS:CONFIRMED
LAST-MODIFIED:20220430T202647Z
DESCRIPTION:KreisLiga DD mJC\nBegegnungs-Nr: 6038\nHeim: SG Weixdorf\nGast: SG Ruppendorf\nHalle: Gerhard-Grafe-SH Weixdorf (33116)\nAdresse: Weixdorfer Rathausplatz 2a\, 01108 Dresden\n
LOCATION:Gerhard-Grafe-SH Weixdorf (33116): Weixdorfer Rathausplatz 2a\, 01108 Dresden
CATEGORIES:Saison 2021/22
END:VEVENT
BEGIN:VEVENT
DTSTAMP:20260425T030040Z
DTSTART;TZID=Europe/Berlin:20210925T093000
DTEND;TZID=Europe/Berlin:20210925T103000
SUMMARY:KlmJC Motor Dippoldiswalde vs SG Ruppendorf (6000)
UID:6f77c1d8-9a82-462a-ad52-2f1cfec1e73f
STATUS:CONFIRMED
LAST-MODIFIED:20210925T194816Z
DESCRIPTION:KreisLiga DD mJC\nBegegnungs-Nr: 6000\nHeim: Motor Dippoldiswalde\nGast: SG Ruppendorf\nHalle: Sportpark Dippoldiswalde (33229)\nAdresse: Nikolai-Ostrowski-Straße 2\, 01744 Dippoldiswalde\n
LOCATION:Sportpark Dippoldiswalde (33229): Nikolai-Ostrowski-Straße 2\, 01744 Dippoldiswalde
CATEGORIES:Saison 2021/22
END:VEVENT
END:VCALENDAR
