BEGIN:VCALENDAR
PRODID:-//nuDatenautomaten//framework iCal4j //DE
VERSION:2.0
CALSCALE:GREGORIAN
BEGIN:VTIMEZONE
TZID:Europe/Berlin
LAST-MODIFIED:20260306T231828Z
TZURL:https://www.tzurl.org/zoneinfo/Europe/Berlin
X-LIC-LOCATION:Europe/Berlin
X-PROLEPTIC-TZNAME:LMT
BEGIN:STANDARD
TZNAME:CET
TZOFFSETFROM:+005328
TZOFFSETTO:+0100
DTSTART:18930401T000000
END:STANDARD
BEGIN:DAYLIGHT
TZNAME:CEST
TZOFFSETFROM:+0100
TZOFFSETTO:+0200
DTSTART:19160430T230000
RDATE:19400401T020000
RDATE:19430329T020000
RDATE:19460414T020000
RDATE:19470406T030000
RDATE:19480418T020000
RDATE:19490410T020000
RDATE:19800406T020000
END:DAYLIGHT
BEGIN:STANDARD
TZNAME:CET
TZOFFSETFROM:+0200
TZOFFSETTO:+0100
DTSTART:19161001T010000
RDATE:19421102T030000
RDATE:19431004T030000
RDATE:19441002T030000
RDATE:19451118T030000
RDATE:19461007T030000
END:STANDARD
BEGIN:DAYLIGHT
TZNAME:CEST
TZOFFSETFROM:+0100
TZOFFSETTO:+0200
DTSTART:19170416T020000
RRULE:FREQ=YEARLY;UNTIL=19180415T010000Z;BYMONTH=4;BYDAY=3MO
END:DAYLIGHT
BEGIN:STANDARD
TZNAME:CET
TZOFFSETFROM:+0200
TZOFFSETTO:+0100
DTSTART:19170917T030000
RRULE:FREQ=YEARLY;UNTIL=19180916T010000Z;BYMONTH=9;BYDAY=3MO
END:STANDARD
BEGIN:DAYLIGHT
TZNAME:CEST
TZOFFSETFROM:+0100
TZOFFSETTO:+0200
DTSTART:19440403T020000
RRULE:FREQ=YEARLY;UNTIL=19450402T010000Z;BYMONTH=4;BYDAY=1MO
END:DAYLIGHT
BEGIN:DAYLIGHT
TZNAME:CEMT
TZOFFSETFROM:+0200
TZOFFSETTO:+0300
DTSTART:19450524T020000
RDATE:19470511T030000
END:DAYLIGHT
BEGIN:DAYLIGHT
TZNAME:CEST
TZOFFSETFROM:+0300
TZOFFSETTO:+0200
DTSTART:19450924T030000
RDATE:19470629T030000
END:DAYLIGHT
BEGIN:STANDARD
TZNAME:CET
TZOFFSETFROM:+0100
TZOFFSETTO:+0100
DTSTART:19460101T000000
RDATE:19800101T000000
END:STANDARD
BEGIN:STANDARD
TZNAME:CET
TZOFFSETFROM:+0200
TZOFFSETTO:+0100
DTSTART:19471005T030000
RRULE:FREQ=YEARLY;UNTIL=19491002T010000Z;BYMONTH=10;BYDAY=1SU
END:STANDARD
BEGIN:STANDARD
TZNAME:CET
TZOFFSETFROM:+0200
TZOFFSETTO:+0100
DTSTART:19800928T030000
RRULE:FREQ=YEARLY;UNTIL=19950924T010000Z;BYMONTH=9;BYDAY=-1SU
END:STANDARD
BEGIN:DAYLIGHT
TZNAME:CEST
TZOFFSETFROM:+0100
TZOFFSETTO:+0200
DTSTART:19810329T020000
RRULE:FREQ=YEARLY;BYMONTH=3;BYDAY=-1SU
END:DAYLIGHT
BEGIN:STANDARD
TZNAME:CET
TZOFFSETFROM:+0200
TZOFFSETTO:+0100
DTSTART:19961027T030000
RRULE:FREQ=YEARLY;BYMONTH=10;BYDAY=-1SU
END:STANDARD
END:VTIMEZONE
BEGIN:VEVENT
DTSTAMP:20260425T200255Z
DTSTART;TZID=Europe/Berlin:20211016T161500
DTEND;TZID=Europe/Berlin:20211016T174500
SUMMARY:BLF SSV Heidenau  II vs HSV Weinböhla II (2015)
UID:cd666fa9-5097-464d-9524-b5226e9f6bda
STATUS:CONFIRMED
LAST-MODIFIED:20211017T092940Z
DESCRIPTION:BezLiga SM Frauen\nBegegnungs-Nr: 2015\nHeim: SSV Heidenau  II\nGast: HSV Weinböhla II\nHalle: SH Pestalozzi-Gymnasium Heidenau (33306)\nAdresse: Hauptstraße 37\, 01809 Heidenau\n
LOCATION:SH Pestalozzi-Gymnasium Heidenau (33306): Hauptstraße 37\, 01809 Heidenau
CATEGORIES:Saison 2021/22
END:VEVENT
BEGIN:VEVENT
DTSTAMP:20260425T200255Z
DTSTART;TZID=Europe/Berlin:20211002T131500
DTEND;TZID=Europe/Berlin:20211002T144500
SUMMARY:BLF SSV Heidenau  II vs USV TU Dresden II (2007)
UID:b8192409-d82c-443a-b33a-0732a712fef9
STATUS:CONFIRMED
LAST-MODIFIED:20211003T063935Z
DESCRIPTION:BezLiga SM Frauen\nBegegnungs-Nr: 2007\nHeim: SSV Heidenau  II\nGast: USV TU Dresden II\nHalle: SH Pestalozzi-Gymnasium Heidenau (33306)\nAdresse: Hauptstraße 37\, 01809 Heidenau\n
LOCATION:SH Pestalozzi-Gymnasium Heidenau (33306): Hauptstraße 37\, 01809 Heidenau
CATEGORIES:Saison 2021/22
END:VEVENT
BEGIN:VEVENT
DTSTAMP:20260425T200255Z
DTSTART;TZID=Europe/Berlin:20220507T141500
DTEND;TZID=Europe/Berlin:20220507T154500
SUMMARY:BLF SSV Heidenau  II vs SG Klotzsche II (2084)
UID:36060781-a104-44f2-a727-1afa12fce51d
STATUS:CONFIRMED
LAST-MODIFIED:20220503T091737Z
DESCRIPTION:BezLiga SM Frauen\nBegegnungs-Nr: 2084\nHeim: SSV Heidenau  II\nGast: SG Klotzsche II\nHalle: SH Pestalozzi-Gymnasium Heidenau (33306)\nAdresse: Hauptstraße 37\, 01809 Heidenau\n
LOCATION:SH Pestalozzi-Gymnasium Heidenau (33306): Hauptstraße 37\, 01809 Heidenau
CATEGORIES:Saison 2021/22
END:VEVENT
BEGIN:VEVENT
DTSTAMP:20260425T200255Z
DTSTART;TZID=Europe/Berlin:20220409T140000
DTEND;TZID=Europe/Berlin:20220409T153000
SUMMARY:BLF SSV Heidenau  II vs Radebeuler HV (2077)
UID:629e1832-c4dd-4481-85cf-a31f12dc8161
STATUS:CONFIRMED
LAST-MODIFIED:20220409T164543Z
DESCRIPTION:BezLiga SM Frauen\nBegegnungs-Nr: 2077\nHeim: SSV Heidenau  II\nGast: Radebeuler HV\nHalle: SH Pestalozzi-Gymnasium Heidenau (33306)\nAdresse: Hauptstraße 37\, 01809 Heidenau\n
LOCATION:SH Pestalozzi-Gymnasium Heidenau (33306): Hauptstraße 37\, 01809 Heidenau
CATEGORIES:Saison 2021/22
END:VEVENT
BEGIN:VEVENT
DTSTAMP:20260425T200255Z
DTSTART;TZID=Europe/Berlin:20220402T141500
DTEND;TZID=Europe/Berlin:20220402T154500
SUMMARY:BLF SSV Heidenau  II vs HSG Weißeritztal (2070)
UID:b3a1c271-7e8c-4520-939d-54b5fb092092
STATUS:CONFIRMED
LAST-MODIFIED:20220402T162539Z
DESCRIPTION:BezLiga SM Frauen\nBegegnungs-Nr: 2070\nHeim: SSV Heidenau  II\nGast: HSG Weißeritztal\nHalle: SH Pestalozzi-Gymnasium Heidenau (33306)\nAdresse: Hauptstraße 37\, 01809 Heidenau\n
LOCATION:SH Pestalozzi-Gymnasium Heidenau (33306): Hauptstraße 37\, 01809 Heidenau
CATEGORIES:Saison 2021/22
END:VEVENT
BEGIN:VEVENT
DTSTAMP:20260425T200255Z
DTSTART;TZID=Europe/Berlin:20210926T140000
DTEND;TZID=Europe/Berlin:20210926T153000
SUMMARY:BLF SF 01 Dresden II vs SSV Heidenau  II (2002)
UID:0241cfbf-fd2b-42f1-801d-578abcf19f61
STATUS:CONFIRMED
LAST-MODIFIED:20210927T060310Z
DESCRIPTION:BezLiga SM Frauen\nBegegnungs-Nr: 2002\nHeim: SF 01 Dresden II\nGast: SSV Heidenau  II\nHalle: SH Hülße-Gymnasium Dresden (33120)\nAdresse: Hülßestraße 16\, 01237 Dresden\n
LOCATION:SH Hülße-Gymnasium Dresden (33120): Hülßestraße 16\, 01237 Dresden
CATEGORIES:Saison 2021/22
END:VEVENT
BEGIN:VEVENT
DTSTAMP:20260425T200255Z
DTSTART;TZID=Europe/Berlin:20220515T120000
DTEND;TZID=Europe/Berlin:20220515T133000
SUMMARY:BLF SHV Oschatz vs SSV Heidenau  II (2087)
UID:20137fb8-a41f-4c1c-b999-8dc4457a13d0
STATUS:CONFIRMED
LAST-MODIFIED:20220510T132133Z
DESCRIPTION:BezLiga SM Frauen\nBegegnungs-Nr: 2087\nHeim: SHV Oschatz\nGast: SSV Heidenau  II\nHalle: Rosental-SH Oschatz (31604)\nAdresse: Berufsschulstraße 8\, 04758 Oschatz\n
LOCATION:Rosental-SH Oschatz (31604): Berufsschulstraße 8\, 04758 Oschatz
CATEGORIES:Saison 2021/22
END:VEVENT
BEGIN:VEVENT
DTSTAMP:20260425T200255Z
DTSTART;TZID=Europe/Berlin:20220430T170000
DTEND;TZID=Europe/Berlin:20220430T183000
SUMMARY:BLF SG Meißen/Riesa III vs SSV Heidenau  II (2078)
UID:5e71197e-74c8-4ea1-81c4-8d26e928a442
STATUS:CONFIRMED
LAST-MODIFIED:20220430T175630Z
DESCRIPTION:BezLiga SM Frauen\nBegegnungs-Nr: 2078\nHeim: SG Meißen/Riesa III\nGast: SSV Heidenau  II\nHalle: SH \"Heiliger Grund\" Meißen (33212)\nAdresse: Goethestraße 27\, 01662 Meißen\n
LOCATION:SH \"Heiliger Grund\" Meißen (33212): Goethestraße 27\, 01662 Meißen
CATEGORIES:Saison 2021/22
END:VEVENT
END:VCALENDAR
