BEGIN:VCALENDAR
PRODID:-//nuDatenautomaten//framework iCal4j //DE
VERSION:2.0
CALSCALE:GREGORIAN
BEGIN:VTIMEZONE
TZID:Europe/Berlin
LAST-MODIFIED:20260306T231828Z
TZURL:https://www.tzurl.org/zoneinfo/Europe/Berlin
X-LIC-LOCATION:Europe/Berlin
X-PROLEPTIC-TZNAME:LMT
BEGIN:STANDARD
TZNAME:CET
TZOFFSETFROM:+005328
TZOFFSETTO:+0100
DTSTART:18930401T000000
END:STANDARD
BEGIN:DAYLIGHT
TZNAME:CEST
TZOFFSETFROM:+0100
TZOFFSETTO:+0200
DTSTART:19160430T230000
RDATE:19400401T020000
RDATE:19430329T020000
RDATE:19460414T020000
RDATE:19470406T030000
RDATE:19480418T020000
RDATE:19490410T020000
RDATE:19800406T020000
END:DAYLIGHT
BEGIN:STANDARD
TZNAME:CET
TZOFFSETFROM:+0200
TZOFFSETTO:+0100
DTSTART:19161001T010000
RDATE:19421102T030000
RDATE:19431004T030000
RDATE:19441002T030000
RDATE:19451118T030000
RDATE:19461007T030000
END:STANDARD
BEGIN:DAYLIGHT
TZNAME:CEST
TZOFFSETFROM:+0100
TZOFFSETTO:+0200
DTSTART:19170416T020000
RRULE:FREQ=YEARLY;UNTIL=19180415T010000Z;BYMONTH=4;BYDAY=3MO
END:DAYLIGHT
BEGIN:STANDARD
TZNAME:CET
TZOFFSETFROM:+0200
TZOFFSETTO:+0100
DTSTART:19170917T030000
RRULE:FREQ=YEARLY;UNTIL=19180916T010000Z;BYMONTH=9;BYDAY=3MO
END:STANDARD
BEGIN:DAYLIGHT
TZNAME:CEST
TZOFFSETFROM:+0100
TZOFFSETTO:+0200
DTSTART:19440403T020000
RRULE:FREQ=YEARLY;UNTIL=19450402T010000Z;BYMONTH=4;BYDAY=1MO
END:DAYLIGHT
BEGIN:DAYLIGHT
TZNAME:CEMT
TZOFFSETFROM:+0200
TZOFFSETTO:+0300
DTSTART:19450524T020000
RDATE:19470511T030000
END:DAYLIGHT
BEGIN:DAYLIGHT
TZNAME:CEST
TZOFFSETFROM:+0300
TZOFFSETTO:+0200
DTSTART:19450924T030000
RDATE:19470629T030000
END:DAYLIGHT
BEGIN:STANDARD
TZNAME:CET
TZOFFSETFROM:+0100
TZOFFSETTO:+0100
DTSTART:19460101T000000
RDATE:19800101T000000
END:STANDARD
BEGIN:STANDARD
TZNAME:CET
TZOFFSETFROM:+0200
TZOFFSETTO:+0100
DTSTART:19471005T030000
RRULE:FREQ=YEARLY;UNTIL=19491002T010000Z;BYMONTH=10;BYDAY=1SU
END:STANDARD
BEGIN:STANDARD
TZNAME:CET
TZOFFSETFROM:+0200
TZOFFSETTO:+0100
DTSTART:19800928T030000
RRULE:FREQ=YEARLY;UNTIL=19950924T010000Z;BYMONTH=9;BYDAY=-1SU
END:STANDARD
BEGIN:DAYLIGHT
TZNAME:CEST
TZOFFSETFROM:+0100
TZOFFSETTO:+0200
DTSTART:19810329T020000
RRULE:FREQ=YEARLY;BYMONTH=3;BYDAY=-1SU
END:DAYLIGHT
BEGIN:STANDARD
TZNAME:CET
TZOFFSETFROM:+0200
TZOFFSETTO:+0100
DTSTART:19961027T030000
RRULE:FREQ=YEARLY;BYMONTH=10;BYDAY=-1SU
END:STANDARD
END:VTIMEZONE
BEGIN:VEVENT
DTSTAMP:20260422T022446Z
DTSTART;TZID=Europe/Berlin:20211003T110000
DTEND;TZID=Europe/Berlin:20211003T120000
SUMMARY:KlwJD E/R - T02 - SG Klotzsche SG Klotzsche vs TSV 1862 Radeburg (3)
UID:4db49a76-c825-4d82-bb13-f35f8ce2be81
STATUS:CONFIRMED
LAST-MODIFIED:20211007T180434Z
DESCRIPTION:KreisLiga wJD E/R - T02 - SG Kotzsche\nBegegnungs-Nr: 3\nHeim: SG Klotzsche\nGast: TSV 1862 Radeburg\nHalle: SH Gymnasium Klotzsche (33126)\nAdresse: Karl-Marx-Straße 44\, 01109 Dresden\n
LOCATION:SH Gymnasium Klotzsche (33126): Karl-Marx-Straße 44\, 01109 Dresden
CATEGORIES:Saison 2021/22
END:VEVENT
BEGIN:VEVENT
DTSTAMP:20260422T022446Z
DTSTART;TZID=Europe/Berlin:20220507T104500
DTEND;TZID=Europe/Berlin:20220507T114500
SUMMARY:KlwJD E/R - T12 - Radebeuler HV SG Klotzsche vs HSV Weinböhla (2)
UID:70104d7d-b3c7-4a6f-8095-67e9463aa175
STATUS:CONFIRMED
DESCRIPTION:KreisLiga wJD E/R - T12 - Radebeuler HV\nBegegnungs-Nr: 2\nHeim: SG Klotzsche\nGast: HSV Weinböhla\nHalle: Elb-SH Radebeul West (33203)\nAdresse: An der Festwiese 1\, 01445 Radebeul\n
LOCATION:Elb-SH Radebeul West (33203): An der Festwiese 1\, 01445 Radebeul
CATEGORIES:Saison 2021/22
END:VEVENT
BEGIN:VEVENT
DTSTAMP:20260422T022446Z
DTSTART;TZID=Europe/Berlin:20220403T123000
DTEND;TZID=Europe/Berlin:20220403T133000
SUMMARY:KlwJD E/R - T11 - SG Klotzsche SG Klotzsche vs NSG Dresden NordWest (1)
UID:e8543fe9-e422-4eb7-b891-8c0a81b54857
STATUS:CONFIRMED
LAST-MODIFIED:20220404T184702Z
DESCRIPTION:KreisLiga wJD E/R - T11 - SG Klotzsche\nBegegnungs-Nr: 1\nHeim: SG Klotzsche\nGast: NSG Dresden NordWest\nHalle: SH Gymnasium Klotzsche (33126)\nAdresse: Karl-Marx-Straße 44\, 01109 Dresden\n
LOCATION:SH Gymnasium Klotzsche (33126): Karl-Marx-Straße 44\, 01109 Dresden
CATEGORIES:Saison 2021/22
END:VEVENT
BEGIN:VEVENT
DTSTAMP:20260422T022446Z
DTSTART;TZID=Europe/Berlin:20211003T110000
DTEND;TZID=Europe/Berlin:20211003T120000
SUMMARY:KlwJD E/R -Teilnehmer SG Klotzsche vs TSV 1862 Radeburg (203)
UID:65d442d9-7402-4def-b7a1-f7866fc2beef
STATUS:CONFIRMED
LAST-MODIFIED:20211007T181131Z
DESCRIPTION:KreisLiga wJD E/R -Teilnehmer\nBegegnungs-Nr: 203\nHeim: SG Klotzsche\nGast: TSV 1862 Radeburg\nHalle: SH Gymnasium Klotzsche (33126)\nAdresse: Karl-Marx-Straße 44\, 01109 Dresden\n
LOCATION:SH Gymnasium Klotzsche (33126): Karl-Marx-Straße 44\, 01109 Dresden
CATEGORIES:Saison 2021/22
END:VEVENT
BEGIN:VEVENT
DTSTAMP:20260422T022446Z
DTSTART;TZID=Europe/Berlin:20220403T123000
DTEND;TZID=Europe/Berlin:20220403T133000
SUMMARY:KlwJD E/R -Teilnehmer SG Klotzsche vs NSG Dresden NordWest (1101)
UID:a6a0b717-6efb-42a4-88de-e768f542ac47
STATUS:CONFIRMED
LAST-MODIFIED:20220404T185701Z
DESCRIPTION:KreisLiga wJD E/R -Teilnehmer\nBegegnungs-Nr: 1101\nHeim: SG Klotzsche\nGast: NSG Dresden NordWest\nHalle: SH Gymnasium Klotzsche (33126)\nAdresse: Karl-Marx-Straße 44\, 01109 Dresden\n
LOCATION:SH Gymnasium Klotzsche (33126): Karl-Marx-Straße 44\, 01109 Dresden
CATEGORIES:Saison 2021/22
END:VEVENT
BEGIN:VEVENT
DTSTAMP:20260422T022446Z
DTSTART;TZID=Europe/Berlin:20220403T140000
DTEND;TZID=Europe/Berlin:20220403T150000
SUMMARY:KlwJD E/R -Teilnehmer SG Klotzsche vs Radebeuler HV II (1103)
UID:3c845482-5ebd-426b-957e-b9492e8d0155
STATUS:CONFIRMED
LAST-MODIFIED:20220404T185906Z
DESCRIPTION:KreisLiga wJD E/R -Teilnehmer\nBegegnungs-Nr: 1103\nHeim: SG Klotzsche\nGast: Radebeuler HV II\nHalle: SH Gymnasium Klotzsche (33126)\nAdresse: Karl-Marx-Straße 44\, 01109 Dresden\n
LOCATION:SH Gymnasium Klotzsche (33126): Karl-Marx-Straße 44\, 01109 Dresden
CATEGORIES:Saison 2021/22
END:VEVENT
BEGIN:VEVENT
DTSTAMP:20260422T022446Z
DTSTART;TZID=Europe/Berlin:20220507T114500
DTEND;TZID=Europe/Berlin:20220507T124500
SUMMARY:KlwJD E/R -Teilnehmer SG Klotzsche vs HSG Weißeritztal (1203)
UID:e5e8edca-891c-4d25-84aa-1a925f00cbfb
STATUS:CONFIRMED
LAST-MODIFIED:20220511T183415Z
DESCRIPTION:KreisLiga wJD E/R -Teilnehmer\nBegegnungs-Nr: 1203\nHeim: SG Klotzsche\nGast: HSG Weißeritztal\nHalle: Elb-SH Radebeul West (33203)\nAdresse: An der Festwiese 1\, 01445 Radebeul\n
LOCATION:Elb-SH Radebeul West (33203): An der Festwiese 1\, 01445 Radebeul
CATEGORIES:Saison 2021/22
END:VEVENT
BEGIN:VEVENT
DTSTAMP:20260422T022446Z
DTSTART;TZID=Europe/Berlin:20211003T090000
DTEND;TZID=Europe/Berlin:20211003T100000
SUMMARY:KlwJD E/R -Teilnehmer SG Klotzsche vs Medizin Bad Gottleuba (201)
UID:0b07b5ea-fd9c-4b26-b6ee-dee773998bdc
STATUS:CONFIRMED
LAST-MODIFIED:20211007T180951Z
DESCRIPTION:KreisLiga wJD E/R -Teilnehmer\nBegegnungs-Nr: 201\nHeim: SG Klotzsche\nGast: Medizin Bad Gottleuba\nHalle: SH Gymnasium Klotzsche (33126)\nAdresse: Karl-Marx-Straße 44\, 01109 Dresden\n
LOCATION:SH Gymnasium Klotzsche (33126): Karl-Marx-Straße 44\, 01109 Dresden
CATEGORIES:Saison 2021/22
END:VEVENT
BEGIN:VEVENT
DTSTAMP:20260422T022446Z
DTSTART;TZID=Europe/Berlin:20211003T090000
DTEND;TZID=Europe/Berlin:20211003T100000
SUMMARY:KlwJD E/R - T02 - SG Klotzsche SG Klotzsche vs Medizin Bad Gottleuba (1)
UID:d13fbd30-1f91-4f4d-867e-7b2304fded06
STATUS:CONFIRMED
LAST-MODIFIED:20211007T175521Z
DESCRIPTION:KreisLiga wJD E/R - T02 - SG Kotzsche\nBegegnungs-Nr: 1\nHeim: SG Klotzsche\nGast: Medizin Bad Gottleuba\nHalle: SH Gymnasium Klotzsche (33126)\nAdresse: Karl-Marx-Straße 44\, 01109 Dresden\n
LOCATION:SH Gymnasium Klotzsche (33126): Karl-Marx-Straße 44\, 01109 Dresden
CATEGORIES:Saison 2021/22
END:VEVENT
BEGIN:VEVENT
DTSTAMP:20260422T022446Z
DTSTART;TZID=Europe/Berlin:20220507T114500
DTEND;TZID=Europe/Berlin:20220507T124500
SUMMARY:KlwJD E/R - T12 - Radebeuler HV SG Klotzsche vs HSG Weißeritztal (3)
UID:bb62a383-ae76-413d-9976-8cba7b6d67ce
STATUS:CONFIRMED
DESCRIPTION:KreisLiga wJD E/R - T12 - Radebeuler HV\nBegegnungs-Nr: 3\nHeim: SG Klotzsche\nGast: HSG Weißeritztal\nHalle: Elb-SH Radebeul West (33203)\nAdresse: An der Festwiese 1\, 01445 Radebeul\n
LOCATION:Elb-SH Radebeul West (33203): An der Festwiese 1\, 01445 Radebeul
CATEGORIES:Saison 2021/22
END:VEVENT
BEGIN:VEVENT
DTSTAMP:20260422T022446Z
DTSTART;TZID=Europe/Berlin:20220507T104500
DTEND;TZID=Europe/Berlin:20220507T114500
SUMMARY:KlwJD E/R -Teilnehmer SG Klotzsche vs HSV Weinböhla (1202)
UID:8c075f8c-0c71-43ad-9a88-5ed64bbb26a2
STATUS:CONFIRMED
LAST-MODIFIED:20220511T183321Z
DESCRIPTION:KreisLiga wJD E/R -Teilnehmer\nBegegnungs-Nr: 1202\nHeim: SG Klotzsche\nGast: HSV Weinböhla\nHalle: Elb-SH Radebeul West (33203)\nAdresse: An der Festwiese 1\, 01445 Radebeul\n
LOCATION:Elb-SH Radebeul West (33203): An der Festwiese 1\, 01445 Radebeul
CATEGORIES:Saison 2021/22
END:VEVENT
BEGIN:VEVENT
DTSTAMP:20260422T022446Z
DTSTART;TZID=Europe/Berlin:20220403T140000
DTEND;TZID=Europe/Berlin:20220403T150000
SUMMARY:KlwJD E/R - T11 - SG Klotzsche SG Klotzsche vs Radebeuler HV II (3)
UID:40c2b85b-0863-4134-a129-9b28c0ab9003
STATUS:CONFIRMED
LAST-MODIFIED:20220404T185410Z
DESCRIPTION:KreisLiga wJD E/R - T11 - SG Klotzsche\nBegegnungs-Nr: 3\nHeim: SG Klotzsche\nGast: Radebeuler HV II\nHalle: SH Gymnasium Klotzsche (33126)\nAdresse: Karl-Marx-Straße 44\, 01109 Dresden\n
LOCATION:SH Gymnasium Klotzsche (33126): Karl-Marx-Straße 44\, 01109 Dresden
CATEGORIES:Saison 2021/22
END:VEVENT
BEGIN:VEVENT
DTSTAMP:20260422T022446Z
DTSTART;TZID=Europe/Berlin:20220515T100000
DTEND;TZID=Europe/Berlin:20220515T110000
SUMMARY:KlwJD E/R - T08 - TSV 1862 Radeburg TSV 1862 Radeburg vs SG Klotzsche (1)
UID:20553b8a-31e5-4a7e-8cad-28703a2abab5
STATUS:CONFIRMED
LAST-MODIFIED:20220515T175036Z
DESCRIPTION:KreisLiga wJD E/R - T08 - TSV 1862 Radeburg\nBegegnungs-Nr: 1\nHeim: TSV 1862 Radeburg\nGast: SG Klotzsche\nHalle: Paul-Tiedemann-SH Radeburg (33214)\nAdresse: Meißner Berg 83c\, 01471 Radeburg\n
LOCATION:Paul-Tiedemann-SH Radeburg (33214): Meißner Berg 83c\, 01471 Radeburg
CATEGORIES:Saison 2021/22
END:VEVENT
BEGIN:VEVENT
DTSTAMP:20260422T022446Z
DTSTART;TZID=Europe/Berlin:20220521T110000
DTEND;TZID=Europe/Berlin:20220521T120000
SUMMARY:KlwJD E/R -Teilnehmer HSV Weinböhla vs SG Klotzsche (502)
UID:4f03532e-f84f-41be-9ffd-4a0488c995a6
STATUS:CONFIRMED
LAST-MODIFIED:20220521T190842Z
DESCRIPTION:KreisLiga wJD E/R -Teilnehmer\nBegegnungs-Nr: 502\nHeim: HSV Weinböhla\nGast: SG Klotzsche\nHalle: Saubach-SH Wilsdruff (33208)\nAdresse: Nossener Str. 21b\, 01723 Wilsdruff\n
LOCATION:Saubach-SH Wilsdruff (33208): Nossener Str. 21b\, 01723 Wilsdruff
CATEGORIES:Saison 2021/22
END:VEVENT
BEGIN:VEVENT
DTSTAMP:20260422T022446Z
DTSTART;TZID=Europe/Berlin:20220306T130000
DTEND;TZID=Europe/Berlin:20220306T140000
SUMMARY:KlwJD E/R - T09 - NSG DD NordWest NSG Dresden NordWest vs SG Klotzsche (3)
UID:34f06faf-7467-4604-a607-978bdf8462c6
STATUS:CONFIRMED
LAST-MODIFIED:20220311T202908Z
DESCRIPTION:KreisLiga wJD E/R - T09 - NSG DD NordWest\nBegegnungs-Nr: 3\nHeim: NSG Dresden NordWest\nGast: SG Klotzsche\nHalle: Lok-SH Dresden (33106)\nAdresse: Emmerich-Ambros-Ufer 74\, 01159 Dresden\n
LOCATION:Lok-SH Dresden (33106): Emmerich-Ambros-Ufer 74\, 01159 Dresden
CATEGORIES:Saison 2021/22
END:VEVENT
BEGIN:VEVENT
DTSTAMP:20260422T022446Z
DTSTART;TZID=Europe/Berlin:20220515T110000
DTEND;TZID=Europe/Berlin:20220515T120000
SUMMARY:KlwJD E/R - T08 - TSV 1862 Radeburg Medizin Bad Gottleuba vs SG Klotzsche (2)
UID:68808e11-102a-4fdd-b88d-3198accd5f91
STATUS:CONFIRMED
LAST-MODIFIED:20220515T175738Z
DESCRIPTION:KreisLiga wJD E/R - T08 - TSV 1862 Radeburg\nBegegnungs-Nr: 2\nHeim: Medizin Bad Gottleuba\nGast: SG Klotzsche\nHalle: Paul-Tiedemann-SH Radeburg (33214)\nAdresse: Meißner Berg 83c\, 01471 Radeburg\n
LOCATION:Paul-Tiedemann-SH Radeburg (33214): Meißner Berg 83c\, 01471 Radeburg
CATEGORIES:Saison 2021/22
END:VEVENT
BEGIN:VEVENT
DTSTAMP:20260422T022446Z
DTSTART;TZID=Europe/Berlin:20220521T125000
DTEND;TZID=Europe/Berlin:20220521T135000
SUMMARY:KlwJD E/R - T05 - HSG Weißeritztal HSG Weißeritztal vs SG Klotzsche (4)
UID:f425de1d-2d50-44af-823d-141188709b9b
STATUS:CONFIRMED
LAST-MODIFIED:20220521T190116Z
DESCRIPTION:KreisLiga wJD E/R - T05 - HSG Weißeritztal\nBegegnungs-Nr: 4\nHeim: HSG Weißeritztal\nGast: SG Klotzsche\nHalle: Saubach-SH Wilsdruff (33208)\nAdresse: Nossener Str. 21b\, 01723 Wilsdruff\n
LOCATION:Saubach-SH Wilsdruff (33208): Nossener Str. 21b\, 01723 Wilsdruff
CATEGORIES:Saison 2021/22
END:VEVENT
BEGIN:VEVENT
DTSTAMP:20260422T022446Z
DTSTART;TZID=Europe/Berlin:20220521T110000
DTEND;TZID=Europe/Berlin:20220521T120000
SUMMARY:KlwJD E/R - T05 - HSG Weißeritztal HSV Weinböhla vs SG Klotzsche (2)
UID:377aceb6-ca35-44bc-8cc5-6b1d93b7dde5
STATUS:CONFIRMED
LAST-MODIFIED:20220521T185614Z
DESCRIPTION:KreisLiga wJD E/R - T05 - HSG Weißeritztal\nBegegnungs-Nr: 2\nHeim: HSV Weinböhla\nGast: SG Klotzsche\nHalle: Saubach-SH Wilsdruff (33208)\nAdresse: Nossener Str. 21b\, 01723 Wilsdruff\n
LOCATION:Saubach-SH Wilsdruff (33208): Nossener Str. 21b\, 01723 Wilsdruff
CATEGORIES:Saison 2021/22
END:VEVENT
BEGIN:VEVENT
DTSTAMP:20260422T022446Z
DTSTART;TZID=Europe/Berlin:20220521T125000
DTEND;TZID=Europe/Berlin:20220521T135000
SUMMARY:KlwJD E/R -Teilnehmer HSG Weißeritztal vs SG Klotzsche (504)
UID:3966d8af-2ca8-4a2f-87ed-38e8bacfd7de
STATUS:CONFIRMED
LAST-MODIFIED:20220521T191141Z
DESCRIPTION:KreisLiga wJD E/R -Teilnehmer\nBegegnungs-Nr: 504\nHeim: HSG Weißeritztal\nGast: SG Klotzsche\nHalle: Saubach-SH Wilsdruff (33208)\nAdresse: Nossener Str. 21b\, 01723 Wilsdruff\n
LOCATION:Saubach-SH Wilsdruff (33208): Nossener Str. 21b\, 01723 Wilsdruff
CATEGORIES:Saison 2021/22
END:VEVENT
BEGIN:VEVENT
DTSTAMP:20260422T022446Z
DTSTART;TZID=Europe/Berlin:20220515T100000
DTEND;TZID=Europe/Berlin:20220515T110000
SUMMARY:KlwJD E/R -Teilnehmer TSV 1862 Radeburg vs SG Klotzsche (801)
UID:f63cd2c4-e9c0-4752-9a66-4df0afef6233
STATUS:CONFIRMED
LAST-MODIFIED:20220515T180503Z
DESCRIPTION:KreisLiga wJD E/R -Teilnehmer\nBegegnungs-Nr: 801\nHeim: TSV 1862 Radeburg\nGast: SG Klotzsche\nHalle: Paul-Tiedemann-SH Radeburg (33214)\nAdresse: Meißner Berg 83c\, 01471 Radeburg\n
LOCATION:Paul-Tiedemann-SH Radeburg (33214): Meißner Berg 83c\, 01471 Radeburg
CATEGORIES:Saison 2021/22
END:VEVENT
BEGIN:VEVENT
DTSTAMP:20260422T022446Z
DTSTART;TZID=Europe/Berlin:20220515T110000
DTEND;TZID=Europe/Berlin:20220515T120000
SUMMARY:KlwJD E/R -Teilnehmer Medizin Bad Gottleuba vs SG Klotzsche (802)
UID:def5b4c8-ca7c-47d9-9ec5-7b04ca2a0fe0
STATUS:CONFIRMED
LAST-MODIFIED:20220515T180547Z
DESCRIPTION:KreisLiga wJD E/R -Teilnehmer\nBegegnungs-Nr: 802\nHeim: Medizin Bad Gottleuba\nGast: SG Klotzsche\nHalle: Paul-Tiedemann-SH Radeburg (33214)\nAdresse: Meißner Berg 83c\, 01471 Radeburg\n
LOCATION:Paul-Tiedemann-SH Radeburg (33214): Meißner Berg 83c\, 01471 Radeburg
CATEGORIES:Saison 2021/22
END:VEVENT
BEGIN:VEVENT
DTSTAMP:20260422T022446Z
DTSTART;TZID=Europe/Berlin:20220306T120000
DTEND;TZID=Europe/Berlin:20220306T130000
SUMMARY:KlwJD E/R -Teilnehmer Radebeuler HV II vs SG Klotzsche (902)
UID:3442529a-9962-4ec1-9e3e-09e1d108856d
STATUS:CONFIRMED
LAST-MODIFIED:20220311T203630Z
DESCRIPTION:KreisLiga wJD E/R -Teilnehmer\nBegegnungs-Nr: 902\nHeim: Radebeuler HV II\nGast: SG Klotzsche\nHalle: Lok-SH Dresden (33106)\nAdresse: Emmerich-Ambros-Ufer 74\, 01159 Dresden\n
LOCATION:Lok-SH Dresden (33106): Emmerich-Ambros-Ufer 74\, 01159 Dresden
CATEGORIES:Saison 2021/22
END:VEVENT
BEGIN:VEVENT
DTSTAMP:20260422T022446Z
DTSTART;TZID=Europe/Berlin:20220306T130000
DTEND;TZID=Europe/Berlin:20220306T140000
SUMMARY:KlwJD E/R -Teilnehmer NSG Dresden NordWest vs SG Klotzsche (903)
UID:fffb26fc-7669-4a98-a5f8-682cd7800b36
STATUS:CONFIRMED
LAST-MODIFIED:20220311T203718Z
DESCRIPTION:KreisLiga wJD E/R -Teilnehmer\nBegegnungs-Nr: 903\nHeim: NSG Dresden NordWest\nGast: SG Klotzsche\nHalle: Lok-SH Dresden (33106)\nAdresse: Emmerich-Ambros-Ufer 74\, 01159 Dresden\n
LOCATION:Lok-SH Dresden (33106): Emmerich-Ambros-Ufer 74\, 01159 Dresden
CATEGORIES:Saison 2021/22
END:VEVENT
BEGIN:VEVENT
DTSTAMP:20260422T022446Z
DTSTART;TZID=Europe/Berlin:20220306T120000
DTEND;TZID=Europe/Berlin:20220306T130000
SUMMARY:KlwJD E/R - T09 - NSG DD NordWest Radebeuler HV II vs SG Klotzsche (2)
UID:6fbc5ede-a712-4cd6-8c70-a98c4828a0cf
STATUS:CONFIRMED
LAST-MODIFIED:20220311T202401Z
DESCRIPTION:KreisLiga wJD E/R - T09 - NSG DD NordWest\nBegegnungs-Nr: 2\nHeim: Radebeuler HV II\nGast: SG Klotzsche\nHalle: Lok-SH Dresden (33106)\nAdresse: Emmerich-Ambros-Ufer 74\, 01159 Dresden\n
LOCATION:Lok-SH Dresden (33106): Emmerich-Ambros-Ufer 74\, 01159 Dresden
CATEGORIES:Saison 2021/22
END:VEVENT
END:VCALENDAR
