BEGIN:VCALENDAR
PRODID:-//nuDatenautomaten//framework iCal4j //DE
VERSION:2.0
CALSCALE:GREGORIAN
BEGIN:VTIMEZONE
TZID:Europe/Berlin
LAST-MODIFIED:20260306T231828Z
TZURL:https://www.tzurl.org/zoneinfo/Europe/Berlin
X-LIC-LOCATION:Europe/Berlin
X-PROLEPTIC-TZNAME:LMT
BEGIN:STANDARD
TZNAME:CET
TZOFFSETFROM:+005328
TZOFFSETTO:+0100
DTSTART:18930401T000000
END:STANDARD
BEGIN:DAYLIGHT
TZNAME:CEST
TZOFFSETFROM:+0100
TZOFFSETTO:+0200
DTSTART:19160430T230000
RDATE:19400401T020000
RDATE:19430329T020000
RDATE:19460414T020000
RDATE:19470406T030000
RDATE:19480418T020000
RDATE:19490410T020000
RDATE:19800406T020000
END:DAYLIGHT
BEGIN:STANDARD
TZNAME:CET
TZOFFSETFROM:+0200
TZOFFSETTO:+0100
DTSTART:19161001T010000
RDATE:19421102T030000
RDATE:19431004T030000
RDATE:19441002T030000
RDATE:19451118T030000
RDATE:19461007T030000
END:STANDARD
BEGIN:DAYLIGHT
TZNAME:CEST
TZOFFSETFROM:+0100
TZOFFSETTO:+0200
DTSTART:19170416T020000
RRULE:FREQ=YEARLY;UNTIL=19180415T010000Z;BYMONTH=4;BYDAY=3MO
END:DAYLIGHT
BEGIN:STANDARD
TZNAME:CET
TZOFFSETFROM:+0200
TZOFFSETTO:+0100
DTSTART:19170917T030000
RRULE:FREQ=YEARLY;UNTIL=19180916T010000Z;BYMONTH=9;BYDAY=3MO
END:STANDARD
BEGIN:DAYLIGHT
TZNAME:CEST
TZOFFSETFROM:+0100
TZOFFSETTO:+0200
DTSTART:19440403T020000
RRULE:FREQ=YEARLY;UNTIL=19450402T010000Z;BYMONTH=4;BYDAY=1MO
END:DAYLIGHT
BEGIN:DAYLIGHT
TZNAME:CEMT
TZOFFSETFROM:+0200
TZOFFSETTO:+0300
DTSTART:19450524T020000
RDATE:19470511T030000
END:DAYLIGHT
BEGIN:DAYLIGHT
TZNAME:CEST
TZOFFSETFROM:+0300
TZOFFSETTO:+0200
DTSTART:19450924T030000
RDATE:19470629T030000
END:DAYLIGHT
BEGIN:STANDARD
TZNAME:CET
TZOFFSETFROM:+0100
TZOFFSETTO:+0100
DTSTART:19460101T000000
RDATE:19800101T000000
END:STANDARD
BEGIN:STANDARD
TZNAME:CET
TZOFFSETFROM:+0200
TZOFFSETTO:+0100
DTSTART:19471005T030000
RRULE:FREQ=YEARLY;UNTIL=19491002T010000Z;BYMONTH=10;BYDAY=1SU
END:STANDARD
BEGIN:STANDARD
TZNAME:CET
TZOFFSETFROM:+0200
TZOFFSETTO:+0100
DTSTART:19800928T030000
RRULE:FREQ=YEARLY;UNTIL=19950924T010000Z;BYMONTH=9;BYDAY=-1SU
END:STANDARD
BEGIN:DAYLIGHT
TZNAME:CEST
TZOFFSETFROM:+0100
TZOFFSETTO:+0200
DTSTART:19810329T020000
RRULE:FREQ=YEARLY;BYMONTH=3;BYDAY=-1SU
END:DAYLIGHT
BEGIN:STANDARD
TZNAME:CET
TZOFFSETFROM:+0200
TZOFFSETTO:+0100
DTSTART:19961027T030000
RRULE:FREQ=YEARLY;BYMONTH=10;BYDAY=-1SU
END:STANDARD
END:VTIMEZONE
BEGIN:VEVENT
DTSTAMP:20260421T151429Z
DTSTART;TZID=Europe/Berlin:20220710T154500
DTEND;TZID=Europe/Berlin:20220710T164500
SUMMARY:KKJS mB Burgstädter HC vs HSG Freiberg II (49)
UID:e8b1093a-8748-4d6a-886b-db120d408c5a
STATUS:CONFIRMED
LAST-MODIFIED:20220711T194127Z
DESCRIPTION:KKJS Mittelsachsen männl. B\nBegegnungs-Nr: 49\nHeim: Burgstädter HC\nGast: HSG Freiberg II\nHalle: Ernst-Grube-Halle Freiberg (32401)\nAdresse: Tschaikowskistr. 2\, 09599 Freiberg\n
LOCATION:Ernst-Grube-Halle Freiberg (32401): Tschaikowskistr. 2\, 09599 Freiberg
CATEGORIES:Saison 2021/22
END:VEVENT
BEGIN:VEVENT
DTSTAMP:20260421T151429Z
DTSTART;TZID=Europe/Berlin:20220501T140000
DTEND;TZID=Europe/Berlin:20220501T150000
SUMMARY:Bezirksliga mB Burgstädter HC vs Fortschritt Mittweida (650)
UID:4aa156f1-a38f-4937-829c-613b6f6f3a6f
STATUS:CONFIRMED
LAST-MODIFIED:20220522T073329Z
DESCRIPTION:Bezirksliga Chemnitz männl. Jugend B\nBegegnungs-Nr: 650\nHeim: Burgstädter HC\nGast: Fortschritt Mittweida\nHalle: SH Burgstädt - Sportzentrum am Taurastein (32206)\nAdresse: Am Stadion 22\, 09217  Burgstädt\n
LOCATION:SH Burgstädt - Sportzentrum am Taurastein (32206): Am Stadion 22\, 09217  Burgstädt
CATEGORIES:Saison 2021/22
END:VEVENT
BEGIN:VEVENT
DTSTAMP:20260421T151429Z
DTSTART;TZID=Europe/Berlin:20210925T150000
DTEND;TZID=Europe/Berlin:20210925T160000
SUMMARY:Bezirksliga mB Burgstädter HC vs NSG TSV/SV04/HCE (601)
UID:06023ac9-1cd5-4b64-9042-679a3cf268c6
STATUS:CONFIRMED
LAST-MODIFIED:20210930T122530Z
DESCRIPTION:Bezirksliga Chemnitz männl. Jugend B\nBegegnungs-Nr: 601\nHeim: Burgstädter HC\nGast: NSG TSV/SV04/HCE\nHalle: SH Burgstädt - Sportzentrum am Taurastein (32206)\nAdresse: Am Stadion 22\, 09217  Burgstädt\n
LOCATION:SH Burgstädt - Sportzentrum am Taurastein (32206): Am Stadion 22\, 09217  Burgstädt
CATEGORIES:Saison 2021/22
END:VEVENT
BEGIN:VEVENT
DTSTAMP:20260421T151429Z
DTSTART;TZID=Europe/Berlin:20220522T140000
DTEND;TZID=Europe/Berlin:20220522T150000
SUMMARY:Bezirksliga mB Burgstädter HC vs NSG EHV/NH Aue III (654)
UID:b0f8f706-c6ac-41d9-a6b5-720620809c02
STATUS:CONFIRMED
LAST-MODIFIED:20220522T154744Z
DESCRIPTION:Bezirksliga Chemnitz männl. Jugend B\nBegegnungs-Nr: 654\nHeim: Burgstädter HC\nGast: NSG EHV/NH Aue III\nHalle: SH Burgstädt - Sportzentrum am Taurastein (32206)\nAdresse: Am Stadion 22\, 09217  Burgstädt\n
LOCATION:SH Burgstädt - Sportzentrum am Taurastein (32206): Am Stadion 22\, 09217  Burgstädt
CATEGORIES:Saison 2021/22
END:VEVENT
BEGIN:VEVENT
DTSTAMP:20260421T151429Z
DTSTART;TZID=Europe/Berlin:20220305T150000
DTEND;TZID=Europe/Berlin:20220305T160000
SUMMARY:Bezirksliga mB Burgstädter HC vs HSG Rottluff/Lok Chemnitz (636)
UID:7450e625-a9ea-4f06-bc8f-bd726b200942
STATUS:CONFIRMED
LAST-MODIFIED:20220312T083241Z
DESCRIPTION:Bezirksliga Chemnitz männl. Jugend B\nBegegnungs-Nr: 636\nHeim: Burgstädter HC\nGast: HSG Rottluff/Lok Chemnitz\nHalle: SH Burgstädt - Sportzentrum am Taurastein (32206)\nAdresse: Am Stadion 22\, 09217  Burgstädt\n
LOCATION:SH Burgstädt - Sportzentrum am Taurastein (32206): Am Stadion 22\, 09217  Burgstädt
CATEGORIES:Saison 2021/22
END:VEVENT
BEGIN:VEVENT
DTSTAMP:20260421T151429Z
DTSTART;TZID=Europe/Berlin:20220710T163000
DTEND;TZID=Europe/Berlin:20220710T173000
SUMMARY:KKJS mB Grün-Weiß Niederwiesa vs Burgstädter HC (50)
UID:4c9496f5-5582-4546-8caa-259e2d9423cb
STATUS:CONFIRMED
LAST-MODIFIED:20220711T194206Z
DESCRIPTION:KKJS Mittelsachsen männl. B\nBegegnungs-Nr: 50\nHeim: Grün-Weiß Niederwiesa\nGast: Burgstädter HC\nHalle: Ernst-Grube-Halle Freiberg (32401)\nAdresse: Tschaikowskistr. 2\, 09599 Freiberg\n
LOCATION:Ernst-Grube-Halle Freiberg (32401): Tschaikowskistr. 2\, 09599 Freiberg
CATEGORIES:Saison 2021/22
END:VEVENT
BEGIN:VEVENT
DTSTAMP:20260421T151429Z
DTSTART;TZID=Europe/Berlin:20220508T140000
DTEND;TZID=Europe/Berlin:20220508T150000
SUMMARY:Bezirksliga mB NSG Gc-Mee-LO vs Burgstädter HC (651)
UID:0d1a4895-d133-473f-81db-6081aaeabffa
STATUS:CONFIRMED
LAST-MODIFIED:20220522T073456Z
DESCRIPTION:Bezirksliga Chemnitz männl. Jugend B\nBegegnungs-Nr: 651\nHeim: NSG Gc-Mee-LO\nGast: Burgstädter HC\nHalle: SH Meerane (32202)\nAdresse: Leipziger Str. 7\, 08393 Meerane\n
LOCATION:SH Meerane (32202): Leipziger Str. 7\, 08393 Meerane
CATEGORIES:Saison 2021/22
END:VEVENT
BEGIN:VEVENT
DTSTAMP:20260421T151429Z
DTSTART;TZID=Europe/Berlin:20211113T124500
DTEND;TZID=Europe/Berlin:20211113T134500
SUMMARY:Bezirksliga mB HSG Rottluff/Lok Chemnitz II vs Burgstädter HC (611)
UID:3c86fa81-9903-43f3-b1c3-daaf8b38f613
STATUS:CONFIRMED
LAST-MODIFIED:20211120T082228Z
DESCRIPTION:Bezirksliga Chemnitz männl. Jugend B\nBegegnungs-Nr: 611\nHeim: HSG Rottluff/Lok Chemnitz II\nGast: Burgstädter HC\nHalle: Sachsenhalle Chemnitz (32101)\nAdresse: Straße Usti nad Labem 275\, 09119 Chemnitz\n
LOCATION:Sachsenhalle Chemnitz (32101): Straße Usti nad Labem 275\, 09119 Chemnitz
CATEGORIES:Saison 2021/22
END:VEVENT
BEGIN:VEVENT
DTSTAMP:20260421T151429Z
DTSTART;TZID=Europe/Berlin:20220403T140000
DTEND;TZID=Europe/Berlin:20220403T150000
SUMMARY:Bezirksliga mB Rotation Weißenborn vs Burgstädter HC (645)
UID:895f4db6-c412-4e43-982d-50720dd39ce8
STATUS:CONFIRMED
LAST-MODIFIED:20220406T074827Z
DESCRIPTION:Bezirksliga Chemnitz männl. Jugend B\nBegegnungs-Nr: 645\nHeim: Rotation Weißenborn\nGast: Burgstädter HC\nHalle: SH Schoeller Weißenborn (32415)\nAdresse: Lichtenberger Straße 8\, 09600 Weißenborn\n
LOCATION:SH Schoeller Weißenborn (32415): Lichtenberger Straße 8\, 09600 Weißenborn
CATEGORIES:Saison 2021/22
END:VEVENT
END:VCALENDAR
