BEGIN:VCALENDAR
PRODID:-//nuDatenautomaten//framework iCal4j //DE
VERSION:2.0
CALSCALE:GREGORIAN
BEGIN:VTIMEZONE
TZID:Europe/Berlin
LAST-MODIFIED:20260306T231828Z
TZURL:https://www.tzurl.org/zoneinfo/Europe/Berlin
X-LIC-LOCATION:Europe/Berlin
X-PROLEPTIC-TZNAME:LMT
BEGIN:STANDARD
TZNAME:CET
TZOFFSETFROM:+005328
TZOFFSETTO:+0100
DTSTART:18930401T000000
END:STANDARD
BEGIN:DAYLIGHT
TZNAME:CEST
TZOFFSETFROM:+0100
TZOFFSETTO:+0200
DTSTART:19160430T230000
RDATE:19400401T020000
RDATE:19430329T020000
RDATE:19460414T020000
RDATE:19470406T030000
RDATE:19480418T020000
RDATE:19490410T020000
RDATE:19800406T020000
END:DAYLIGHT
BEGIN:STANDARD
TZNAME:CET
TZOFFSETFROM:+0200
TZOFFSETTO:+0100
DTSTART:19161001T010000
RDATE:19421102T030000
RDATE:19431004T030000
RDATE:19441002T030000
RDATE:19451118T030000
RDATE:19461007T030000
END:STANDARD
BEGIN:DAYLIGHT
TZNAME:CEST
TZOFFSETFROM:+0100
TZOFFSETTO:+0200
DTSTART:19170416T020000
RRULE:FREQ=YEARLY;UNTIL=19180415T010000Z;BYMONTH=4;BYDAY=3MO
END:DAYLIGHT
BEGIN:STANDARD
TZNAME:CET
TZOFFSETFROM:+0200
TZOFFSETTO:+0100
DTSTART:19170917T030000
RRULE:FREQ=YEARLY;UNTIL=19180916T010000Z;BYMONTH=9;BYDAY=3MO
END:STANDARD
BEGIN:DAYLIGHT
TZNAME:CEST
TZOFFSETFROM:+0100
TZOFFSETTO:+0200
DTSTART:19440403T020000
RRULE:FREQ=YEARLY;UNTIL=19450402T010000Z;BYMONTH=4;BYDAY=1MO
END:DAYLIGHT
BEGIN:DAYLIGHT
TZNAME:CEMT
TZOFFSETFROM:+0200
TZOFFSETTO:+0300
DTSTART:19450524T020000
RDATE:19470511T030000
END:DAYLIGHT
BEGIN:DAYLIGHT
TZNAME:CEST
TZOFFSETFROM:+0300
TZOFFSETTO:+0200
DTSTART:19450924T030000
RDATE:19470629T030000
END:DAYLIGHT
BEGIN:STANDARD
TZNAME:CET
TZOFFSETFROM:+0100
TZOFFSETTO:+0100
DTSTART:19460101T000000
RDATE:19800101T000000
END:STANDARD
BEGIN:STANDARD
TZNAME:CET
TZOFFSETFROM:+0200
TZOFFSETTO:+0100
DTSTART:19471005T030000
RRULE:FREQ=YEARLY;UNTIL=19491002T010000Z;BYMONTH=10;BYDAY=1SU
END:STANDARD
BEGIN:STANDARD
TZNAME:CET
TZOFFSETFROM:+0200
TZOFFSETTO:+0100
DTSTART:19800928T030000
RRULE:FREQ=YEARLY;UNTIL=19950924T010000Z;BYMONTH=9;BYDAY=-1SU
END:STANDARD
BEGIN:DAYLIGHT
TZNAME:CEST
TZOFFSETFROM:+0100
TZOFFSETTO:+0200
DTSTART:19810329T020000
RRULE:FREQ=YEARLY;BYMONTH=3;BYDAY=-1SU
END:DAYLIGHT
BEGIN:STANDARD
TZNAME:CET
TZOFFSETFROM:+0200
TZOFFSETTO:+0100
DTSTART:19961027T030000
RRULE:FREQ=YEARLY;BYMONTH=10;BYDAY=-1SU
END:STANDARD
END:VTIMEZONE
BEGIN:VEVENT
DTSTAMP:20260424T123812Z
DTSTART;TZID=Europe/Berlin:20211106T130000
DTEND;TZID=Europe/Berlin:20211106T140000
SUMMARY:Sachsenliga wJC MSV Dresden vs VfL Meißen (21013)
UID:34654bfc-7b7c-430e-8903-f4a568cbf693
STATUS:CONFIRMED
LAST-MODIFIED:20211107T102620Z
DESCRIPTION:Sachsenliga weibliche Jugend C\nBegegnungs-Nr: 21013\nHeim: MSV Dresden\nGast: VfL Meißen\nHalle: SH Bertolt-Brecht-Gymnasium Dresden (33129)\nAdresse: Thomaestraße 60\, 01307 Dresden\n
LOCATION:SH Bertolt-Brecht-Gymnasium Dresden (33129): Thomaestraße 60\, 01307 Dresden
CATEGORIES:Saison 2021/22
END:VEVENT
BEGIN:VEVENT
DTSTAMP:20260424T123812Z
DTSTART;TZID=Europe/Berlin:20211002T130000
DTEND;TZID=Europe/Berlin:20211002T140000
SUMMARY:Sachsenliga wJC MSV Dresden vs SC Markranstädt (21000)
UID:6b06f1eb-2877-4083-89f6-21fa869df1c8
STATUS:CONFIRMED
LAST-MODIFIED:20211005T192115Z
DESCRIPTION:Sachsenliga weibliche Jugend C\nBegegnungs-Nr: 21000\nHeim: MSV Dresden\nGast: SC Markranstädt\nHalle: SH Bertolt-Brecht-Gymnasium Dresden (33129)\nAdresse: Thomaestraße 60\, 01307 Dresden\n
LOCATION:SH Bertolt-Brecht-Gymnasium Dresden (33129): Thomaestraße 60\, 01307 Dresden
CATEGORIES:Saison 2021/22
END:VEVENT
BEGIN:VEVENT
DTSTAMP:20260424T123812Z
DTSTART;TZID=Europe/Berlin:20220305T140000
DTEND;TZID=Europe/Berlin:20220305T150000
SUMMARY:Sachsenliga wJC MSV Dresden vs SC Hoyerswerda  (21026)
UID:6db642c6-2acd-4772-8dad-5c7156911293
STATUS:CONFIRMED
LAST-MODIFIED:20220312T113948Z
DESCRIPTION:Sachsenliga weibliche Jugend C\nBegegnungs-Nr: 21026\nHeim: MSV Dresden\nGast: SC Hoyerswerda \nHalle: SH Bertolt-Brecht-Gymnasium Dresden (33129)\nAdresse: Thomaestraße 60\, 01307 Dresden\n
LOCATION:SH Bertolt-Brecht-Gymnasium Dresden (33129): Thomaestraße 60\, 01307 Dresden
CATEGORIES:Saison 2021/22
END:VEVENT
BEGIN:VEVENT
DTSTAMP:20260424T123812Z
DTSTART;TZID=Europe/Berlin:20220517T181500
DTEND;TZID=Europe/Berlin:20220517T191500
SUMMARY:Sachsenliga wJC MSV Dresden vs MSV Dresden II (21039)
UID:463b5402-5e49-46f7-add5-835d6433ac94
STATUS:CONFIRMED
LAST-MODIFIED:20220517T185436Z
DESCRIPTION:Sachsenliga weibliche Jugend C\nBegegnungs-Nr: 21039\nHeim: MSV Dresden\nGast: MSV Dresden II\nHalle: SH Erlwein-Gymnasium Dresden (33127)\nAdresse: Eibenstocker Straße 30\, 01277 Dresden\n
LOCATION:SH Erlwein-Gymnasium Dresden (33127): Eibenstocker Straße 30\, 01277 Dresden
CATEGORIES:Saison 2021/22
END:VEVENT
BEGIN:VEVENT
DTSTAMP:20260424T123812Z
DTSTART;TZID=Europe/Berlin:20220403T140000
DTEND;TZID=Europe/Berlin:20220403T150000
SUMMARY:Sachsenliga wJC MSV Dresden vs HC Leipzig (21052)
UID:dbdc76b2-a49b-447b-a603-711d740688de
STATUS:CONFIRMED
LAST-MODIFIED:20220411T153753Z
DESCRIPTION:Sachsenliga weibliche Jugend C\nBegegnungs-Nr: 21052\nHeim: MSV Dresden\nGast: HC Leipzig\nHalle: SH 56. Oberschule Dresden Am Trachenberg (33131)\nAdresse: Aachener Straße 10\, 01129 Dresden\n
LOCATION:SH 56. Oberschule Dresden Am Trachenberg (33131): Aachener Straße 10\, 01129 Dresden
CATEGORIES:Saison 2021/22
END:VEVENT
BEGIN:VEVENT
DTSTAMP:20260424T123812Z
DTSTART;TZID=Europe/Berlin:20220507T160000
DTEND;TZID=Europe/Berlin:20220507T170000
SUMMARY:Sachsenliga wJC MSV Dresden vs Radeberger SV (21065)
UID:d14d7f87-eb57-4e9d-89e1-867f44073d4d
STATUS:CONFIRMED
LAST-MODIFIED:20220509T150251Z
DESCRIPTION:Sachsenliga weibliche Jugend C\nBegegnungs-Nr: 21065\nHeim: MSV Dresden\nGast: Radeberger SV\nHalle: SH 56. Oberschule Dresden Am Trachenberg (33131)\nAdresse: Aachener Straße 10\, 01129 Dresden\n
LOCATION:SH 56. Oberschule Dresden Am Trachenberg (33131): Aachener Straße 10\, 01129 Dresden
CATEGORIES:Saison 2021/22
END:VEVENT
BEGIN:VEVENT
DTSTAMP:20260424T123812Z
DTSTART;TZID=Europe/Berlin:20220619T121500
DTEND;TZID=Europe/Berlin:20220619T124500
SUMMARY:Qualifikation SL 22/23 MSV Dresden vs SG Zschorlau/Schneeberg (4)
UID:93991b84-e73e-451d-8d35-bc5280d457d7
STATUS:CONFIRMED
LAST-MODIFIED:20220531T081552Z
DESCRIPTION:Qualifikation SL 22/23 -wC\nBegegnungs-Nr: 4\nHeim: MSV Dresden\nGast: SG Zschorlau/Schneeberg\nHalle: Sachsenhalle Chemnitz (32101)\nAdresse: Straße Usti nad Labem 275\, 09119 Chemnitz\n
LOCATION:Sachsenhalle Chemnitz (32101): Straße Usti nad Labem 275\, 09119 Chemnitz
CATEGORIES:Saison 2021/22
END:VEVENT
BEGIN:VEVENT
DTSTAMP:20260424T123812Z
DTSTART;TZID=Europe/Berlin:20220619T143000
DTEND;TZID=Europe/Berlin:20220619T150000
SUMMARY:Qualifikation SL 22/23 MSV Dresden vs Radeberger SV (7)
UID:829a0b79-dfb2-4f1f-be37-39509476e17d
STATUS:CONFIRMED
LAST-MODIFIED:20220531T081552Z
DESCRIPTION:Qualifikation SL 22/23 -wC\nBegegnungs-Nr: 7\nHeim: MSV Dresden\nGast: Radeberger SV\nHalle: Sachsenhalle Chemnitz (32101)\nAdresse: Straße Usti nad Labem 275\, 09119 Chemnitz\n
LOCATION:Sachsenhalle Chemnitz (32101): Straße Usti nad Labem 275\, 09119 Chemnitz
CATEGORIES:Saison 2021/22
END:VEVENT
BEGIN:VEVENT
DTSTAMP:20260424T123812Z
DTSTART;TZID=Europe/Berlin:20220619T164500
DTEND;TZID=Europe/Berlin:20220619T171500
SUMMARY:Qualifikation SL 22/23 HC Fraureuth vs MSV Dresden (10)
UID:2ffe134f-e1b3-4615-8f05-084e5377aec3
STATUS:CONFIRMED
LAST-MODIFIED:20220531T081552Z
DESCRIPTION:Qualifikation SL 22/23 -wC\nBegegnungs-Nr: 10\nHeim: HC Fraureuth\nGast: MSV Dresden\nHalle: Sachsenhalle Chemnitz (32101)\nAdresse: Straße Usti nad Labem 275\, 09119 Chemnitz\n
LOCATION:Sachsenhalle Chemnitz (32101): Straße Usti nad Labem 275\, 09119 Chemnitz
CATEGORIES:Saison 2021/22
END:VEVENT
BEGIN:VEVENT
DTSTAMP:20260424T123812Z
DTSTART;TZID=Europe/Berlin:20220312T110000
DTEND;TZID=Europe/Berlin:20220312T120000
SUMMARY:Sachsenliga wJC SSV Heidenau  vs MSV Dresden (21032)
UID:c495c8e4-1808-439b-a24f-78b6146549c8
STATUS:CONFIRMED
LAST-MODIFIED:20220315T101129Z
DESCRIPTION:Sachsenliga weibliche Jugend C\nBegegnungs-Nr: 21032\nHeim: SSV Heidenau \nGast: MSV Dresden\nHalle: SH Pestalozzi-Gymnasium Heidenau (33306)\nAdresse: Hauptstraße 37\, 01809 Heidenau\n
LOCATION:SH Pestalozzi-Gymnasium Heidenau (33306): Hauptstraße 37\, 01809 Heidenau
CATEGORIES:Saison 2021/22
END:VEVENT
BEGIN:VEVENT
DTSTAMP:20260424T123812Z
DTSTART;TZID=Europe/Berlin:20211009T150000
DTEND;TZID=Europe/Berlin:20211009T160000
SUMMARY:Sachsenliga wJC HSV Marienberg vs MSV Dresden (21010)
UID:bf7a2981-63bc-45cb-9baa-cf51cbee46d4
STATUS:CONFIRMED
LAST-MODIFIED:20211031T170622Z
DESCRIPTION:Sachsenliga weibliche Jugend C\nBegegnungs-Nr: 21010\nHeim: HSV Marienberg\nGast: MSV Dresden\nHalle: SH am Goldkindstein Marienberg (32416)\nAdresse: Dr.-Wilhelm-Külz-Allee 23\, 09496 Marienberg\n
LOCATION:SH am Goldkindstein Marienberg (32416): Dr.-Wilhelm-Külz-Allee 23\, 09496 Marienberg
CATEGORIES:Saison 2021/22
END:VEVENT
BEGIN:VEVENT
DTSTAMP:20260424T123812Z
DTSTART;TZID=Europe/Berlin:20211114T120000
DTEND;TZID=Europe/Berlin:20211114T130000
SUMMARY:Sachsenliga wJC HC Rödertal  vs MSV Dresden (21021)
UID:29af8aba-f660-4f03-a35f-98224e8ecb7b
STATUS:CONFIRMED
LAST-MODIFIED:20211119T212250Z
DESCRIPTION:Sachsenliga weibliche Jugend C\nBegegnungs-Nr: 21021\nHeim: HC Rödertal \nGast: MSV Dresden\nHalle: 3-Feld-Halle-GY Großröhrsdorf (34514)\nAdresse: Melanchthonstraße 21\, 01900  Großröhrsdorf\n
LOCATION:3-Feld-Halle-GY Großröhrsdorf (34514): Melanchthonstraße 21\, 01900  Großröhrsdorf
CATEGORIES:Saison 2021/22
END:VEVENT
BEGIN:VEVENT
DTSTAMP:20260424T123812Z
DTSTART;TZID=Europe/Berlin:20220510T180000
DTEND;TZID=Europe/Berlin:20220510T190000
SUMMARY:Sachsenliga wJC Görlitzer HC vs MSV Dresden (21043)
UID:14bd07cb-04ff-4ccf-a7bd-73ca05224959
STATUS:CONFIRMED
LAST-MODIFIED:20220517T185104Z
DESCRIPTION:Sachsenliga weibliche Jugend C\nBegegnungs-Nr: 21043\nHeim: Görlitzer HC\nGast: MSV Dresden\nHalle: SH BSZ \"Christoph Lüders\" (34304)\nAdresse: Sattigstraße 10\, 02826 Görlitz\n
LOCATION:SH BSZ \"Christoph Lüders\" (34304): Sattigstraße 10\, 02826 Görlitz
CATEGORIES:Saison 2021/22
END:VEVENT
BEGIN:VEVENT
DTSTAMP:20260424T123812Z
DTSTART;TZID=Europe/Berlin:20220413T180000
DTEND;TZID=Europe/Berlin:20220413T190000
SUMMARY:Sachsenliga wJC BSV Sa. Zwickau vs MSV Dresden (21054)
UID:f611e9e4-84dd-463b-bb29-6a77ff882d11
STATUS:CONFIRMED
LAST-MODIFIED:20220423T091049Z
DESCRIPTION:Sachsenliga weibliche Jugend C\nBegegnungs-Nr: 21054\nHeim: BSV Sa. Zwickau\nGast: MSV Dresden\nHalle: SH Zwickau-Neuplanitz (32501)\nAdresse: Dortmunder Str. 7a\, 08062 Zwickau\n
LOCATION:SH Zwickau-Neuplanitz (32501): Dortmunder Str. 7a\, 08062 Zwickau
CATEGORIES:Saison 2021/22
END:VEVENT
BEGIN:VEVENT
DTSTAMP:20260424T123812Z
DTSTART;TZID=Europe/Berlin:20220619T100000
DTEND;TZID=Europe/Berlin:20220619T103000
SUMMARY:Qualifikation SL 22/23 HV Chemnitz vs MSV Dresden (1)
UID:4ebd4dd6-dad3-469c-96db-79923177ab6b
STATUS:CONFIRMED
LAST-MODIFIED:20220531T081551Z
DESCRIPTION:Qualifikation SL 22/23 -wC\nBegegnungs-Nr: 1\nHeim: HV Chemnitz\nGast: MSV Dresden\nHalle: Sachsenhalle Chemnitz (32101)\nAdresse: Straße Usti nad Labem 275\, 09119 Chemnitz\n
LOCATION:Sachsenhalle Chemnitz (32101): Straße Usti nad Labem 275\, 09119 Chemnitz
CATEGORIES:Saison 2021/22
END:VEVENT
END:VCALENDAR
