BEGIN:VCALENDAR
PRODID:-//nuDatenautomaten//framework iCal4j //DE
VERSION:2.0
CALSCALE:GREGORIAN
BEGIN:VTIMEZONE
TZID:Europe/Berlin
LAST-MODIFIED:20260306T231828Z
TZURL:https://www.tzurl.org/zoneinfo/Europe/Berlin
X-LIC-LOCATION:Europe/Berlin
X-PROLEPTIC-TZNAME:LMT
BEGIN:STANDARD
TZNAME:CET
TZOFFSETFROM:+005328
TZOFFSETTO:+0100
DTSTART:18930401T000000
END:STANDARD
BEGIN:DAYLIGHT
TZNAME:CEST
TZOFFSETFROM:+0100
TZOFFSETTO:+0200
DTSTART:19160430T230000
RDATE:19400401T020000
RDATE:19430329T020000
RDATE:19460414T020000
RDATE:19470406T030000
RDATE:19480418T020000
RDATE:19490410T020000
RDATE:19800406T020000
END:DAYLIGHT
BEGIN:STANDARD
TZNAME:CET
TZOFFSETFROM:+0200
TZOFFSETTO:+0100
DTSTART:19161001T010000
RDATE:19421102T030000
RDATE:19431004T030000
RDATE:19441002T030000
RDATE:19451118T030000
RDATE:19461007T030000
END:STANDARD
BEGIN:DAYLIGHT
TZNAME:CEST
TZOFFSETFROM:+0100
TZOFFSETTO:+0200
DTSTART:19170416T020000
RRULE:FREQ=YEARLY;UNTIL=19180415T010000Z;BYMONTH=4;BYDAY=3MO
END:DAYLIGHT
BEGIN:STANDARD
TZNAME:CET
TZOFFSETFROM:+0200
TZOFFSETTO:+0100
DTSTART:19170917T030000
RRULE:FREQ=YEARLY;UNTIL=19180916T010000Z;BYMONTH=9;BYDAY=3MO
END:STANDARD
BEGIN:DAYLIGHT
TZNAME:CEST
TZOFFSETFROM:+0100
TZOFFSETTO:+0200
DTSTART:19440403T020000
RRULE:FREQ=YEARLY;UNTIL=19450402T010000Z;BYMONTH=4;BYDAY=1MO
END:DAYLIGHT
BEGIN:DAYLIGHT
TZNAME:CEMT
TZOFFSETFROM:+0200
TZOFFSETTO:+0300
DTSTART:19450524T020000
RDATE:19470511T030000
END:DAYLIGHT
BEGIN:DAYLIGHT
TZNAME:CEST
TZOFFSETFROM:+0300
TZOFFSETTO:+0200
DTSTART:19450924T030000
RDATE:19470629T030000
END:DAYLIGHT
BEGIN:STANDARD
TZNAME:CET
TZOFFSETFROM:+0100
TZOFFSETTO:+0100
DTSTART:19460101T000000
RDATE:19800101T000000
END:STANDARD
BEGIN:STANDARD
TZNAME:CET
TZOFFSETFROM:+0200
TZOFFSETTO:+0100
DTSTART:19471005T030000
RRULE:FREQ=YEARLY;UNTIL=19491002T010000Z;BYMONTH=10;BYDAY=1SU
END:STANDARD
BEGIN:STANDARD
TZNAME:CET
TZOFFSETFROM:+0200
TZOFFSETTO:+0100
DTSTART:19800928T030000
RRULE:FREQ=YEARLY;UNTIL=19950924T010000Z;BYMONTH=9;BYDAY=-1SU
END:STANDARD
BEGIN:DAYLIGHT
TZNAME:CEST
TZOFFSETFROM:+0100
TZOFFSETTO:+0200
DTSTART:19810329T020000
RRULE:FREQ=YEARLY;BYMONTH=3;BYDAY=-1SU
END:DAYLIGHT
BEGIN:STANDARD
TZNAME:CET
TZOFFSETFROM:+0200
TZOFFSETTO:+0100
DTSTART:19961027T030000
RRULE:FREQ=YEARLY;BYMONTH=10;BYDAY=-1SU
END:STANDARD
END:VTIMEZONE
BEGIN:VEVENT
DTSTAMP:20260425T211042Z
DTSTART;TZID=Europe/Berlin:20220313T113000
DTEND;TZID=Europe/Berlin:20220313T123000
SUMMARY:KlmJD Medizin Bad Gottleuba vs SG Weixdorf (26)
UID:13def91f-6246-4df9-818c-aeff0f2d82e0
STATUS:CONFIRMED
LAST-MODIFIED:20220314T150400Z
DESCRIPTION:KreisLiga DD mJD\nBegegnungs-Nr: 26\nHeim: Medizin Bad Gottleuba\nGast: SG Weixdorf\nHalle: Sportpark Dippoldiswalde (33229)\nAdresse: Nikolai-Ostrowski-Straße 2\, 01744 Dippoldiswalde\n
LOCATION:Sportpark Dippoldiswalde (33229): Nikolai-Ostrowski-Straße 2\, 01744 Dippoldiswalde
CATEGORIES:Saison 2021/22
END:VEVENT
BEGIN:VEVENT
DTSTAMP:20260425T211042Z
DTSTART;TZID=Europe/Berlin:20220507T120000
DTEND;TZID=Europe/Berlin:20220507T130000
SUMMARY:KlmJD Medizin Bad Gottleuba vs NSG Dresden NordWest II (55)
UID:46fc5b89-bafe-4e06-9e53-f7f1693dcfbd
STATUS:CONFIRMED
LAST-MODIFIED:20220509T100806Z
DESCRIPTION:KreisLiga DD mJD\nBegegnungs-Nr: 55\nHeim: Medizin Bad Gottleuba\nGast: NSG Dresden NordWest II\nHalle: Lok-SH Dresden (33106)\nAdresse: Emmerich-Ambros-Ufer 74\, 01159 Dresden\n
LOCATION:Lok-SH Dresden (33106): Emmerich-Ambros-Ufer 74\, 01159 Dresden
CATEGORIES:Saison 2021/22
END:VEVENT
BEGIN:VEVENT
DTSTAMP:20260425T211042Z
DTSTART;TZID=Europe/Berlin:20211113T110000
DTEND;TZID=Europe/Berlin:20211113T120000
SUMMARY:KlmJD Medizin Bad Gottleuba vs Motor Dippoldiswalde (12)
UID:626d2554-2e9f-4747-a71d-4cc600ea3910
STATUS:CONFIRMED
LAST-MODIFIED:20211118T053530Z
DESCRIPTION:KreisLiga DD mJD\nBegegnungs-Nr: 12\nHeim: Medizin Bad Gottleuba\nGast: Motor Dippoldiswalde\nHalle: SH Geising (33201)\nAdresse: Lange Str. 25\, 01778 Altenberg ST Geising\n
LOCATION:SH Geising (33201): Lange Str. 25\, 01778 Altenberg ST Geising
CATEGORIES:Saison 2021/22
END:VEVENT
BEGIN:VEVENT
DTSTAMP:20260425T211042Z
DTSTART;TZID=Europe/Berlin:20211113T130000
DTEND;TZID=Europe/Berlin:20211113T140000
SUMMARY:KlmJD Medizin Bad Gottleuba vs Motor Wilsdruff  (14)
UID:ea33ddc5-f993-47ff-b0a1-ee7a0dc3fa11
STATUS:CONFIRMED
LAST-MODIFIED:20211118T053725Z
DESCRIPTION:KreisLiga DD mJD\nBegegnungs-Nr: 14\nHeim: Medizin Bad Gottleuba\nGast: Motor Wilsdruff \nHalle: SH Geising (33201)\nAdresse: Lange Str. 25\, 01778 Altenberg ST Geising\n
LOCATION:SH Geising (33201): Lange Str. 25\, 01778 Altenberg ST Geising
CATEGORIES:Saison 2021/22
END:VEVENT
BEGIN:VEVENT
DTSTAMP:20260425T211042Z
DTSTART;TZID=Europe/Berlin:20211009T130000
DTEND;TZID=Europe/Berlin:20211009T140000
SUMMARY:KlmJD Medizin Bad Gottleuba vs SG Klotzsche (11)
UID:96371b4a-b0ed-4222-a9dc-5355cb6d3d6a
STATUS:CONFIRMED
LAST-MODIFIED:20211010T173904Z
DESCRIPTION:KreisLiga DD mJD\nBegegnungs-Nr: 11\nHeim: Medizin Bad Gottleuba\nGast: SG Klotzsche\nHalle: Gerhard-Grafe-SH Weixdorf (33116)\nAdresse: Weixdorfer Rathausplatz 2a\, 01108 Dresden\n
LOCATION:Gerhard-Grafe-SH Weixdorf (33116): Weixdorfer Rathausplatz 2a\, 01108 Dresden
CATEGORIES:Saison 2021/22
END:VEVENT
BEGIN:VEVENT
DTSTAMP:20260425T211042Z
DTSTART;TZID=Europe/Berlin:20220507T130000
DTEND;TZID=Europe/Berlin:20220507T140000
SUMMARY:KlmJD Medizin Bad Gottleuba vs Kurort Hartha (56)
UID:6316432e-7d9c-4bde-b817-d6facc1bdf98
STATUS:CONFIRMED
LAST-MODIFIED:20220509T100854Z
DESCRIPTION:KreisLiga DD mJD\nBegegnungs-Nr: 56\nHeim: Medizin Bad Gottleuba\nGast: Kurort Hartha\nHalle: Lok-SH Dresden (33106)\nAdresse: Emmerich-Ambros-Ufer 74\, 01159 Dresden\n
LOCATION:Lok-SH Dresden (33106): Emmerich-Ambros-Ufer 74\, 01159 Dresden
CATEGORIES:Saison 2021/22
END:VEVENT
BEGIN:VEVENT
DTSTAMP:20260425T211042Z
DTSTART;TZID=Europe/Berlin:20211009T110000
DTEND;TZID=Europe/Berlin:20211009T120000
SUMMARY:KlmJD Medizin Bad Gottleuba vs KJS-Club Dresden (9)
UID:effe0a57-6c9c-46aa-a1d4-a06b2b7de11f
STATUS:CONFIRMED
LAST-MODIFIED:20211010T075653Z
DESCRIPTION:KreisLiga DD mJD\nBegegnungs-Nr: 9\nHeim: Medizin Bad Gottleuba\nGast: KJS-Club Dresden\nHalle: Gerhard-Grafe-SH Weixdorf (33116)\nAdresse: Weixdorfer Rathausplatz 2a\, 01108 Dresden\n
LOCATION:Gerhard-Grafe-SH Weixdorf (33116): Weixdorfer Rathausplatz 2a\, 01108 Dresden
CATEGORIES:Saison 2021/22
END:VEVENT
BEGIN:VEVENT
DTSTAMP:20260425T211042Z
DTSTART;TZID=Europe/Berlin:20211002T104500
DTEND;TZID=Europe/Berlin:20211002T114500
SUMMARY:KlmJD SG Weixdorf vs Medizin Bad Gottleuba (2)
UID:552c6e9d-6ae6-4208-896b-d80f6fd433de
STATUS:CONFIRMED
LAST-MODIFIED:20211003T071711Z
DESCRIPTION:KreisLiga DD mJD\nBegegnungs-Nr: 2\nHeim: SG Weixdorf\nGast: Medizin Bad Gottleuba\nHalle: Saubach-SH Wilsdruff (33208)\nAdresse: Nossener Str. 21b\, 01723 Wilsdruff\n
LOCATION:Saubach-SH Wilsdruff (33208): Nossener Str. 21b\, 01723 Wilsdruff
CATEGORIES:Saison 2021/22
END:VEVENT
BEGIN:VEVENT
DTSTAMP:20260425T211042Z
DTSTART;TZID=Europe/Berlin:20220501T100000
DTEND;TZID=Europe/Berlin:20220501T110000
SUMMARY:KlmJD KJS-Club Dresden vs Medizin Bad Gottleuba (32)
UID:02246daa-a8f4-4457-b173-c87d2c4ee987
STATUS:CONFIRMED
LAST-MODIFIED:20220501T160933Z
DESCRIPTION:KreisLiga DD mJD\nBegegnungs-Nr: 32\nHeim: KJS-Club Dresden\nGast: Medizin Bad Gottleuba\nHalle: SH Gymnasium Klotzsche (33126)\nAdresse: Karl-Marx-Straße 44\, 01109 Dresden\n
LOCATION:SH Gymnasium Klotzsche (33126): Karl-Marx-Straße 44\, 01109 Dresden
CATEGORIES:Saison 2021/22
END:VEVENT
BEGIN:VEVENT
DTSTAMP:20260425T211042Z
DTSTART;TZID=Europe/Berlin:20220501T120000
DTEND;TZID=Europe/Berlin:20220501T130000
SUMMARY:KlmJD SG Klotzsche vs Medizin Bad Gottleuba (34)
UID:68cfc82f-2413-4040-909a-a2f1b138ab4d
STATUS:CONFIRMED
LAST-MODIFIED:20220501T161103Z
DESCRIPTION:KreisLiga DD mJD\nBegegnungs-Nr: 34\nHeim: SG Klotzsche\nGast: Medizin Bad Gottleuba\nHalle: SH Gymnasium Klotzsche (33126)\nAdresse: Karl-Marx-Straße 44\, 01109 Dresden\n
LOCATION:SH Gymnasium Klotzsche (33126): Karl-Marx-Straße 44\, 01109 Dresden
CATEGORIES:Saison 2021/22
END:VEVENT
BEGIN:VEVENT
DTSTAMP:20260425T211042Z
DTSTART;TZID=Europe/Berlin:20220313T093000
DTEND;TZID=Europe/Berlin:20220313T103000
SUMMARY:KlmJD Motor Wilsdruff  vs Medizin Bad Gottleuba (39)
UID:a6a7938c-9593-4c98-bbec-ca2f184039ad
STATUS:CONFIRMED
LAST-MODIFIED:20220314T150112Z
DESCRIPTION:KreisLiga DD mJD\nBegegnungs-Nr: 39\nHeim: Motor Wilsdruff \nGast: Medizin Bad Gottleuba\nHalle: SH Geising (33201)\nAdresse: Lange Str. 25\, 01778 Altenberg ST Geising\n
LOCATION:SH Geising (33201): Lange Str. 25\, 01778 Altenberg ST Geising
CATEGORIES:Saison 2021/22
END:VEVENT
BEGIN:VEVENT
DTSTAMP:20260425T211042Z
DTSTART;TZID=Europe/Berlin:20220313T113000
DTEND;TZID=Europe/Berlin:20220313T123000
SUMMARY:KlmJD Motor Dippoldiswalde vs Medizin Bad Gottleuba (41)
UID:745ae832-985b-492b-957b-2809fc05935a
STATUS:CONFIRMED
LAST-MODIFIED:20220312T060510Z
DESCRIPTION:KreisLiga DD mJD\nBegegnungs-Nr: 41\nHeim: Motor Dippoldiswalde\nGast: Medizin Bad Gottleuba\nHalle: SH Geising (33201)\nAdresse: Lange Str. 25\, 01778 Altenberg ST Geising\n
LOCATION:SH Geising (33201): Lange Str. 25\, 01778 Altenberg ST Geising
CATEGORIES:Saison 2021/22
END:VEVENT
BEGIN:VEVENT
DTSTAMP:20260425T211042Z
DTSTART;TZID=Europe/Berlin:20220402T110000
DTEND;TZID=Europe/Berlin:20220402T120000
SUMMARY:KlmJD NSG Dresden NordWest II vs Medizin Bad Gottleuba (46)
UID:2ec4a255-7317-4297-9af7-3c67e2e94315
STATUS:CONFIRMED
LAST-MODIFIED:20220403T191547Z
DESCRIPTION:KreisLiga DD mJD\nBegegnungs-Nr: 46\nHeim: NSG Dresden NordWest II\nGast: Medizin Bad Gottleuba\nHalle: Gerhard-Grafe-SH Weixdorf (33116)\nAdresse: Weixdorfer Rathausplatz 2a\, 01108 Dresden\n
LOCATION:Gerhard-Grafe-SH Weixdorf (33116): Weixdorfer Rathausplatz 2a\, 01108 Dresden
CATEGORIES:Saison 2021/22
END:VEVENT
BEGIN:VEVENT
DTSTAMP:20260425T211042Z
DTSTART;TZID=Europe/Berlin:20220402T130000
DTEND;TZID=Europe/Berlin:20220402T140000
SUMMARY:KlmJD Kurort Hartha vs Medizin Bad Gottleuba (48)
UID:c0362ba7-50c0-4323-8020-e1270fda8ff8
STATUS:CONFIRMED
LAST-MODIFIED:20220403T191709Z
DESCRIPTION:KreisLiga DD mJD\nBegegnungs-Nr: 48\nHeim: Kurort Hartha\nGast: Medizin Bad Gottleuba\nHalle: Gerhard-Grafe-SH Weixdorf (33116)\nAdresse: Weixdorfer Rathausplatz 2a\, 01108 Dresden\n
LOCATION:Gerhard-Grafe-SH Weixdorf (33116): Weixdorfer Rathausplatz 2a\, 01108 Dresden
CATEGORIES:Saison 2021/22
END:VEVENT
END:VCALENDAR
