BEGIN:VCALENDAR
PRODID:-//nuDatenautomaten//framework iCal4j //DE
VERSION:2.0
CALSCALE:GREGORIAN
BEGIN:VTIMEZONE
TZID:Europe/Berlin
LAST-MODIFIED:20260306T231828Z
TZURL:https://www.tzurl.org/zoneinfo/Europe/Berlin
X-LIC-LOCATION:Europe/Berlin
X-PROLEPTIC-TZNAME:LMT
BEGIN:STANDARD
TZNAME:CET
TZOFFSETFROM:+005328
TZOFFSETTO:+0100
DTSTART:18930401T000000
END:STANDARD
BEGIN:DAYLIGHT
TZNAME:CEST
TZOFFSETFROM:+0100
TZOFFSETTO:+0200
DTSTART:19160430T230000
RDATE:19400401T020000
RDATE:19430329T020000
RDATE:19460414T020000
RDATE:19470406T030000
RDATE:19480418T020000
RDATE:19490410T020000
RDATE:19800406T020000
END:DAYLIGHT
BEGIN:STANDARD
TZNAME:CET
TZOFFSETFROM:+0200
TZOFFSETTO:+0100
DTSTART:19161001T010000
RDATE:19421102T030000
RDATE:19431004T030000
RDATE:19441002T030000
RDATE:19451118T030000
RDATE:19461007T030000
END:STANDARD
BEGIN:DAYLIGHT
TZNAME:CEST
TZOFFSETFROM:+0100
TZOFFSETTO:+0200
DTSTART:19170416T020000
RRULE:FREQ=YEARLY;UNTIL=19180415T010000Z;BYMONTH=4;BYDAY=3MO
END:DAYLIGHT
BEGIN:STANDARD
TZNAME:CET
TZOFFSETFROM:+0200
TZOFFSETTO:+0100
DTSTART:19170917T030000
RRULE:FREQ=YEARLY;UNTIL=19180916T010000Z;BYMONTH=9;BYDAY=3MO
END:STANDARD
BEGIN:DAYLIGHT
TZNAME:CEST
TZOFFSETFROM:+0100
TZOFFSETTO:+0200
DTSTART:19440403T020000
RRULE:FREQ=YEARLY;UNTIL=19450402T010000Z;BYMONTH=4;BYDAY=1MO
END:DAYLIGHT
BEGIN:DAYLIGHT
TZNAME:CEMT
TZOFFSETFROM:+0200
TZOFFSETTO:+0300
DTSTART:19450524T020000
RDATE:19470511T030000
END:DAYLIGHT
BEGIN:DAYLIGHT
TZNAME:CEST
TZOFFSETFROM:+0300
TZOFFSETTO:+0200
DTSTART:19450924T030000
RDATE:19470629T030000
END:DAYLIGHT
BEGIN:STANDARD
TZNAME:CET
TZOFFSETFROM:+0100
TZOFFSETTO:+0100
DTSTART:19460101T000000
RDATE:19800101T000000
END:STANDARD
BEGIN:STANDARD
TZNAME:CET
TZOFFSETFROM:+0200
TZOFFSETTO:+0100
DTSTART:19471005T030000
RRULE:FREQ=YEARLY;UNTIL=19491002T010000Z;BYMONTH=10;BYDAY=1SU
END:STANDARD
BEGIN:STANDARD
TZNAME:CET
TZOFFSETFROM:+0200
TZOFFSETTO:+0100
DTSTART:19800928T030000
RRULE:FREQ=YEARLY;UNTIL=19950924T010000Z;BYMONTH=9;BYDAY=-1SU
END:STANDARD
BEGIN:DAYLIGHT
TZNAME:CEST
TZOFFSETFROM:+0100
TZOFFSETTO:+0200
DTSTART:19810329T020000
RRULE:FREQ=YEARLY;BYMONTH=3;BYDAY=-1SU
END:DAYLIGHT
BEGIN:STANDARD
TZNAME:CET
TZOFFSETFROM:+0200
TZOFFSETTO:+0100
DTSTART:19961027T030000
RRULE:FREQ=YEARLY;BYMONTH=10;BYDAY=-1SU
END:STANDARD
END:VTIMEZONE
BEGIN:VEVENT
DTSTAMP:20260423T031710Z
DTSTART;TZID=Europe/Berlin:20211010T093000
DTEND;TZID=Europe/Berlin:20211010T103000
SUMMARY:KlmJC Motor Dippoldiswalde vs Kurort Hartha (6004)
UID:7a6a4040-f707-49cc-8bb0-d50f7c9d4a93
STATUS:CONFIRMED
LAST-MODIFIED:20211010T102446Z
DESCRIPTION:KreisLiga DD mJC\nBegegnungs-Nr: 6004\nHeim: Motor Dippoldiswalde\nGast: Kurort Hartha\nHalle: Sportpark Dippoldiswalde (33229)\nAdresse: Nikolai-Ostrowski-Straße 2\, 01744 Dippoldiswalde\n
LOCATION:Sportpark Dippoldiswalde (33229): Nikolai-Ostrowski-Straße 2\, 01744 Dippoldiswalde
CATEGORIES:Saison 2021/22
END:VEVENT
BEGIN:VEVENT
DTSTAMP:20260423T031710Z
DTSTART;TZID=Europe/Berlin:20210925T093000
DTEND;TZID=Europe/Berlin:20210925T103000
SUMMARY:KlmJC Motor Dippoldiswalde vs SG Ruppendorf (6000)
UID:6f77c1d8-9a82-462a-ad52-2f1cfec1e73f
STATUS:CONFIRMED
LAST-MODIFIED:20210925T194816Z
DESCRIPTION:KreisLiga DD mJC\nBegegnungs-Nr: 6000\nHeim: Motor Dippoldiswalde\nGast: SG Ruppendorf\nHalle: Sportpark Dippoldiswalde (33229)\nAdresse: Nikolai-Ostrowski-Straße 2\, 01744 Dippoldiswalde\n
LOCATION:Sportpark Dippoldiswalde (33229): Nikolai-Ostrowski-Straße 2\, 01744 Dippoldiswalde
CATEGORIES:Saison 2021/22
END:VEVENT
BEGIN:VEVENT
DTSTAMP:20260423T031710Z
DTSTART;TZID=Europe/Berlin:20220410T113000
DTEND;TZID=Europe/Berlin:20220410T123000
SUMMARY:KlmJC Motor Dippoldiswalde vs SG Weixdorf (6035)
UID:cba3ce93-2440-4c64-9c9b-013f285eccdf
STATUS:CONFIRMED
LAST-MODIFIED:20220416T073230Z
DESCRIPTION:KreisLiga DD mJC\nBegegnungs-Nr: 6035\nHeim: Motor Dippoldiswalde\nGast: SG Weixdorf\nHalle: Sportpark Dippoldiswalde (33229)\nAdresse: Nikolai-Ostrowski-Straße 2\, 01744 Dippoldiswalde\n
LOCATION:Sportpark Dippoldiswalde (33229): Nikolai-Ostrowski-Straße 2\, 01744 Dippoldiswalde
CATEGORIES:Saison 2021/22
END:VEVENT
BEGIN:VEVENT
DTSTAMP:20260423T031710Z
DTSTART;TZID=Europe/Berlin:20211002T123000
DTEND;TZID=Europe/Berlin:20211002T133000
SUMMARY:KlmJC Motor Wilsdruff  vs Motor Dippoldiswalde (6002)
UID:d995569c-03b5-4551-860a-89e16ca00efc
STATUS:CONFIRMED
LAST-MODIFIED:20211010T101909Z
DESCRIPTION:KreisLiga DD mJC\nBegegnungs-Nr: 6002\nHeim: Motor Wilsdruff \nGast: Motor Dippoldiswalde\nHalle: Saubach-SH Wilsdruff (33208)\nAdresse: Nossener Str. 21b\, 01723 Wilsdruff\n
LOCATION:Saubach-SH Wilsdruff (33208): Nossener Str. 21b\, 01723 Wilsdruff
CATEGORIES:Saison 2021/22
END:VEVENT
BEGIN:VEVENT
DTSTAMP:20260423T031710Z
DTSTART;TZID=Europe/Berlin:20220521T110000
DTEND;TZID=Europe/Berlin:20220521T120000
SUMMARY:KlmJC SG Pirna/Heidenau II vs Motor Dippoldiswalde (6006)
UID:55c27447-86f1-4acf-ac8f-e55b14557f81
STATUS:CONFIRMED
LAST-MODIFIED:20220522T192610Z
DESCRIPTION:KreisLiga DD mJC\nBegegnungs-Nr: 6006\nHeim: SG Pirna/Heidenau II\nGast: Motor Dippoldiswalde\nHalle: SH Pestalozzi-Gymnasium Heidenau (33306)\nAdresse: Hauptstraße 37\, 01809 Heidenau\n
LOCATION:SH Pestalozzi-Gymnasium Heidenau (33306): Hauptstraße 37\, 01809 Heidenau
CATEGORIES:Saison 2021/22
END:VEVENT
BEGIN:VEVENT
DTSTAMP:20260423T031710Z
DTSTART;TZID=Europe/Berlin:20211114T154500
DTEND;TZID=Europe/Berlin:20211114T164500
SUMMARY:KlmJC SG Klotzsche vs Motor Dippoldiswalde (6010)
UID:ff80e6b5-7a0f-4fce-8f8e-383da0907b42
STATUS:CONFIRMED
LAST-MODIFIED:20211114T203653Z
DESCRIPTION:KreisLiga DD mJC\nBegegnungs-Nr: 6010\nHeim: SG Klotzsche\nGast: Motor Dippoldiswalde\nHalle: SH Gymnasium Klotzsche (33126)\nAdresse: Karl-Marx-Straße 44\, 01109 Dresden\n
LOCATION:SH Gymnasium Klotzsche (33126): Karl-Marx-Straße 44\, 01109 Dresden
CATEGORIES:Saison 2021/22
END:VEVENT
END:VCALENDAR
