BEGIN:VCALENDAR
PRODID:-//nuDatenautomaten//framework iCal4j //DE
VERSION:2.0
CALSCALE:GREGORIAN
BEGIN:VTIMEZONE
TZID:Europe/Berlin
LAST-MODIFIED:20260306T231828Z
TZURL:https://www.tzurl.org/zoneinfo/Europe/Berlin
X-LIC-LOCATION:Europe/Berlin
X-PROLEPTIC-TZNAME:LMT
BEGIN:STANDARD
TZNAME:CET
TZOFFSETFROM:+005328
TZOFFSETTO:+0100
DTSTART:18930401T000000
END:STANDARD
BEGIN:DAYLIGHT
TZNAME:CEST
TZOFFSETFROM:+0100
TZOFFSETTO:+0200
DTSTART:19160430T230000
RDATE:19400401T020000
RDATE:19430329T020000
RDATE:19460414T020000
RDATE:19470406T030000
RDATE:19480418T020000
RDATE:19490410T020000
RDATE:19800406T020000
END:DAYLIGHT
BEGIN:STANDARD
TZNAME:CET
TZOFFSETFROM:+0200
TZOFFSETTO:+0100
DTSTART:19161001T010000
RDATE:19421102T030000
RDATE:19431004T030000
RDATE:19441002T030000
RDATE:19451118T030000
RDATE:19461007T030000
END:STANDARD
BEGIN:DAYLIGHT
TZNAME:CEST
TZOFFSETFROM:+0100
TZOFFSETTO:+0200
DTSTART:19170416T020000
RRULE:FREQ=YEARLY;UNTIL=19180415T010000Z;BYMONTH=4;BYDAY=3MO
END:DAYLIGHT
BEGIN:STANDARD
TZNAME:CET
TZOFFSETFROM:+0200
TZOFFSETTO:+0100
DTSTART:19170917T030000
RRULE:FREQ=YEARLY;UNTIL=19180916T010000Z;BYMONTH=9;BYDAY=3MO
END:STANDARD
BEGIN:DAYLIGHT
TZNAME:CEST
TZOFFSETFROM:+0100
TZOFFSETTO:+0200
DTSTART:19440403T020000
RRULE:FREQ=YEARLY;UNTIL=19450402T010000Z;BYMONTH=4;BYDAY=1MO
END:DAYLIGHT
BEGIN:DAYLIGHT
TZNAME:CEMT
TZOFFSETFROM:+0200
TZOFFSETTO:+0300
DTSTART:19450524T020000
RDATE:19470511T030000
END:DAYLIGHT
BEGIN:DAYLIGHT
TZNAME:CEST
TZOFFSETFROM:+0300
TZOFFSETTO:+0200
DTSTART:19450924T030000
RDATE:19470629T030000
END:DAYLIGHT
BEGIN:STANDARD
TZNAME:CET
TZOFFSETFROM:+0100
TZOFFSETTO:+0100
DTSTART:19460101T000000
RDATE:19800101T000000
END:STANDARD
BEGIN:STANDARD
TZNAME:CET
TZOFFSETFROM:+0200
TZOFFSETTO:+0100
DTSTART:19471005T030000
RRULE:FREQ=YEARLY;UNTIL=19491002T010000Z;BYMONTH=10;BYDAY=1SU
END:STANDARD
BEGIN:STANDARD
TZNAME:CET
TZOFFSETFROM:+0200
TZOFFSETTO:+0100
DTSTART:19800928T030000
RRULE:FREQ=YEARLY;UNTIL=19950924T010000Z;BYMONTH=9;BYDAY=-1SU
END:STANDARD
BEGIN:DAYLIGHT
TZNAME:CEST
TZOFFSETFROM:+0100
TZOFFSETTO:+0200
DTSTART:19810329T020000
RRULE:FREQ=YEARLY;BYMONTH=3;BYDAY=-1SU
END:DAYLIGHT
BEGIN:STANDARD
TZNAME:CET
TZOFFSETFROM:+0200
TZOFFSETTO:+0100
DTSTART:19961027T030000
RRULE:FREQ=YEARLY;BYMONTH=10;BYDAY=-1SU
END:STANDARD
END:VTIMEZONE
BEGIN:VEVENT
DTSTAMP:20260421T053831Z
DTSTART;TZID=Europe/Berlin:20220410T143000
DTEND;TZID=Europe/Berlin:20220410T153000
SUMMARY:Bezirksliga mJE - 1 SG MoGoNo Leipzig vs NHV Concordia Delitzsch (19111)
UID:9efadd40-4ac1-48e9-9494-b2247bae077c
STATUS:CONFIRMED
LAST-MODIFIED:20220413T182040Z
DESCRIPTION:Bezirksliga männliche Jugend E (Staffel 1)\nBegegnungs-Nr: 19111\nHeim: SG MoGoNo Leipzig\nGast: NHV Concordia Delitzsch\nHalle: SH Kästner-Grundschule Leipzig (31131)\nAdresse: Erfurter Str\, 04155 Leipzig\n
LOCATION:SH Kästner-Grundschule Leipzig (31131): Erfurter Str\, 04155 Leipzig
CATEGORIES:Saison 2021/22
END:VEVENT
BEGIN:VEVENT
DTSTAMP:20260421T053831Z
DTSTART;TZID=Europe/Berlin:20211106T100000
DTEND;TZID=Europe/Berlin:20211106T110000
SUMMARY:Bezirksliga mJE - 1 SG MoGoNo Leipzig vs TSG 1861 Taucha (19109)
UID:7befd775-2364-406e-8c92-81d0491a26b7
STATUS:CONFIRMED
LAST-MODIFIED:20211108T092042Z
DESCRIPTION:Bezirksliga männliche Jugend E (Staffel 1)\nBegegnungs-Nr: 19109\nHeim: SG MoGoNo Leipzig\nGast: TSG 1861 Taucha\nHalle: SH Kästner-Grundschule Leipzig (31131)\nAdresse: Erfurter Str\, 04155 Leipzig\n
LOCATION:SH Kästner-Grundschule Leipzig (31131): Erfurter Str\, 04155 Leipzig
CATEGORIES:Saison 2021/22
END:VEVENT
BEGIN:VEVENT
DTSTAMP:20260421T053831Z
DTSTART;TZID=Europe/Berlin:20211010T104500
DTEND;TZID=Europe/Berlin:20211010T114500
SUMMARY:Bezirksliga mJE - 1 SG MoGoNo Leipzig vs HSG Neudorf/Döbeln (19106)
UID:9d5acc3e-2559-46a0-a448-9500fa88dd14
STATUS:CONFIRMED
LAST-MODIFIED:20211010T192944Z
DESCRIPTION:Bezirksliga männliche Jugend E (Staffel 1)\nBegegnungs-Nr: 19106\nHeim: SG MoGoNo Leipzig\nGast: HSG Neudorf/Döbeln\nHalle: SH Kästner-Grundschule Leipzig (31131)\nAdresse: Erfurter Str\, 04155 Leipzig\n
LOCATION:SH Kästner-Grundschule Leipzig (31131): Erfurter Str\, 04155 Leipzig
CATEGORIES:Saison 2021/22
END:VEVENT
BEGIN:VEVENT
DTSTAMP:20260421T053831Z
DTSTART;TZID=Europe/Berlin:20220320T100000
DTEND;TZID=Europe/Berlin:20220320T110000
SUMMARY:Bezirksliga mJE - 1 SG MoGoNo Leipzig vs SC DHfK Leipzig (19120)
UID:1f669665-ea1b-47f5-a081-579c293f6965
STATUS:CONFIRMED
LAST-MODIFIED:20220321T093801Z
DESCRIPTION:Bezirksliga männliche Jugend E (Staffel 1)\nBegegnungs-Nr: 19120\nHeim: SG MoGoNo Leipzig\nGast: SC DHfK Leipzig\nHalle: SH Kästner-Grundschule Leipzig (31131)\nAdresse: Erfurter Str\, 04155 Leipzig\n
LOCATION:SH Kästner-Grundschule Leipzig (31131): Erfurter Str\, 04155 Leipzig
CATEGORIES:Saison 2021/22
END:VEVENT
BEGIN:VEVENT
DTSTAMP:20260421T053831Z
DTSTART;TZID=Europe/Berlin:20211002T100000
DTEND;TZID=Europe/Berlin:20211002T110000
SUMMARY:Bezirksliga mJE - 1 Turbine Leipzig vs SG MoGoNo Leipzig (19102)
UID:6632f5ed-070c-4e35-917e-77e406e791df
STATUS:CONFIRMED
LAST-MODIFIED:20211006T113008Z
DESCRIPTION:Bezirksliga männliche Jugend E (Staffel 1)\nBegegnungs-Nr: 19102\nHeim: Turbine Leipzig\nGast: SG MoGoNo Leipzig\nHalle: SH Ostwald Gymnasium Leipzig-Lößnig (31105)\nAdresse: Willi-Bredel-Str. 13\, 04279 Leipzig\n
LOCATION:SH Ostwald Gymnasium Leipzig-Lößnig (31105): Willi-Bredel-Str. 13\, 04279 Leipzig
CATEGORIES:Saison 2021/22
END:VEVENT
BEGIN:VEVENT
DTSTAMP:20260421T053831Z
DTSTART;TZID=Europe/Berlin:20220305T100000
DTEND;TZID=Europe/Berlin:20220305T110000
SUMMARY:Bezirksliga mJE - 1 HV Böhlen vs SG MoGoNo Leipzig (19114)
UID:c99f7c7b-09de-4e5c-a929-1b6515c7ac6a
STATUS:CONFIRMED
LAST-MODIFIED:20220307T112906Z
DESCRIPTION:Bezirksliga männliche Jugend E (Staffel 1)\nBegegnungs-Nr: 19114\nHeim: HV Böhlen\nGast: SG MoGoNo Leipzig\nHalle: SH Böhlen (31402)\nAdresse: Am Freibad\, 04564 Böhlen\n
LOCATION:SH Böhlen (31402): Am Freibad\, 04564 Böhlen
CATEGORIES:Saison 2021/22
END:VEVENT
END:VCALENDAR
