BEGIN:VCALENDAR
PRODID:-//nuDatenautomaten//framework iCal4j //DE
VERSION:2.0
CALSCALE:GREGORIAN
BEGIN:VTIMEZONE
TZID:Europe/Berlin
LAST-MODIFIED:20260306T231828Z
TZURL:https://www.tzurl.org/zoneinfo/Europe/Berlin
X-LIC-LOCATION:Europe/Berlin
X-PROLEPTIC-TZNAME:LMT
BEGIN:STANDARD
TZNAME:CET
TZOFFSETFROM:+005328
TZOFFSETTO:+0100
DTSTART:18930401T000000
END:STANDARD
BEGIN:DAYLIGHT
TZNAME:CEST
TZOFFSETFROM:+0100
TZOFFSETTO:+0200
DTSTART:19160430T230000
RDATE:19400401T020000
RDATE:19430329T020000
RDATE:19460414T020000
RDATE:19470406T030000
RDATE:19480418T020000
RDATE:19490410T020000
RDATE:19800406T020000
END:DAYLIGHT
BEGIN:STANDARD
TZNAME:CET
TZOFFSETFROM:+0200
TZOFFSETTO:+0100
DTSTART:19161001T010000
RDATE:19421102T030000
RDATE:19431004T030000
RDATE:19441002T030000
RDATE:19451118T030000
RDATE:19461007T030000
END:STANDARD
BEGIN:DAYLIGHT
TZNAME:CEST
TZOFFSETFROM:+0100
TZOFFSETTO:+0200
DTSTART:19170416T020000
RRULE:FREQ=YEARLY;UNTIL=19180415T010000Z;BYMONTH=4;BYDAY=3MO
END:DAYLIGHT
BEGIN:STANDARD
TZNAME:CET
TZOFFSETFROM:+0200
TZOFFSETTO:+0100
DTSTART:19170917T030000
RRULE:FREQ=YEARLY;UNTIL=19180916T010000Z;BYMONTH=9;BYDAY=3MO
END:STANDARD
BEGIN:DAYLIGHT
TZNAME:CEST
TZOFFSETFROM:+0100
TZOFFSETTO:+0200
DTSTART:19440403T020000
RRULE:FREQ=YEARLY;UNTIL=19450402T010000Z;BYMONTH=4;BYDAY=1MO
END:DAYLIGHT
BEGIN:DAYLIGHT
TZNAME:CEMT
TZOFFSETFROM:+0200
TZOFFSETTO:+0300
DTSTART:19450524T020000
RDATE:19470511T030000
END:DAYLIGHT
BEGIN:DAYLIGHT
TZNAME:CEST
TZOFFSETFROM:+0300
TZOFFSETTO:+0200
DTSTART:19450924T030000
RDATE:19470629T030000
END:DAYLIGHT
BEGIN:STANDARD
TZNAME:CET
TZOFFSETFROM:+0100
TZOFFSETTO:+0100
DTSTART:19460101T000000
RDATE:19800101T000000
END:STANDARD
BEGIN:STANDARD
TZNAME:CET
TZOFFSETFROM:+0200
TZOFFSETTO:+0100
DTSTART:19471005T030000
RRULE:FREQ=YEARLY;UNTIL=19491002T010000Z;BYMONTH=10;BYDAY=1SU
END:STANDARD
BEGIN:STANDARD
TZNAME:CET
TZOFFSETFROM:+0200
TZOFFSETTO:+0100
DTSTART:19800928T030000
RRULE:FREQ=YEARLY;UNTIL=19950924T010000Z;BYMONTH=9;BYDAY=-1SU
END:STANDARD
BEGIN:DAYLIGHT
TZNAME:CEST
TZOFFSETFROM:+0100
TZOFFSETTO:+0200
DTSTART:19810329T020000
RRULE:FREQ=YEARLY;BYMONTH=3;BYDAY=-1SU
END:DAYLIGHT
BEGIN:STANDARD
TZNAME:CET
TZOFFSETFROM:+0200
TZOFFSETTO:+0100
DTSTART:19961027T030000
RRULE:FREQ=YEARLY;BYMONTH=10;BYDAY=-1SU
END:STANDARD
END:VTIMEZONE
BEGIN:VEVENT
DTSTAMP:20260425T163020Z
DTSTART;TZID=Europe/Berlin:20211017T150000
DTEND;TZID=Europe/Berlin:20211017T163000
SUMMARY:BLF SHV Oschatz vs SF 01 Dresden II (2013)
UID:3c0cda13-c7eb-412e-a122-3c9dcd4a5612
STATUS:CONFIRMED
LAST-MODIFIED:20211020T152743Z
DESCRIPTION:BezLiga SM Frauen\nBegegnungs-Nr: 2013\nHeim: SHV Oschatz\nGast: SF 01 Dresden II\nHalle: Rosental-SH Oschatz (31604)\nAdresse: Berufsschulstraße 8\, 04758 Oschatz\n
LOCATION:Rosental-SH Oschatz (31604): Berufsschulstraße 8\, 04758 Oschatz
CATEGORIES:Saison 2021/22
END:VEVENT
BEGIN:VEVENT
DTSTAMP:20260425T163020Z
DTSTART;TZID=Europe/Berlin:20220515T120000
DTEND;TZID=Europe/Berlin:20220515T133000
SUMMARY:BLF SHV Oschatz vs SSV Heidenau  II (2087)
UID:20137fb8-a41f-4c1c-b999-8dc4457a13d0
STATUS:CONFIRMED
LAST-MODIFIED:20220510T132133Z
DESCRIPTION:BezLiga SM Frauen\nBegegnungs-Nr: 2087\nHeim: SHV Oschatz\nGast: SSV Heidenau  II\nHalle: Rosental-SH Oschatz (31604)\nAdresse: Berufsschulstraße 8\, 04758 Oschatz\n
LOCATION:Rosental-SH Oschatz (31604): Berufsschulstraße 8\, 04758 Oschatz
CATEGORIES:Saison 2021/22
END:VEVENT
BEGIN:VEVENT
DTSTAMP:20260425T163020Z
DTSTART;TZID=Europe/Berlin:20220408T190000
DTEND;TZID=Europe/Berlin:20220408T203000
SUMMARY:BLF SHV Oschatz vs SG Meißen/Riesa III (2003)
UID:48800d0a-f4e1-4fad-afa7-2bfacffbcef7
STATUS:CONFIRMED
LAST-MODIFIED:20220409T164402Z
DESCRIPTION:BezLiga SM Frauen\nBegegnungs-Nr: 2003\nHeim: SHV Oschatz\nGast: SG Meißen/Riesa III\nHalle: Rosental-SH Oschatz (31604)\nAdresse: Berufsschulstraße 8\, 04758 Oschatz\n
LOCATION:Rosental-SH Oschatz (31604): Berufsschulstraße 8\, 04758 Oschatz
CATEGORIES:Saison 2021/22
END:VEVENT
BEGIN:VEVENT
DTSTAMP:20260425T163020Z
DTSTART;TZID=Europe/Berlin:20220403T150000
DTEND;TZID=Europe/Berlin:20220403T163000
SUMMARY:BLF SHV Oschatz vs HSV Weinböhla II (2072)
UID:181d49ed-c515-4843-8c73-5033c54d02fb
STATUS:CONFIRMED
LAST-MODIFIED:20220409T164259Z
DESCRIPTION:BezLiga SM Frauen\nBegegnungs-Nr: 2072\nHeim: SHV Oschatz\nGast: HSV Weinböhla II\nHalle: Rosental-SH Oschatz (31604)\nAdresse: Berufsschulstraße 8\, 04758 Oschatz\n
LOCATION:Rosental-SH Oschatz (31604): Berufsschulstraße 8\, 04758 Oschatz
CATEGORIES:Saison 2021/22
END:VEVENT
BEGIN:VEVENT
DTSTAMP:20260425T163020Z
DTSTART;TZID=Europe/Berlin:20211106T140000
DTEND;TZID=Europe/Berlin:20211106T153000
SUMMARY:BLF USV TU Dresden II vs SHV Oschatz (2019)
UID:23df2a09-8d59-4c1c-9a74-60bd9844611c
STATUS:CONFIRMED
LAST-MODIFIED:20211106T150510Z
DESCRIPTION:BezLiga SM Frauen\nBegegnungs-Nr: 2019\nHeim: USV TU Dresden II\nGast: SHV Oschatz\nHalle: SH 25. Grund-/Oberschule Dresden (33117)\nAdresse: Pohlandstraße 40\, 01309 Dresden\n
LOCATION:SH 25. Grund-/Oberschule Dresden (33117): Pohlandstraße 40\, 01309 Dresden
CATEGORIES:Saison 2021/22
END:VEVENT
BEGIN:VEVENT
DTSTAMP:20260425T163020Z
DTSTART;TZID=Europe/Berlin:20211009T160000
DTEND;TZID=Europe/Berlin:20211009T173000
SUMMARY:BLF Radebeuler HV vs SHV Oschatz (2012)
UID:85dc0551-2ba9-41a0-9491-c5b4d5c2cc0f
STATUS:CONFIRMED
LAST-MODIFIED:20211010T081543Z
DESCRIPTION:BezLiga SM Frauen\nBegegnungs-Nr: 2012\nHeim: Radebeuler HV\nGast: SHV Oschatz\nHalle: Lößnitz-SH Radebeul (33204)\nAdresse: Steinbachstr. 13\, 01445 Radebeul\n
LOCATION:Lößnitz-SH Radebeul (33204): Steinbachstr. 13\, 01445 Radebeul
CATEGORIES:Saison 2021/22
END:VEVENT
BEGIN:VEVENT
DTSTAMP:20260425T163020Z
DTSTART;TZID=Europe/Berlin:20220507T160000
DTEND;TZID=Europe/Berlin:20220507T173000
SUMMARY:BLF HSG Weißeritztal vs SHV Oschatz (2083)
UID:791e60da-4f1a-40a9-9436-a08283f55be7
STATUS:CONFIRMED
LAST-MODIFIED:20220508T143830Z
DESCRIPTION:BezLiga SM Frauen\nBegegnungs-Nr: 2083\nHeim: HSG Weißeritztal\nGast: SHV Oschatz\nHalle: Saubach-SH Wilsdruff (33208)\nAdresse: Nossener Str. 21b\, 01723 Wilsdruff\n
LOCATION:Saubach-SH Wilsdruff (33208): Nossener Str. 21b\, 01723 Wilsdruff
CATEGORIES:Saison 2021/22
END:VEVENT
BEGIN:VEVENT
DTSTAMP:20260425T163020Z
DTSTART;TZID=Europe/Berlin:20211002T150000
DTEND;TZID=Europe/Berlin:20211002T163000
SUMMARY:BLF SG Klotzsche II vs SHV Oschatz (2005)
UID:2a6d3269-2395-4299-81ba-731beabcb750
STATUS:CONFIRMED
LAST-MODIFIED:20211003T064117Z
DESCRIPTION:BezLiga SM Frauen\nBegegnungs-Nr: 2005\nHeim: SG Klotzsche II\nGast: SHV Oschatz\nHalle: SH Gymnasium Klotzsche (33126)\nAdresse: Karl-Marx-Straße 44\, 01109 Dresden\n
LOCATION:SH Gymnasium Klotzsche (33126): Karl-Marx-Straße 44\, 01109 Dresden
CATEGORIES:Saison 2021/22
END:VEVENT
END:VCALENDAR
