BEGIN:VCALENDAR
PRODID:-//nuDatenautomaten//framework iCal4j //DE
VERSION:2.0
CALSCALE:GREGORIAN
BEGIN:VTIMEZONE
TZID:Europe/Berlin
LAST-MODIFIED:20260306T231828Z
TZURL:https://www.tzurl.org/zoneinfo/Europe/Berlin
X-LIC-LOCATION:Europe/Berlin
X-PROLEPTIC-TZNAME:LMT
BEGIN:STANDARD
TZNAME:CET
TZOFFSETFROM:+005328
TZOFFSETTO:+0100
DTSTART:18930401T000000
END:STANDARD
BEGIN:DAYLIGHT
TZNAME:CEST
TZOFFSETFROM:+0100
TZOFFSETTO:+0200
DTSTART:19160430T230000
RDATE:19400401T020000
RDATE:19430329T020000
RDATE:19460414T020000
RDATE:19470406T030000
RDATE:19480418T020000
RDATE:19490410T020000
RDATE:19800406T020000
END:DAYLIGHT
BEGIN:STANDARD
TZNAME:CET
TZOFFSETFROM:+0200
TZOFFSETTO:+0100
DTSTART:19161001T010000
RDATE:19421102T030000
RDATE:19431004T030000
RDATE:19441002T030000
RDATE:19451118T030000
RDATE:19461007T030000
END:STANDARD
BEGIN:DAYLIGHT
TZNAME:CEST
TZOFFSETFROM:+0100
TZOFFSETTO:+0200
DTSTART:19170416T020000
RRULE:FREQ=YEARLY;UNTIL=19180415T010000Z;BYMONTH=4;BYDAY=3MO
END:DAYLIGHT
BEGIN:STANDARD
TZNAME:CET
TZOFFSETFROM:+0200
TZOFFSETTO:+0100
DTSTART:19170917T030000
RRULE:FREQ=YEARLY;UNTIL=19180916T010000Z;BYMONTH=9;BYDAY=3MO
END:STANDARD
BEGIN:DAYLIGHT
TZNAME:CEST
TZOFFSETFROM:+0100
TZOFFSETTO:+0200
DTSTART:19440403T020000
RRULE:FREQ=YEARLY;UNTIL=19450402T010000Z;BYMONTH=4;BYDAY=1MO
END:DAYLIGHT
BEGIN:DAYLIGHT
TZNAME:CEMT
TZOFFSETFROM:+0200
TZOFFSETTO:+0300
DTSTART:19450524T020000
RDATE:19470511T030000
END:DAYLIGHT
BEGIN:DAYLIGHT
TZNAME:CEST
TZOFFSETFROM:+0300
TZOFFSETTO:+0200
DTSTART:19450924T030000
RDATE:19470629T030000
END:DAYLIGHT
BEGIN:STANDARD
TZNAME:CET
TZOFFSETFROM:+0100
TZOFFSETTO:+0100
DTSTART:19460101T000000
RDATE:19800101T000000
END:STANDARD
BEGIN:STANDARD
TZNAME:CET
TZOFFSETFROM:+0200
TZOFFSETTO:+0100
DTSTART:19471005T030000
RRULE:FREQ=YEARLY;UNTIL=19491002T010000Z;BYMONTH=10;BYDAY=1SU
END:STANDARD
BEGIN:STANDARD
TZNAME:CET
TZOFFSETFROM:+0200
TZOFFSETTO:+0100
DTSTART:19800928T030000
RRULE:FREQ=YEARLY;UNTIL=19950924T010000Z;BYMONTH=9;BYDAY=-1SU
END:STANDARD
BEGIN:DAYLIGHT
TZNAME:CEST
TZOFFSETFROM:+0100
TZOFFSETTO:+0200
DTSTART:19810329T020000
RRULE:FREQ=YEARLY;BYMONTH=3;BYDAY=-1SU
END:DAYLIGHT
BEGIN:STANDARD
TZNAME:CET
TZOFFSETFROM:+0200
TZOFFSETTO:+0100
DTSTART:19961027T030000
RRULE:FREQ=YEARLY;BYMONTH=10;BYDAY=-1SU
END:STANDARD
END:VTIMEZONE
BEGIN:VEVENT
DTSTAMP:20260422T041003Z
DTSTART;TZID=Europe/Berlin:20211009T120000
DTEND;TZID=Europe/Berlin:20211009T130000
SUMMARY:KlmJD Motor Wilsdruff  vs Kurort Hartha (7)
UID:735b110e-629e-401b-8b95-09ddbc0b05a4
STATUS:CONFIRMED
LAST-MODIFIED:20211012T153025Z
DESCRIPTION:KreisLiga DD mJD\nBegegnungs-Nr: 7\nHeim: Motor Wilsdruff \nGast: Kurort Hartha\nHalle: Sportpark Dippoldiswalde (33229)\nAdresse: Nikolai-Ostrowski-Straße 2\, 01744 Dippoldiswalde\n
LOCATION:Sportpark Dippoldiswalde (33229): Nikolai-Ostrowski-Straße 2\, 01744 Dippoldiswalde
CATEGORIES:Saison 2021/22
END:VEVENT
BEGIN:VEVENT
DTSTAMP:20260422T041003Z
DTSTART;TZID=Europe/Berlin:20220313T093000
DTEND;TZID=Europe/Berlin:20220313T103000
SUMMARY:KlmJD Motor Wilsdruff  vs Medizin Bad Gottleuba (39)
UID:a6a7938c-9593-4c98-bbec-ca2f184039ad
STATUS:CONFIRMED
LAST-MODIFIED:20220314T150112Z
DESCRIPTION:KreisLiga DD mJD\nBegegnungs-Nr: 39\nHeim: Motor Wilsdruff \nGast: Medizin Bad Gottleuba\nHalle: SH Geising (33201)\nAdresse: Lange Str. 25\, 01778 Altenberg ST Geising\n
LOCATION:SH Geising (33201): Lange Str. 25\, 01778 Altenberg ST Geising
CATEGORIES:Saison 2021/22
END:VEVENT
BEGIN:VEVENT
DTSTAMP:20260422T041003Z
DTSTART;TZID=Europe/Berlin:20211009T100000
DTEND;TZID=Europe/Berlin:20211009T110000
SUMMARY:KlmJD Motor Wilsdruff  vs NSG Dresden NordWest II (5)
UID:a4630b2f-5c30-4989-8308-861c509bdca8
STATUS:CONFIRMED
LAST-MODIFIED:20211010T075040Z
DESCRIPTION:KreisLiga DD mJD\nBegegnungs-Nr: 5\nHeim: Motor Wilsdruff \nGast: NSG Dresden NordWest II\nHalle: Sportpark Dippoldiswalde (33229)\nAdresse: Nikolai-Ostrowski-Straße 2\, 01744 Dippoldiswalde\n
LOCATION:Sportpark Dippoldiswalde (33229): Nikolai-Ostrowski-Straße 2\, 01744 Dippoldiswalde
CATEGORIES:Saison 2021/22
END:VEVENT
BEGIN:VEVENT
DTSTAMP:20260422T041003Z
DTSTART;TZID=Europe/Berlin:20211002T113000
DTEND;TZID=Europe/Berlin:20211002T123000
SUMMARY:KlmJD Motor Wilsdruff  vs Motor Dippoldiswalde (3)
UID:78600f88-89d8-48b8-96d5-9e9de1bf1d81
STATUS:CONFIRMED
LAST-MODIFIED:20211003T071758Z
DESCRIPTION:KreisLiga DD mJD\nBegegnungs-Nr: 3\nHeim: Motor Wilsdruff \nGast: Motor Dippoldiswalde\nHalle: Saubach-SH Wilsdruff (33208)\nAdresse: Nossener Str. 21b\, 01723 Wilsdruff\n
LOCATION:Saubach-SH Wilsdruff (33208): Nossener Str. 21b\, 01723 Wilsdruff
CATEGORIES:Saison 2021/22
END:VEVENT
BEGIN:VEVENT
DTSTAMP:20260422T041003Z
DTSTART;TZID=Europe/Berlin:20220424T100000
DTEND;TZID=Europe/Berlin:20220424T110000
SUMMARY:KlmJD Motor Wilsdruff  vs KJS-Club Dresden (21)
UID:33bbd3fd-36a9-4a3c-a63d-49cbc5040f69
STATUS:CONFIRMED
LAST-MODIFIED:20220425T035557Z
DESCRIPTION:KreisLiga DD mJD\nBegegnungs-Nr: 21\nHeim: Motor Wilsdruff \nGast: KJS-Club Dresden\nHalle: SH 56. Oberschule Dresden Am Trachenberg (33131)\nAdresse: Aachener Straße 10\, 01129 Dresden\n
LOCATION:SH 56. Oberschule Dresden Am Trachenberg (33131): Aachener Straße 10\, 01129 Dresden
CATEGORIES:Saison 2021/22
END:VEVENT
BEGIN:VEVENT
DTSTAMP:20260422T041003Z
DTSTART;TZID=Europe/Berlin:20220424T124000
DTEND;TZID=Europe/Berlin:20220424T134000
SUMMARY:KlmJD Motor Wilsdruff  vs SG Klotzsche (24)
UID:f0a88a09-46da-4017-adbb-1f93afcaa3c1
STATUS:CONFIRMED
LAST-MODIFIED:20220425T035900Z
DESCRIPTION:KreisLiga DD mJD\nBegegnungs-Nr: 24\nHeim: Motor Wilsdruff \nGast: SG Klotzsche\nHalle: SH 56. Oberschule Dresden Am Trachenberg (33131)\nAdresse: Aachener Straße 10\, 01129 Dresden\n
LOCATION:SH 56. Oberschule Dresden Am Trachenberg (33131): Aachener Straße 10\, 01129 Dresden
CATEGORIES:Saison 2021/22
END:VEVENT
BEGIN:VEVENT
DTSTAMP:20260422T041003Z
DTSTART;TZID=Europe/Berlin:20220313T103000
DTEND;TZID=Europe/Berlin:20220313T113000
SUMMARY:KlmJD Motor Wilsdruff  vs SG Weixdorf (40)
UID:38e51344-564a-4975-986c-c59ca64ed423
STATUS:CONFIRMED
LAST-MODIFIED:20220314T150239Z
DESCRIPTION:KreisLiga DD mJD\nBegegnungs-Nr: 40\nHeim: Motor Wilsdruff \nGast: SG Weixdorf\nHalle: SH Geising (33201)\nAdresse: Lange Str. 25\, 01778 Altenberg ST Geising\n
LOCATION:SH Geising (33201): Lange Str. 25\, 01778 Altenberg ST Geising
CATEGORIES:Saison 2021/22
END:VEVENT
BEGIN:VEVENT
DTSTAMP:20260422T041003Z
DTSTART;TZID=Europe/Berlin:20220410T090000
DTEND;TZID=Europe/Berlin:20220410T100000
SUMMARY:KlmJD Motor Dippoldiswalde vs Motor Wilsdruff  (25)
UID:0f98216a-5159-4eb4-a1ac-f1acde459bae
STATUS:CONFIRMED
LAST-MODIFIED:20220411T111545Z
DESCRIPTION:KreisLiga DD mJD\nBegegnungs-Nr: 25\nHeim: Motor Dippoldiswalde\nGast: Motor Wilsdruff \nHalle: Sportpark Dippoldiswalde (33229)\nAdresse: Nikolai-Ostrowski-Straße 2\, 01744 Dippoldiswalde\n
LOCATION:Sportpark Dippoldiswalde (33229): Nikolai-Ostrowski-Straße 2\, 01744 Dippoldiswalde
CATEGORIES:Saison 2021/22
END:VEVENT
BEGIN:VEVENT
DTSTAMP:20260422T041003Z
DTSTART;TZID=Europe/Berlin:20220305T100000
DTEND;TZID=Europe/Berlin:20220305T110000
SUMMARY:KlmJD Kurort Hartha vs Motor Wilsdruff  (35)
UID:121f9220-ebe9-4550-a673-6c3bdef4110b
STATUS:CONFIRMED
LAST-MODIFIED:20220305T202935Z
DESCRIPTION:KreisLiga DD mJD\nBegegnungs-Nr: 35\nHeim: Kurort Hartha\nGast: Motor Wilsdruff \nHalle: Saubach-SH Wilsdruff (33208)\nAdresse: Nossener Str. 21b\, 01723 Wilsdruff\n
LOCATION:Saubach-SH Wilsdruff (33208): Nossener Str. 21b\, 01723 Wilsdruff
CATEGORIES:Saison 2021/22
END:VEVENT
BEGIN:VEVENT
DTSTAMP:20260422T041003Z
DTSTART;TZID=Europe/Berlin:20211113T120000
DTEND;TZID=Europe/Berlin:20211113T130000
SUMMARY:KlmJD SG Weixdorf vs Motor Wilsdruff  (13)
UID:0295589d-0883-46ec-93d4-58843209a080
STATUS:CONFIRMED
LAST-MODIFIED:20211118T053627Z
DESCRIPTION:KreisLiga DD mJD\nBegegnungs-Nr: 13\nHeim: SG Weixdorf\nGast: Motor Wilsdruff \nHalle: SH Geising (33201)\nAdresse: Lange Str. 25\, 01778 Altenberg ST Geising\n
LOCATION:SH Geising (33201): Lange Str. 25\, 01778 Altenberg ST Geising
CATEGORIES:Saison 2021/22
END:VEVENT
BEGIN:VEVENT
DTSTAMP:20260422T041003Z
DTSTART;TZID=Europe/Berlin:20220430T102000
DTEND;TZID=Europe/Berlin:20220430T112000
SUMMARY:KlmJD SG Klotzsche vs Motor Wilsdruff  (50)
UID:49a40f85-b8dc-44f7-b62e-3989d2d4bd98
STATUS:CONFIRMED
LAST-MODIFIED:20220501T160547Z
DESCRIPTION:KreisLiga DD mJD\nBegegnungs-Nr: 50\nHeim: SG Klotzsche\nGast: Motor Wilsdruff \nHalle: SH 56. Oberschule Dresden Am Trachenberg (33131)\nAdresse: Aachener Straße 10\, 01129 Dresden\n
LOCATION:SH 56. Oberschule Dresden Am Trachenberg (33131): Aachener Straße 10\, 01129 Dresden
CATEGORIES:Saison 2021/22
END:VEVENT
BEGIN:VEVENT
DTSTAMP:20260422T041003Z
DTSTART;TZID=Europe/Berlin:20211113T130000
DTEND;TZID=Europe/Berlin:20211113T140000
SUMMARY:KlmJD Medizin Bad Gottleuba vs Motor Wilsdruff  (14)
UID:ea33ddc5-f993-47ff-b0a1-ee7a0dc3fa11
STATUS:CONFIRMED
LAST-MODIFIED:20211118T053725Z
DESCRIPTION:KreisLiga DD mJD\nBegegnungs-Nr: 14\nHeim: Medizin Bad Gottleuba\nGast: Motor Wilsdruff \nHalle: SH Geising (33201)\nAdresse: Lange Str. 25\, 01778 Altenberg ST Geising\n
LOCATION:SH Geising (33201): Lange Str. 25\, 01778 Altenberg ST Geising
CATEGORIES:Saison 2021/22
END:VEVENT
BEGIN:VEVENT
DTSTAMP:20260422T041003Z
DTSTART;TZID=Europe/Berlin:20220430T112000
DTEND;TZID=Europe/Berlin:20220430T122000
SUMMARY:KlmJD KJS-Club Dresden vs Motor Wilsdruff  (51)
UID:04ae0226-96d7-4c92-9a63-033734a25786
STATUS:CONFIRMED
LAST-MODIFIED:20220501T160629Z
DESCRIPTION:KreisLiga DD mJD\nBegegnungs-Nr: 51\nHeim: KJS-Club Dresden\nGast: Motor Wilsdruff \nHalle: SH 56. Oberschule Dresden Am Trachenberg (33131)\nAdresse: Aachener Straße 10\, 01129 Dresden\n
LOCATION:SH 56. Oberschule Dresden Am Trachenberg (33131): Aachener Straße 10\, 01129 Dresden
CATEGORIES:Saison 2021/22
END:VEVENT
BEGIN:VEVENT
DTSTAMP:20260422T041003Z
DTSTART;TZID=Europe/Berlin:20220305T124000
DTEND;TZID=Europe/Berlin:20220305T134000
SUMMARY:KlmJD NSG Dresden NordWest II vs Motor Wilsdruff  (38)
UID:dacabda9-5305-471d-942e-d8c3cfad3027
STATUS:CONFIRMED
LAST-MODIFIED:20220305T203128Z
DESCRIPTION:KreisLiga DD mJD\nBegegnungs-Nr: 38\nHeim: NSG Dresden NordWest II\nGast: Motor Wilsdruff \nHalle: Saubach-SH Wilsdruff (33208)\nAdresse: Nossener Str. 21b\, 01723 Wilsdruff\n
LOCATION:Saubach-SH Wilsdruff (33208): Nossener Str. 21b\, 01723 Wilsdruff
CATEGORIES:Saison 2021/22
END:VEVENT
END:VCALENDAR
