BEGIN:VCALENDAR
PRODID:-//nuDatenautomaten//framework iCal4j //DE
VERSION:2.0
CALSCALE:GREGORIAN
BEGIN:VTIMEZONE
TZID:Europe/Berlin
LAST-MODIFIED:20260306T231828Z
TZURL:https://www.tzurl.org/zoneinfo/Europe/Berlin
X-LIC-LOCATION:Europe/Berlin
X-PROLEPTIC-TZNAME:LMT
BEGIN:STANDARD
TZNAME:CET
TZOFFSETFROM:+005328
TZOFFSETTO:+0100
DTSTART:18930401T000000
END:STANDARD
BEGIN:DAYLIGHT
TZNAME:CEST
TZOFFSETFROM:+0100
TZOFFSETTO:+0200
DTSTART:19160430T230000
RDATE:19400401T020000
RDATE:19430329T020000
RDATE:19460414T020000
RDATE:19470406T030000
RDATE:19480418T020000
RDATE:19490410T020000
RDATE:19800406T020000
END:DAYLIGHT
BEGIN:STANDARD
TZNAME:CET
TZOFFSETFROM:+0200
TZOFFSETTO:+0100
DTSTART:19161001T010000
RDATE:19421102T030000
RDATE:19431004T030000
RDATE:19441002T030000
RDATE:19451118T030000
RDATE:19461007T030000
END:STANDARD
BEGIN:DAYLIGHT
TZNAME:CEST
TZOFFSETFROM:+0100
TZOFFSETTO:+0200
DTSTART:19170416T020000
RRULE:FREQ=YEARLY;UNTIL=19180415T010000Z;BYMONTH=4;BYDAY=3MO
END:DAYLIGHT
BEGIN:STANDARD
TZNAME:CET
TZOFFSETFROM:+0200
TZOFFSETTO:+0100
DTSTART:19170917T030000
RRULE:FREQ=YEARLY;UNTIL=19180916T010000Z;BYMONTH=9;BYDAY=3MO
END:STANDARD
BEGIN:DAYLIGHT
TZNAME:CEST
TZOFFSETFROM:+0100
TZOFFSETTO:+0200
DTSTART:19440403T020000
RRULE:FREQ=YEARLY;UNTIL=19450402T010000Z;BYMONTH=4;BYDAY=1MO
END:DAYLIGHT
BEGIN:DAYLIGHT
TZNAME:CEMT
TZOFFSETFROM:+0200
TZOFFSETTO:+0300
DTSTART:19450524T020000
RDATE:19470511T030000
END:DAYLIGHT
BEGIN:DAYLIGHT
TZNAME:CEST
TZOFFSETFROM:+0300
TZOFFSETTO:+0200
DTSTART:19450924T030000
RDATE:19470629T030000
END:DAYLIGHT
BEGIN:STANDARD
TZNAME:CET
TZOFFSETFROM:+0100
TZOFFSETTO:+0100
DTSTART:19460101T000000
RDATE:19800101T000000
END:STANDARD
BEGIN:STANDARD
TZNAME:CET
TZOFFSETFROM:+0200
TZOFFSETTO:+0100
DTSTART:19471005T030000
RRULE:FREQ=YEARLY;UNTIL=19491002T010000Z;BYMONTH=10;BYDAY=1SU
END:STANDARD
BEGIN:STANDARD
TZNAME:CET
TZOFFSETFROM:+0200
TZOFFSETTO:+0100
DTSTART:19800928T030000
RRULE:FREQ=YEARLY;UNTIL=19950924T010000Z;BYMONTH=9;BYDAY=-1SU
END:STANDARD
BEGIN:DAYLIGHT
TZNAME:CEST
TZOFFSETFROM:+0100
TZOFFSETTO:+0200
DTSTART:19810329T020000
RRULE:FREQ=YEARLY;BYMONTH=3;BYDAY=-1SU
END:DAYLIGHT
BEGIN:STANDARD
TZNAME:CET
TZOFFSETFROM:+0200
TZOFFSETTO:+0100
DTSTART:19961027T030000
RRULE:FREQ=YEARLY;BYMONTH=10;BYDAY=-1SU
END:STANDARD
END:VTIMEZONE
BEGIN:VEVENT
DTSTAMP:20260421T123737Z
DTSTART;TZID=Europe/Berlin:20211002T164500
DTEND;TZID=Europe/Berlin:20211002T174500
SUMMARY:BLmJC HC Großenhain  vs USV TU Dresden (6004)
UID:780a1f2e-328c-485d-ba4c-b6f8bd3f5645
STATUS:CONFIRMED
LAST-MODIFIED:20211004T170950Z
DESCRIPTION:BezirksLiga mJC SM\nBegegnungs-Nr: 6004\nHeim: HC Großenhain \nGast: USV TU Dresden\nHalle: Rödertal-SH (33205)\nAdresse: Am Marstall 4\, 01558 Großenhain\n
LOCATION:Rödertal-SH (33205): Am Marstall 4\, 01558 Großenhain
CATEGORIES:Saison 2021/22
END:VEVENT
BEGIN:VEVENT
DTSTAMP:20260421T123737Z
DTSTART;TZID=Europe/Berlin:20220522T140000
DTEND;TZID=Europe/Berlin:20220522T150000
SUMMARY:BLmJC HC Großenhain  vs Radebeuler HV (6061)
UID:36a35dec-e14c-4d8e-86a4-06a9e0906542
STATUS:CONFIRMED
LAST-MODIFIED:20220531T094847Z
DESCRIPTION:BezirksLiga mJC SM\nBegegnungs-Nr: 6061\nHeim: HC Großenhain \nGast: Radebeuler HV\nHalle: Rödertal-SH (33205)\nAdresse: Am Marstall 4\, 01558 Großenhain\n
LOCATION:Rödertal-SH (33205): Am Marstall 4\, 01558 Großenhain
CATEGORIES:Saison 2021/22
END:VEVENT
BEGIN:VEVENT
DTSTAMP:20260421T123737Z
DTSTART;TZID=Europe/Berlin:20220327T150000
DTEND;TZID=Europe/Berlin:20220327T160000
SUMMARY:BLmJC HC Großenhain  vs HSV Weinböhla (6011)
UID:581911b8-a65e-4bc3-8357-a9ad46f3bd24
STATUS:CONFIRMED
LAST-MODIFIED:20220328T153528Z
DESCRIPTION:BezirksLiga mJC SM\nBegegnungs-Nr: 6011\nHeim: HC Großenhain \nGast: HSV Weinböhla\nHalle: Rödertal-SH (33205)\nAdresse: Am Marstall 4\, 01558 Großenhain\n
LOCATION:Rödertal-SH (33205): Am Marstall 4\, 01558 Großenhain
CATEGORIES:Saison 2021/22
END:VEVENT
BEGIN:VEVENT
DTSTAMP:20260421T123737Z
DTSTART;TZID=Europe/Berlin:20220313T140000
DTEND;TZID=Europe/Berlin:20220313T150000
SUMMARY:BLmJC HC Großenhain  vs HC Elbflorenz 2006 II (6048)
UID:e4e9793a-4b8c-4a1a-8f79-2a36ebbc77e3
STATUS:CONFIRMED
LAST-MODIFIED:20220321T170903Z
DESCRIPTION:BezirksLiga mJC SM\nBegegnungs-Nr: 6048\nHeim: HC Großenhain \nGast: HC Elbflorenz 2006 II\nHalle: Rödertal-SH (33205)\nAdresse: Am Marstall 4\, 01558 Großenhain\n
LOCATION:Rödertal-SH (33205): Am Marstall 4\, 01558 Großenhain
CATEGORIES:Saison 2021/22
END:VEVENT
BEGIN:VEVENT
DTSTAMP:20260421T123737Z
DTSTART;TZID=Europe/Berlin:20220430T140000
DTEND;TZID=Europe/Berlin:20220430T150000
SUMMARY:BLmJC TSV Dresden-Bühlau vs HC Großenhain  (6062)
UID:bd5e0da7-885b-45ce-9c57-047943ed2fad
STATUS:CONFIRMED
LAST-MODIFIED:20220503T153017Z
DESCRIPTION:BezirksLiga mJC SM\nBegegnungs-Nr: 6062\nHeim: TSV Dresden-Bühlau\nGast: HC Großenhain \nHalle: SH Gymnasium Dresden-Bühlau (33118)\nAdresse: Quohrener Str. 12\, 01324 Dresden\n
LOCATION:SH Gymnasium Dresden-Bühlau (33118): Quohrener Str. 12\, 01324 Dresden
CATEGORIES:Saison 2021/22
END:VEVENT
BEGIN:VEVENT
DTSTAMP:20260421T123737Z
DTSTART;TZID=Europe/Berlin:20210926T100000
DTEND;TZID=Europe/Berlin:20210926T110000
SUMMARY:BLmJC NSG Dresden NordWest vs HC Großenhain  (6001)
UID:b09b2301-89f2-43b8-867d-f9d9cdfe72c2
STATUS:CONFIRMED
LAST-MODIFIED:20210928T172742Z
DESCRIPTION:BezirksLiga mJC SM\nBegegnungs-Nr: 6001\nHeim: NSG Dresden NordWest\nGast: HC Großenhain \nHalle: SH Hülße-Gymnasium Dresden (33120)\nAdresse: Hülßestraße 16\, 01237 Dresden\n
LOCATION:SH Hülße-Gymnasium Dresden (33120): Hülßestraße 16\, 01237 Dresden
CATEGORIES:Saison 2021/22
END:VEVENT
BEGIN:VEVENT
DTSTAMP:20260421T123737Z
DTSTART;TZID=Europe/Berlin:20211009T123000
DTEND;TZID=Europe/Berlin:20211009T133000
SUMMARY:BLmJC NSG RIMENI II vs HC Großenhain  (6006)
UID:c4a029d3-c062-4bea-9f00-93ad46b91883
STATUS:CONFIRMED
LAST-MODIFIED:20211010T122910Z
DESCRIPTION:BezirksLiga mJC SM\nBegegnungs-Nr: 6006\nHeim: NSG RIMENI II\nGast: HC Großenhain \nHalle: SH des Städtischen Gymnasiums Riesa (33230)\nAdresse: Robert-Schumann-Straße 2\, 01589 Riesa\n
LOCATION:SH des Städtischen Gymnasiums Riesa (33230): Robert-Schumann-Straße 2\, 01589 Riesa
CATEGORIES:Saison 2021/22
END:VEVENT
END:VCALENDAR
