BEGIN:VCALENDAR
PRODID:-//nuDatenautomaten//framework iCal4j //DE
VERSION:2.0
CALSCALE:GREGORIAN
BEGIN:VTIMEZONE
TZID:Europe/Berlin
LAST-MODIFIED:20260306T231828Z
TZURL:https://www.tzurl.org/zoneinfo/Europe/Berlin
X-LIC-LOCATION:Europe/Berlin
X-PROLEPTIC-TZNAME:LMT
BEGIN:STANDARD
TZNAME:CET
TZOFFSETFROM:+005328
TZOFFSETTO:+0100
DTSTART:18930401T000000
END:STANDARD
BEGIN:DAYLIGHT
TZNAME:CEST
TZOFFSETFROM:+0100
TZOFFSETTO:+0200
DTSTART:19160430T230000
RDATE:19400401T020000
RDATE:19430329T020000
RDATE:19460414T020000
RDATE:19470406T030000
RDATE:19480418T020000
RDATE:19490410T020000
RDATE:19800406T020000
END:DAYLIGHT
BEGIN:STANDARD
TZNAME:CET
TZOFFSETFROM:+0200
TZOFFSETTO:+0100
DTSTART:19161001T010000
RDATE:19421102T030000
RDATE:19431004T030000
RDATE:19441002T030000
RDATE:19451118T030000
RDATE:19461007T030000
END:STANDARD
BEGIN:DAYLIGHT
TZNAME:CEST
TZOFFSETFROM:+0100
TZOFFSETTO:+0200
DTSTART:19170416T020000
RRULE:FREQ=YEARLY;UNTIL=19180415T010000Z;BYMONTH=4;BYDAY=3MO
END:DAYLIGHT
BEGIN:STANDARD
TZNAME:CET
TZOFFSETFROM:+0200
TZOFFSETTO:+0100
DTSTART:19170917T030000
RRULE:FREQ=YEARLY;UNTIL=19180916T010000Z;BYMONTH=9;BYDAY=3MO
END:STANDARD
BEGIN:DAYLIGHT
TZNAME:CEST
TZOFFSETFROM:+0100
TZOFFSETTO:+0200
DTSTART:19440403T020000
RRULE:FREQ=YEARLY;UNTIL=19450402T010000Z;BYMONTH=4;BYDAY=1MO
END:DAYLIGHT
BEGIN:DAYLIGHT
TZNAME:CEMT
TZOFFSETFROM:+0200
TZOFFSETTO:+0300
DTSTART:19450524T020000
RDATE:19470511T030000
END:DAYLIGHT
BEGIN:DAYLIGHT
TZNAME:CEST
TZOFFSETFROM:+0300
TZOFFSETTO:+0200
DTSTART:19450924T030000
RDATE:19470629T030000
END:DAYLIGHT
BEGIN:STANDARD
TZNAME:CET
TZOFFSETFROM:+0100
TZOFFSETTO:+0100
DTSTART:19460101T000000
RDATE:19800101T000000
END:STANDARD
BEGIN:STANDARD
TZNAME:CET
TZOFFSETFROM:+0200
TZOFFSETTO:+0100
DTSTART:19471005T030000
RRULE:FREQ=YEARLY;UNTIL=19491002T010000Z;BYMONTH=10;BYDAY=1SU
END:STANDARD
BEGIN:STANDARD
TZNAME:CET
TZOFFSETFROM:+0200
TZOFFSETTO:+0100
DTSTART:19800928T030000
RRULE:FREQ=YEARLY;UNTIL=19950924T010000Z;BYMONTH=9;BYDAY=-1SU
END:STANDARD
BEGIN:DAYLIGHT
TZNAME:CEST
TZOFFSETFROM:+0100
TZOFFSETTO:+0200
DTSTART:19810329T020000
RRULE:FREQ=YEARLY;BYMONTH=3;BYDAY=-1SU
END:DAYLIGHT
BEGIN:STANDARD
TZNAME:CET
TZOFFSETFROM:+0200
TZOFFSETTO:+0100
DTSTART:19961027T030000
RRULE:FREQ=YEARLY;BYMONTH=10;BYDAY=-1SU
END:STANDARD
END:VTIMEZONE
BEGIN:VEVENT
DTSTAMP:20260423T191358Z
DTSTART;TZID=Europe/Berlin:20211106T140000
DTEND;TZID=Europe/Berlin:20211106T153000
SUMMARY:OSK Männer Stahl Rietschen II vs OHC Bernstadt II (2014)
UID:0034d177-29b1-47ca-90fd-32a2c72dd067
STATUS:CONFIRMED
LAST-MODIFIED:20220113T215040Z
DESCRIPTION:Ostsachsenklasse Männer\nBegegnungs-Nr: 2014\nHeim: Stahl Rietschen II\nGast: OHC Bernstadt II\nHalle: Oberlausitz-SH Rietschen (34403)\nAdresse: Am Festplatz 1\, 02956 Rietschen\n
LOCATION:Oberlausitz-SH Rietschen (34403): Am Festplatz 1\, 02956 Rietschen
CATEGORIES:Saison 2021/22
END:VEVENT
BEGIN:VEVENT
DTSTAMP:20260423T191358Z
DTSTART;TZID=Europe/Berlin:20211009T140000
DTEND;TZID=Europe/Berlin:20211009T153000
SUMMARY:OSK Männer Stahl Rietschen II vs HSV 1923 Pulsnitz II (2007)
UID:4269ef65-1c78-41d6-87a3-984c1986ba04
STATUS:CONFIRMED
LAST-MODIFIED:20211010T070230Z
DESCRIPTION:Ostsachsenklasse Männer\nBegegnungs-Nr: 2007\nHeim: Stahl Rietschen II\nGast: HSV 1923 Pulsnitz II\nHalle: Oberlausitz-SH Rietschen (34403)\nAdresse: Am Festplatz 1\, 02956 Rietschen\n
LOCATION:Oberlausitz-SH Rietschen (34403): Am Festplatz 1\, 02956 Rietschen
CATEGORIES:Saison 2021/22
END:VEVENT
BEGIN:VEVENT
DTSTAMP:20260423T191358Z
DTSTART;TZID=Europe/Berlin:20220409T140000
DTEND;TZID=Europe/Berlin:20220409T153000
SUMMARY:OSK Männer Stahl Rietschen II vs Koweg Görlitz III (2048)
UID:4062ca49-98c1-4aa8-8124-a4e05770a5dd
STATUS:CONFIRMED
LAST-MODIFIED:20220410T074138Z
DESCRIPTION:Ostsachsenklasse Männer\nBegegnungs-Nr: 2048\nHeim: Stahl Rietschen II\nGast: Koweg Görlitz III\nHalle: Oberlausitz-SH Rietschen (34403)\nAdresse: Am Festplatz 1\, 02956 Rietschen\n
LOCATION:Oberlausitz-SH Rietschen (34403): Am Festplatz 1\, 02956 Rietschen
CATEGORIES:Saison 2021/22
END:VEVENT
BEGIN:VEVENT
DTSTAMP:20260423T191358Z
DTSTART;TZID=Europe/Berlin:20220507T140000
DTEND;TZID=Europe/Berlin:20220507T153000
SUMMARY:OSK Männer Stahl Rietschen II vs SG Eibau/Zittau (2053)
UID:2f225352-ae64-481e-9f93-0cfa254dda2f
STATUS:CONFIRMED
LAST-MODIFIED:20220511T075708Z
DESCRIPTION:Ostsachsenklasse Männer\nBegegnungs-Nr: 2053\nHeim: Stahl Rietschen II\nGast: SG Eibau/Zittau\nHalle: Oberlausitz-SH Rietschen (34403)\nAdresse: Am Festplatz 1\, 02956 Rietschen\n
LOCATION:Oberlausitz-SH Rietschen (34403): Am Festplatz 1\, 02956 Rietschen
CATEGORIES:Saison 2021/22
END:VEVENT
BEGIN:VEVENT
DTSTAMP:20260423T191358Z
DTSTART;TZID=Europe/Berlin:20210925T140000
DTEND;TZID=Europe/Berlin:20210925T153000
SUMMARY:OSK Männer Stahl Rietschen II vs TBSV Neugersdorf II (2001)
UID:750e2641-53cb-4ea3-8ffb-ccdab1bdc26e
STATUS:CONFIRMED
LAST-MODIFIED:20220215T174140Z
DESCRIPTION:Ostsachsenklasse Männer\nBegegnungs-Nr: 2001\nHeim: Stahl Rietschen II\nGast: TBSV Neugersdorf II\nHalle: Oberlausitz-SH Rietschen (34403)\nAdresse: Am Festplatz 1\, 02956 Rietschen\n
LOCATION:Oberlausitz-SH Rietschen (34403): Am Festplatz 1\, 02956 Rietschen
CATEGORIES:Saison 2021/22
END:VEVENT
BEGIN:VEVENT
DTSTAMP:20260423T191358Z
DTSTART;TZID=Europe/Berlin:20220430T160000
DTEND;TZID=Europe/Berlin:20220430T173000
SUMMARY:OSK Männer LHV Hoyerswerda II vs Stahl Rietschen II (2052)
UID:424a3ded-c357-4de2-b53b-9889ee19448d
STATUS:CONFIRMED
LAST-MODIFIED:20220505T112910Z
DESCRIPTION:Ostsachsenklasse Männer\nBegegnungs-Nr: 2052\nHeim: LHV Hoyerswerda II\nGast: Stahl Rietschen II\nHalle: SH BSZ \"Konrad Zuse\" Hoyerswerda (34201)\nAdresse: Käthe-Kollwitz-Str. 5\, 02977 Hoyerswerda\n
LOCATION:SH BSZ \"Konrad Zuse\" Hoyerswerda (34201): Käthe-Kollwitz-Str. 5\, 02977 Hoyerswerda
CATEGORIES:Saison 2021/22
END:VEVENT
BEGIN:VEVENT
DTSTAMP:20260423T191358Z
DTSTART;TZID=Europe/Berlin:20211017T160000
DTEND;TZID=Europe/Berlin:20211017T173000
SUMMARY:OSK Männer BSV Görlitz vs Stahl Rietschen II (2011)
UID:593fe73c-8d3f-4f7a-88ad-f7e5d29fea1e
STATUS:CONFIRMED
LAST-MODIFIED:20211019T194056Z
DESCRIPTION:Ostsachsenklasse Männer\nBegegnungs-Nr: 2011\nHeim: BSV Görlitz\nGast: Stahl Rietschen II\nHalle: SH Rauschwalde (34301)\nAdresse: Diesterwegplatz 8\, 02827 Görlitz\n
LOCATION:SH Rauschwalde (34301): Diesterwegplatz 8\, 02827 Görlitz
CATEGORIES:Saison 2021/22
END:VEVENT
END:VCALENDAR
