BEGIN:VCALENDAR
PRODID:-//nuDatenautomaten//framework iCal4j //DE
VERSION:2.0
CALSCALE:GREGORIAN
BEGIN:VTIMEZONE
TZID:Europe/Berlin
LAST-MODIFIED:20260306T231828Z
TZURL:https://www.tzurl.org/zoneinfo/Europe/Berlin
X-LIC-LOCATION:Europe/Berlin
X-PROLEPTIC-TZNAME:LMT
BEGIN:STANDARD
TZNAME:CET
TZOFFSETFROM:+005328
TZOFFSETTO:+0100
DTSTART:18930401T000000
END:STANDARD
BEGIN:DAYLIGHT
TZNAME:CEST
TZOFFSETFROM:+0100
TZOFFSETTO:+0200
DTSTART:19160430T230000
RDATE:19400401T020000
RDATE:19430329T020000
RDATE:19460414T020000
RDATE:19470406T030000
RDATE:19480418T020000
RDATE:19490410T020000
RDATE:19800406T020000
END:DAYLIGHT
BEGIN:STANDARD
TZNAME:CET
TZOFFSETFROM:+0200
TZOFFSETTO:+0100
DTSTART:19161001T010000
RDATE:19421102T030000
RDATE:19431004T030000
RDATE:19441002T030000
RDATE:19451118T030000
RDATE:19461007T030000
END:STANDARD
BEGIN:DAYLIGHT
TZNAME:CEST
TZOFFSETFROM:+0100
TZOFFSETTO:+0200
DTSTART:19170416T020000
RRULE:FREQ=YEARLY;UNTIL=19180415T010000Z;BYMONTH=4;BYDAY=3MO
END:DAYLIGHT
BEGIN:STANDARD
TZNAME:CET
TZOFFSETFROM:+0200
TZOFFSETTO:+0100
DTSTART:19170917T030000
RRULE:FREQ=YEARLY;UNTIL=19180916T010000Z;BYMONTH=9;BYDAY=3MO
END:STANDARD
BEGIN:DAYLIGHT
TZNAME:CEST
TZOFFSETFROM:+0100
TZOFFSETTO:+0200
DTSTART:19440403T020000
RRULE:FREQ=YEARLY;UNTIL=19450402T010000Z;BYMONTH=4;BYDAY=1MO
END:DAYLIGHT
BEGIN:DAYLIGHT
TZNAME:CEMT
TZOFFSETFROM:+0200
TZOFFSETTO:+0300
DTSTART:19450524T020000
RDATE:19470511T030000
END:DAYLIGHT
BEGIN:DAYLIGHT
TZNAME:CEST
TZOFFSETFROM:+0300
TZOFFSETTO:+0200
DTSTART:19450924T030000
RDATE:19470629T030000
END:DAYLIGHT
BEGIN:STANDARD
TZNAME:CET
TZOFFSETFROM:+0100
TZOFFSETTO:+0100
DTSTART:19460101T000000
RDATE:19800101T000000
END:STANDARD
BEGIN:STANDARD
TZNAME:CET
TZOFFSETFROM:+0200
TZOFFSETTO:+0100
DTSTART:19471005T030000
RRULE:FREQ=YEARLY;UNTIL=19491002T010000Z;BYMONTH=10;BYDAY=1SU
END:STANDARD
BEGIN:STANDARD
TZNAME:CET
TZOFFSETFROM:+0200
TZOFFSETTO:+0100
DTSTART:19800928T030000
RRULE:FREQ=YEARLY;UNTIL=19950924T010000Z;BYMONTH=9;BYDAY=-1SU
END:STANDARD
BEGIN:DAYLIGHT
TZNAME:CEST
TZOFFSETFROM:+0100
TZOFFSETTO:+0200
DTSTART:19810329T020000
RRULE:FREQ=YEARLY;BYMONTH=3;BYDAY=-1SU
END:DAYLIGHT
BEGIN:STANDARD
TZNAME:CET
TZOFFSETFROM:+0200
TZOFFSETTO:+0100
DTSTART:19961027T030000
RRULE:FREQ=YEARLY;BYMONTH=10;BYDAY=-1SU
END:STANDARD
END:VTIMEZONE
BEGIN:VEVENT
DTSTAMP:20260420T060307Z
DTSTART;TZID=Europe/Berlin:20220403T160000
DTEND;TZID=Europe/Berlin:20220403T173000
SUMMARY:OSK Männer BSV Görlitz vs HSV 1923 Pulsnitz II (2045)
UID:35ffa1e9-105a-4310-9558-47699d5fc507
STATUS:CONFIRMED
LAST-MODIFIED:20220404T184128Z
DESCRIPTION:Ostsachsenklasse Männer\nBegegnungs-Nr: 2045\nHeim: BSV Görlitz\nGast: HSV 1923 Pulsnitz II\nHalle: SH Rauschwalde (34301)\nAdresse: Diesterwegplatz 8\, 02827 Görlitz\n
LOCATION:SH Rauschwalde (34301): Diesterwegplatz 8\, 02827 Görlitz
CATEGORIES:Saison 2021/22
END:VEVENT
BEGIN:VEVENT
DTSTAMP:20260420T060307Z
DTSTART;TZID=Europe/Berlin:20211003T160000
DTEND;TZID=Europe/Berlin:20211003T173000
SUMMARY:OSK Männer BSV Görlitz vs LHV Hoyerswerda II (2005)
UID:13ff6340-c5d2-4ef8-a3c6-44f9f196bb43
STATUS:CONFIRMED
LAST-MODIFIED:20211010T070044Z
DESCRIPTION:Ostsachsenklasse Männer\nBegegnungs-Nr: 2005\nHeim: BSV Görlitz\nGast: LHV Hoyerswerda II\nHalle: SH Rauschwalde (34301)\nAdresse: Diesterwegplatz 8\, 02827 Görlitz\n
LOCATION:SH Rauschwalde (34301): Diesterwegplatz 8\, 02827 Görlitz
CATEGORIES:Saison 2021/22
END:VEVENT
BEGIN:VEVENT
DTSTAMP:20260420T060307Z
DTSTART;TZID=Europe/Berlin:20211017T160000
DTEND;TZID=Europe/Berlin:20211017T173000
SUMMARY:OSK Männer BSV Görlitz vs Stahl Rietschen II (2011)
UID:593fe73c-8d3f-4f7a-88ad-f7e5d29fea1e
STATUS:CONFIRMED
LAST-MODIFIED:20211019T194056Z
DESCRIPTION:Ostsachsenklasse Männer\nBegegnungs-Nr: 2011\nHeim: BSV Görlitz\nGast: Stahl Rietschen II\nHalle: SH Rauschwalde (34301)\nAdresse: Diesterwegplatz 8\, 02827 Görlitz\n
LOCATION:SH Rauschwalde (34301): Diesterwegplatz 8\, 02827 Görlitz
CATEGORIES:Saison 2021/22
END:VEVENT
BEGIN:VEVENT
DTSTAMP:20260420T060307Z
DTSTART;TZID=Europe/Berlin:20211009T180000
DTEND;TZID=Europe/Berlin:20211009T193000
SUMMARY:OSK Männer SG Eibau/Zittau vs BSV Görlitz (2008)
UID:72812a70-39cf-49fe-904a-407afe6beff0
STATUS:CONFIRMED
LAST-MODIFIED:20211010T070428Z
DESCRIPTION:Ostsachsenklasse Männer\nBegegnungs-Nr: 2008\nHeim: SG Eibau/Zittau\nGast: BSV Görlitz\nHalle: SH Zittau (34107)\nAdresse: Lisa - Tetzner - Str.\, 02763 Zittau\n
LOCATION:SH Zittau (34107): Lisa - Tetzner - Str.\, 02763 Zittau
CATEGORIES:Saison 2021/22
END:VEVENT
BEGIN:VEVENT
DTSTAMP:20260420T060307Z
DTSTART;TZID=Europe/Berlin:20211106T140000
DTEND;TZID=Europe/Berlin:20211106T153000
SUMMARY:OSK Männer TBSV Neugersdorf II vs BSV Görlitz (2013)
UID:256fb1d6-6f8f-4479-8d86-4aa1c9005156
STATUS:CONFIRMED
LAST-MODIFIED:20220215T174140Z
DESCRIPTION:Ostsachsenklasse Männer\nBegegnungs-Nr: 2013\nHeim: TBSV Neugersdorf II\nGast: BSV Görlitz\nHalle: FSZ Oberland \"Albert Schweitzer\" (34112)\nAdresse: Friedrich-Ebert-Str.27\, 02730 Ebersbach-Neugersdorf\n
LOCATION:FSZ Oberland \"Albert Schweitzer\" (34112): Friedrich-Ebert-Str.27\, 02730 Ebersbach-Neugersdorf
CATEGORIES:Saison 2021/22
END:VEVENT
BEGIN:VEVENT
DTSTAMP:20260420T060307Z
DTSTART;TZID=Europe/Berlin:20220430T140000
DTEND;TZID=Europe/Berlin:20220430T153000
SUMMARY:OSK Männer OHC Bernstadt II vs BSV Görlitz (2050)
UID:9e49bc25-dbfc-4f5b-ad1d-01644501fb3c
STATUS:CONFIRMED
LAST-MODIFIED:20220505T112656Z
DESCRIPTION:Ostsachsenklasse Männer\nBegegnungs-Nr: 2050\nHeim: OHC Bernstadt II\nGast: BSV Görlitz\nHalle: Sporthalle \"Pließnitztal\" Bernstadt (34108)\nAdresse: Am Pließnitztal 3\, 02748 Bernstadt a.d. Eigen OT Kunnersdorf\n
LOCATION:Sporthalle \"Pließnitztal\" Bernstadt (34108): Am Pließnitztal 3\, 02748 Bernstadt a.d. Eigen OT Kunnersdorf
CATEGORIES:Saison 2021/22
END:VEVENT
BEGIN:VEVENT
DTSTAMP:20260420T060307Z
DTSTART;TZID=Europe/Berlin:20210925T160000
DTEND;TZID=Europe/Berlin:20210925T173000
SUMMARY:OSK Männer Koweg Görlitz III vs BSV Görlitz (2003)
UID:b314bed0-3ee9-4834-8a60-474918856d9f
STATUS:CONFIRMED
LAST-MODIFIED:20211002T082214Z
DESCRIPTION:Ostsachsenklasse Männer\nBegegnungs-Nr: 2003\nHeim: Koweg Görlitz III\nGast: BSV Görlitz\nHalle: SH Rauschwalde (34301)\nAdresse: Diesterwegplatz 8\, 02827 Görlitz\n
LOCATION:SH Rauschwalde (34301): Diesterwegplatz 8\, 02827 Görlitz
CATEGORIES:Saison 2021/22
END:VEVENT
END:VCALENDAR
