BEGIN:VCALENDAR
PRODID:-//nuDatenautomaten//framework iCal4j //DE
VERSION:2.0
CALSCALE:GREGORIAN
BEGIN:VTIMEZONE
TZID:Europe/Berlin
LAST-MODIFIED:20260306T231828Z
TZURL:https://www.tzurl.org/zoneinfo/Europe/Berlin
X-LIC-LOCATION:Europe/Berlin
X-PROLEPTIC-TZNAME:LMT
BEGIN:STANDARD
TZNAME:CET
TZOFFSETFROM:+005328
TZOFFSETTO:+0100
DTSTART:18930401T000000
END:STANDARD
BEGIN:DAYLIGHT
TZNAME:CEST
TZOFFSETFROM:+0100
TZOFFSETTO:+0200
DTSTART:19160430T230000
RDATE:19400401T020000
RDATE:19430329T020000
RDATE:19460414T020000
RDATE:19470406T030000
RDATE:19480418T020000
RDATE:19490410T020000
RDATE:19800406T020000
END:DAYLIGHT
BEGIN:STANDARD
TZNAME:CET
TZOFFSETFROM:+0200
TZOFFSETTO:+0100
DTSTART:19161001T010000
RDATE:19421102T030000
RDATE:19431004T030000
RDATE:19441002T030000
RDATE:19451118T030000
RDATE:19461007T030000
END:STANDARD
BEGIN:DAYLIGHT
TZNAME:CEST
TZOFFSETFROM:+0100
TZOFFSETTO:+0200
DTSTART:19170416T020000
RRULE:FREQ=YEARLY;UNTIL=19180415T010000Z;BYMONTH=4;BYDAY=3MO
END:DAYLIGHT
BEGIN:STANDARD
TZNAME:CET
TZOFFSETFROM:+0200
TZOFFSETTO:+0100
DTSTART:19170917T030000
RRULE:FREQ=YEARLY;UNTIL=19180916T010000Z;BYMONTH=9;BYDAY=3MO
END:STANDARD
BEGIN:DAYLIGHT
TZNAME:CEST
TZOFFSETFROM:+0100
TZOFFSETTO:+0200
DTSTART:19440403T020000
RRULE:FREQ=YEARLY;UNTIL=19450402T010000Z;BYMONTH=4;BYDAY=1MO
END:DAYLIGHT
BEGIN:DAYLIGHT
TZNAME:CEMT
TZOFFSETFROM:+0200
TZOFFSETTO:+0300
DTSTART:19450524T020000
RDATE:19470511T030000
END:DAYLIGHT
BEGIN:DAYLIGHT
TZNAME:CEST
TZOFFSETFROM:+0300
TZOFFSETTO:+0200
DTSTART:19450924T030000
RDATE:19470629T030000
END:DAYLIGHT
BEGIN:STANDARD
TZNAME:CET
TZOFFSETFROM:+0100
TZOFFSETTO:+0100
DTSTART:19460101T000000
RDATE:19800101T000000
END:STANDARD
BEGIN:STANDARD
TZNAME:CET
TZOFFSETFROM:+0200
TZOFFSETTO:+0100
DTSTART:19471005T030000
RRULE:FREQ=YEARLY;UNTIL=19491002T010000Z;BYMONTH=10;BYDAY=1SU
END:STANDARD
BEGIN:STANDARD
TZNAME:CET
TZOFFSETFROM:+0200
TZOFFSETTO:+0100
DTSTART:19800928T030000
RRULE:FREQ=YEARLY;UNTIL=19950924T010000Z;BYMONTH=9;BYDAY=-1SU
END:STANDARD
BEGIN:DAYLIGHT
TZNAME:CEST
TZOFFSETFROM:+0100
TZOFFSETTO:+0200
DTSTART:19810329T020000
RRULE:FREQ=YEARLY;BYMONTH=3;BYDAY=-1SU
END:DAYLIGHT
BEGIN:STANDARD
TZNAME:CET
TZOFFSETFROM:+0200
TZOFFSETTO:+0100
DTSTART:19961027T030000
RRULE:FREQ=YEARLY;BYMONTH=10;BYDAY=-1SU
END:STANDARD
END:VTIMEZONE
BEGIN:VEVENT
DTSTAMP:20260421T234024Z
DTSTART;TZID=Europe/Berlin:20211009T170000
DTEND;TZID=Europe/Berlin:20211009T180000
SUMMARY:Sachsenliga mJB SC DHfK Leipzig II vs TSV Dresden-Bühlau (18005)
UID:d992dd6a-c1fc-4ead-93ea-20f3b52f0bd7
STATUS:CONFIRMED
LAST-MODIFIED:20211011T162848Z
DESCRIPTION:Sachsenliga männliche Jugend B\nBegegnungs-Nr: 18005\nHeim: SC DHfK Leipzig II\nGast: TSV Dresden-Bühlau\nHalle: SH Sportoberschule (31132)\nAdresse: Max -Planck-Str. 53-55\, 04105 Leipzig\n
LOCATION:SH Sportoberschule (31132): Max -Planck-Str. 53-55\, 04105 Leipzig
CATEGORIES:Saison 2021/22
END:VEVENT
BEGIN:VEVENT
DTSTAMP:20260421T234024Z
DTSTART;TZID=Europe/Berlin:20220507T160000
DTEND;TZID=Europe/Berlin:20220507T170000
SUMMARY:Sachsenliga mJB SC DHfK Leipzig II vs VfL Waldheim 54 (18048)
UID:a17f1106-c09f-4cce-a9ae-8b3ff2aa9065
STATUS:CONFIRMED
LAST-MODIFIED:20220522T135222Z
DESCRIPTION:Sachsenliga männliche Jugend B\nBegegnungs-Nr: 18048\nHeim: SC DHfK Leipzig II\nGast: VfL Waldheim 54\nHalle: Kleine ARENA Leipzig (31117)\nAdresse: Am Sportforum 1\, 04105 Leipzig\n
LOCATION:Kleine ARENA Leipzig (31117): Am Sportforum 1\, 04105 Leipzig
CATEGORIES:Saison 2021/22
END:VEVENT
BEGIN:VEVENT
DTSTAMP:20260421T234024Z
DTSTART;TZID=Europe/Berlin:20220305T120000
DTEND;TZID=Europe/Berlin:20220305T130000
SUMMARY:Sachsenliga mJB SC DHfK Leipzig II vs LHV Hoyerswerda (18015)
UID:8c2e6597-20e2-4f66-8987-83fa6d70082f
STATUS:CONFIRMED
LAST-MODIFIED:20220309T153022Z
DESCRIPTION:Sachsenliga männliche Jugend B\nBegegnungs-Nr: 18015\nHeim: SC DHfK Leipzig II\nGast: LHV Hoyerswerda\nHalle: Kleine ARENA Leipzig (31117)\nAdresse: Am Sportforum 1\, 04105 Leipzig\n
LOCATION:Kleine ARENA Leipzig (31117): Am Sportforum 1\, 04105 Leipzig
CATEGORIES:Saison 2021/22
END:VEVENT
BEGIN:VEVENT
DTSTAMP:20260421T234024Z
DTSTART;TZID=Europe/Berlin:20220319T160000
DTEND;TZID=Europe/Berlin:20220319T170000
SUMMARY:Sachsenliga mJB SC DHfK Leipzig II vs HSV Weinböhla (18026)
UID:685a3d4e-555d-4316-9dd7-97e05487f0de
STATUS:CONFIRMED
LAST-MODIFIED:20220407T073819Z
DESCRIPTION:Sachsenliga männliche Jugend B\nBegegnungs-Nr: 18026\nHeim: SC DHfK Leipzig II\nGast: HSV Weinböhla\nHalle: Kleine ARENA Leipzig (31117)\nAdresse: Am Sportforum 1\, 04105 Leipzig\n
LOCATION:Kleine ARENA Leipzig (31117): Am Sportforum 1\, 04105 Leipzig
CATEGORIES:Saison 2021/22
END:VEVENT
BEGIN:VEVENT
DTSTAMP:20260421T234024Z
DTSTART;TZID=Europe/Berlin:20220403T120000
DTEND;TZID=Europe/Berlin:20220403T130000
SUMMARY:Sachsenliga mJB SC DHfK Leipzig II vs HSG Freiberg (18037)
UID:b5bb2256-1303-4ed8-9454-52eba28a2a35
STATUS:CONFIRMED
LAST-MODIFIED:20220407T075652Z
DESCRIPTION:Sachsenliga männliche Jugend B\nBegegnungs-Nr: 18037\nHeim: SC DHfK Leipzig II\nGast: HSG Freiberg\nHalle: SH Sportoberschule (31132)\nAdresse: Max -Planck-Str. 53-55\, 04105 Leipzig\n
LOCATION:SH Sportoberschule (31132): Max -Planck-Str. 53-55\, 04105 Leipzig
CATEGORIES:Saison 2021/22
END:VEVENT
BEGIN:VEVENT
DTSTAMP:20260421T234024Z
DTSTART;TZID=Europe/Berlin:20220514T120000
DTEND;TZID=Europe/Berlin:20220514T130000
SUMMARY:Sachsenliga mJB NSG ZHC/Werdau vs SC DHfK Leipzig II (18050)
UID:c125e598-aca8-45c1-993c-9aa557d882f6
STATUS:CONFIRMED
LAST-MODIFIED:20220522T135256Z
DESCRIPTION:Sachsenliga männliche Jugend B\nBegegnungs-Nr: 18050\nHeim: NSG ZHC/Werdau\nGast: SC DHfK Leipzig II\nHalle: SH Zwickau-Neuplanitz (32501)\nAdresse: Dortmunder Str. 7a\, 08062 Zwickau\n
LOCATION:SH Zwickau-Neuplanitz (32501): Dortmunder Str. 7a\, 08062 Zwickau
CATEGORIES:Saison 2021/22
END:VEVENT
BEGIN:VEVENT
DTSTAMP:20260421T234024Z
DTSTART;TZID=Europe/Berlin:20220326T170000
DTEND;TZID=Europe/Berlin:20220326T180000
SUMMARY:Sachsenliga mJB SG LVB vs SC DHfK Leipzig II (18032)
UID:26d635ef-5fe2-4ff7-a0a9-805262c5cd1f
STATUS:CONFIRMED
LAST-MODIFIED:20220407T075109Z
DESCRIPTION:Sachsenliga männliche Jugend B\nBegegnungs-Nr: 18032\nHeim: SG LVB\nGast: SC DHfK Leipzig II\nHalle: SH am Grünen Gleis (31134)\nAdresse: Baumannstraße 13\, 04229 Leipzig\n
LOCATION:SH am Grünen Gleis (31134): Baumannstraße 13\, 04229 Leipzig
CATEGORIES:Saison 2021/22
END:VEVENT
BEGIN:VEVENT
DTSTAMP:20260421T234024Z
DTSTART;TZID=Europe/Berlin:20220312T123000
DTEND;TZID=Europe/Berlin:20220312T133000
SUMMARY:Sachsenliga mJB HSV Dresden vs SC DHfK Leipzig II (18023)
UID:39d41485-bc3f-4f4f-bba7-2f25180c083b
STATUS:CONFIRMED
LAST-MODIFIED:20220407T071646Z
DESCRIPTION:Sachsenliga männliche Jugend B\nBegegnungs-Nr: 18023\nHeim: HSV Dresden\nGast: SC DHfK Leipzig II\nHalle: SH 121. Oberschule Dresden (33102)\nAdresse: Gamigstraße 28/30\, 01239 Dresden\n
LOCATION:SH 121. Oberschule Dresden (33102): Gamigstraße 28/30\, 01239 Dresden
CATEGORIES:Saison 2021/22
END:VEVENT
BEGIN:VEVENT
DTSTAMP:20260421T234024Z
DTSTART;TZID=Europe/Berlin:20211106T123000
DTEND;TZID=Europe/Berlin:20211106T133000
SUMMARY:Sachsenliga mJB Radeberger SV vs SC DHfK Leipzig II (18004)
UID:3f460ba6-4105-4dab-a774-a40f7895ad11
STATUS:CONFIRMED
LAST-MODIFIED:20211108T101230Z
DESCRIPTION:Sachsenliga männliche Jugend B\nBegegnungs-Nr: 18004\nHeim: Radeberger SV\nGast: SC DHfK Leipzig II\nHalle: 3-Feld-Halle-BSZ Radeberg (34209)\nAdresse: Robert-Blum-Weg 5\, 01454 Radeberg\n
LOCATION:3-Feld-Halle-BSZ Radeberg (34209): Robert-Blum-Weg 5\, 01454 Radeberg
CATEGORIES:Saison 2021/22
END:VEVENT
BEGIN:VEVENT
DTSTAMP:20260421T234024Z
DTSTART;TZID=Europe/Berlin:20220414T173000
DTEND;TZID=Europe/Berlin:20220414T183000
SUMMARY:Sachsenliga mJB HC Elbflorenz 2006 II vs SC DHfK Leipzig II (18041)
UID:410aa04e-24f3-4b1a-916c-eac73a43fb37
STATUS:CONFIRMED
LAST-MODIFIED:20220501T091052Z
DESCRIPTION:Sachsenliga männliche Jugend B\nBegegnungs-Nr: 18041\nHeim: HC Elbflorenz 2006 II\nGast: SC DHfK Leipzig II\nHalle: BallsportARENA Dresden (33133)\nAdresse: Weißeritzstraße 4\, 01067 Dresden\n
LOCATION:BallsportARENA Dresden (33133): Weißeritzstraße 4\, 01067 Dresden
CATEGORIES:Saison 2021/22
END:VEVENT
END:VCALENDAR
