BEGIN:VCALENDAR
PRODID:-//nuDatenautomaten//framework iCal4j //DE
VERSION:2.0
CALSCALE:GREGORIAN
BEGIN:VTIMEZONE
TZID:Europe/Berlin
LAST-MODIFIED:20260306T231828Z
TZURL:https://www.tzurl.org/zoneinfo/Europe/Berlin
X-LIC-LOCATION:Europe/Berlin
X-PROLEPTIC-TZNAME:LMT
BEGIN:STANDARD
TZNAME:CET
TZOFFSETFROM:+005328
TZOFFSETTO:+0100
DTSTART:18930401T000000
END:STANDARD
BEGIN:DAYLIGHT
TZNAME:CEST
TZOFFSETFROM:+0100
TZOFFSETTO:+0200
DTSTART:19160430T230000
RDATE:19400401T020000
RDATE:19430329T020000
RDATE:19460414T020000
RDATE:19470406T030000
RDATE:19480418T020000
RDATE:19490410T020000
RDATE:19800406T020000
END:DAYLIGHT
BEGIN:STANDARD
TZNAME:CET
TZOFFSETFROM:+0200
TZOFFSETTO:+0100
DTSTART:19161001T010000
RDATE:19421102T030000
RDATE:19431004T030000
RDATE:19441002T030000
RDATE:19451118T030000
RDATE:19461007T030000
END:STANDARD
BEGIN:DAYLIGHT
TZNAME:CEST
TZOFFSETFROM:+0100
TZOFFSETTO:+0200
DTSTART:19170416T020000
RRULE:FREQ=YEARLY;UNTIL=19180415T010000Z;BYMONTH=4;BYDAY=3MO
END:DAYLIGHT
BEGIN:STANDARD
TZNAME:CET
TZOFFSETFROM:+0200
TZOFFSETTO:+0100
DTSTART:19170917T030000
RRULE:FREQ=YEARLY;UNTIL=19180916T010000Z;BYMONTH=9;BYDAY=3MO
END:STANDARD
BEGIN:DAYLIGHT
TZNAME:CEST
TZOFFSETFROM:+0100
TZOFFSETTO:+0200
DTSTART:19440403T020000
RRULE:FREQ=YEARLY;UNTIL=19450402T010000Z;BYMONTH=4;BYDAY=1MO
END:DAYLIGHT
BEGIN:DAYLIGHT
TZNAME:CEMT
TZOFFSETFROM:+0200
TZOFFSETTO:+0300
DTSTART:19450524T020000
RDATE:19470511T030000
END:DAYLIGHT
BEGIN:DAYLIGHT
TZNAME:CEST
TZOFFSETFROM:+0300
TZOFFSETTO:+0200
DTSTART:19450924T030000
RDATE:19470629T030000
END:DAYLIGHT
BEGIN:STANDARD
TZNAME:CET
TZOFFSETFROM:+0100
TZOFFSETTO:+0100
DTSTART:19460101T000000
RDATE:19800101T000000
END:STANDARD
BEGIN:STANDARD
TZNAME:CET
TZOFFSETFROM:+0200
TZOFFSETTO:+0100
DTSTART:19471005T030000
RRULE:FREQ=YEARLY;UNTIL=19491002T010000Z;BYMONTH=10;BYDAY=1SU
END:STANDARD
BEGIN:STANDARD
TZNAME:CET
TZOFFSETFROM:+0200
TZOFFSETTO:+0100
DTSTART:19800928T030000
RRULE:FREQ=YEARLY;UNTIL=19950924T010000Z;BYMONTH=9;BYDAY=-1SU
END:STANDARD
BEGIN:DAYLIGHT
TZNAME:CEST
TZOFFSETFROM:+0100
TZOFFSETTO:+0200
DTSTART:19810329T020000
RRULE:FREQ=YEARLY;BYMONTH=3;BYDAY=-1SU
END:DAYLIGHT
BEGIN:STANDARD
TZNAME:CET
TZOFFSETFROM:+0200
TZOFFSETTO:+0100
DTSTART:19961027T030000
RRULE:FREQ=YEARLY;BYMONTH=10;BYDAY=-1SU
END:STANDARD
END:VTIMEZONE
BEGIN:VEVENT
DTSTAMP:20260423T232240Z
DTSTART;TZID=Europe/Berlin:20220312T110000
DTEND;TZID=Europe/Berlin:20220312T120000
SUMMARY:Sachsenliga wJC SSV Heidenau  vs MSV Dresden (21032)
UID:c495c8e4-1808-439b-a24f-78b6146549c8
STATUS:CONFIRMED
LAST-MODIFIED:20220315T101129Z
DESCRIPTION:Sachsenliga weibliche Jugend C\nBegegnungs-Nr: 21032\nHeim: SSV Heidenau \nGast: MSV Dresden\nHalle: SH Pestalozzi-Gymnasium Heidenau (33306)\nAdresse: Hauptstraße 37\, 01809 Heidenau\n
LOCATION:SH Pestalozzi-Gymnasium Heidenau (33306): Hauptstraße 37\, 01809 Heidenau
CATEGORIES:Saison 2021/22
END:VEVENT
BEGIN:VEVENT
DTSTAMP:20260423T232240Z
DTSTART;TZID=Europe/Berlin:20211009T110000
DTEND;TZID=Europe/Berlin:20211009T120000
SUMMARY:Sachsenliga wJC SSV Heidenau  vs MSV Dresden II (21006)
UID:0c08b4e2-cead-4921-9a56-c3a0f68958c7
STATUS:CONFIRMED
LAST-MODIFIED:20211031T170425Z
DESCRIPTION:Sachsenliga weibliche Jugend C\nBegegnungs-Nr: 21006\nHeim: SSV Heidenau \nGast: MSV Dresden II\nHalle: SH Pestalozzi-Gymnasium Heidenau (33306)\nAdresse: Hauptstraße 37\, 01809 Heidenau\n
LOCATION:SH Pestalozzi-Gymnasium Heidenau (33306): Hauptstraße 37\, 01809 Heidenau
CATEGORIES:Saison 2021/22
END:VEVENT
BEGIN:VEVENT
DTSTAMP:20260423T232240Z
DTSTART;TZID=Europe/Berlin:20211113T104500
DTEND;TZID=Europe/Berlin:20211113T114500
SUMMARY:Sachsenliga wJC SSV Heidenau  vs HC Leipzig (21019)
UID:6b305289-9c29-49e0-8208-44e25c848821
STATUS:CONFIRMED
LAST-MODIFIED:20211113T224338Z
DESCRIPTION:Sachsenliga weibliche Jugend C\nBegegnungs-Nr: 21019\nHeim: SSV Heidenau \nGast: HC Leipzig\nHalle: SH Pestalozzi-Gymnasium Heidenau (33306)\nAdresse: Hauptstraße 37\, 01809 Heidenau\n
LOCATION:SH Pestalozzi-Gymnasium Heidenau (33306): Hauptstraße 37\, 01809 Heidenau
CATEGORIES:Saison 2021/22
END:VEVENT
BEGIN:VEVENT
DTSTAMP:20260423T232240Z
DTSTART;TZID=Europe/Berlin:20220326T110000
DTEND;TZID=Europe/Berlin:20220326T120000
SUMMARY:Sachsenliga wJC SSV Heidenau  vs HSV Marienberg (21045)
UID:7b4fb283-a1f3-45e0-a95e-b280893685cb
STATUS:CONFIRMED
LAST-MODIFIED:20220403T102039Z
DESCRIPTION:Sachsenliga weibliche Jugend C\nBegegnungs-Nr: 21045\nHeim: SSV Heidenau \nGast: HSV Marienberg\nHalle: SH Pestalozzi-Gymnasium Heidenau (33306)\nAdresse: Hauptstraße 37\, 01809 Heidenau\n
LOCATION:SH Pestalozzi-Gymnasium Heidenau (33306): Hauptstraße 37\, 01809 Heidenau
CATEGORIES:Saison 2021/22
END:VEVENT
BEGIN:VEVENT
DTSTAMP:20260423T232240Z
DTSTART;TZID=Europe/Berlin:20220409T120000
DTEND;TZID=Europe/Berlin:20220409T130000
SUMMARY:Sachsenliga wJC SSV Heidenau  vs HC Rödertal  (21058)
UID:81f860ac-fb8e-4bd9-9d7e-ba5bd0090822
STATUS:CONFIRMED
LAST-MODIFIED:20220411T153843Z
DESCRIPTION:Sachsenliga weibliche Jugend C\nBegegnungs-Nr: 21058\nHeim: SSV Heidenau \nGast: HC Rödertal \nHalle: SH Pestalozzi-Gymnasium Heidenau (33306)\nAdresse: Hauptstraße 37\, 01809 Heidenau\n
LOCATION:SH Pestalozzi-Gymnasium Heidenau (33306): Hauptstraße 37\, 01809 Heidenau
CATEGORIES:Saison 2021/22
END:VEVENT
BEGIN:VEVENT
DTSTAMP:20260423T232240Z
DTSTART;TZID=Europe/Berlin:20220320T120000
DTEND;TZID=Europe/Berlin:20220320T130000
SUMMARY:Sachsenliga wJC SC Markranstädt vs SSV Heidenau  (21038)
UID:ba4a0217-0b62-44fc-87ed-733fa80f6975
STATUS:CONFIRMED
LAST-MODIFIED:20220321T125358Z
DESCRIPTION:Sachsenliga weibliche Jugend C\nBegegnungs-Nr: 21038\nHeim: SC Markranstädt\nGast: SSV Heidenau \nHalle: Sportcenter Markranstädt (31127)\nAdresse: Leipziger Str. 47\, 04420 Markranstädt\n
LOCATION:Sportcenter Markranstädt (31127): Leipziger Str. 47\, 04420 Markranstädt
CATEGORIES:Saison 2021/22
END:VEVENT
BEGIN:VEVENT
DTSTAMP:20260423T232240Z
DTSTART;TZID=Europe/Berlin:20220329T180000
DTEND;TZID=Europe/Berlin:20220329T190000
SUMMARY:Sachsenliga wJC Görlitzer HC vs SSV Heidenau  (21016)
UID:568ef744-f97d-486f-8f4a-8bdf31b94d2f
STATUS:CONFIRMED
LAST-MODIFIED:20220403T102357Z
DESCRIPTION:Sachsenliga weibliche Jugend C\nBegegnungs-Nr: 21016\nHeim: Görlitzer HC\nGast: SSV Heidenau \nHalle: SH Rauschwalde (34301)\nAdresse: Diesterwegplatz 8\, 02827 Görlitz\n
LOCATION:SH Rauschwalde (34301): Diesterwegplatz 8\, 02827 Görlitz
CATEGORIES:Saison 2021/22
END:VEVENT
BEGIN:VEVENT
DTSTAMP:20260423T232240Z
DTSTART;TZID=Europe/Berlin:20220305T120000
DTEND;TZID=Europe/Berlin:20220305T130000
SUMMARY:Sachsenliga wJC BSV Sa. Zwickau vs SSV Heidenau  (21027)
UID:75bf3499-3531-4d01-859b-1e3010f0cce1
STATUS:CONFIRMED
LAST-MODIFIED:20220309T211259Z
DESCRIPTION:Sachsenliga weibliche Jugend C\nBegegnungs-Nr: 21027\nHeim: BSV Sa. Zwickau\nGast: SSV Heidenau \nHalle: SH Zwickau-Neuplanitz (32501)\nAdresse: Dortmunder Str. 7a\, 08062 Zwickau\n
LOCATION:SH Zwickau-Neuplanitz (32501): Dortmunder Str. 7a\, 08062 Zwickau
CATEGORIES:Saison 2021/22
END:VEVENT
BEGIN:VEVENT
DTSTAMP:20260423T232240Z
DTSTART;TZID=Europe/Berlin:20220402T130000
DTEND;TZID=Europe/Berlin:20220402T140000
SUMMARY:Sachsenliga wJC VfL Meißen vs SSV Heidenau  (21049)
UID:aa3ebf55-a1c8-42bf-b082-e919e72ce56a
STATUS:CONFIRMED
LAST-MODIFIED:20220403T103153Z
DESCRIPTION:Sachsenliga weibliche Jugend C\nBegegnungs-Nr: 21049\nHeim: VfL Meißen\nGast: SSV Heidenau \nHalle: SH \"Heiliger Grund\" Meißen (33212)\nAdresse: Goethestraße 27\, 01662 Meißen\n
LOCATION:SH \"Heiliger Grund\" Meißen (33212): Goethestraße 27\, 01662 Meißen
CATEGORIES:Saison 2021/22
END:VEVENT
BEGIN:VEVENT
DTSTAMP:20260423T232240Z
DTSTART;TZID=Europe/Berlin:20220508T130000
DTEND;TZID=Europe/Berlin:20220508T140000
SUMMARY:Sachsenliga wJC SC Hoyerswerda  vs SSV Heidenau  (21060)
UID:9023f466-47e0-4781-b4dc-88d040f3a320
STATUS:CONFIRMED
LAST-MODIFIED:20220509T150459Z
DESCRIPTION:Sachsenliga weibliche Jugend C\nBegegnungs-Nr: 21060\nHeim: SC Hoyerswerda \nGast: SSV Heidenau \nHalle: VBH Arena Hoyerswerda (34202)\nAdresse: Lieselotte-Herrmann-Str. 11\, 02977 Hoyerswerda\n
LOCATION:VBH Arena Hoyerswerda (34202): Lieselotte-Herrmann-Str. 11\, 02977 Hoyerswerda
CATEGORIES:Saison 2021/22
END:VEVENT
BEGIN:VEVENT
DTSTAMP:20260423T232240Z
DTSTART;TZID=Europe/Berlin:20211007T173000
DTEND;TZID=Europe/Berlin:20211007T183000
SUMMARY:Sachsenliga wJC Radeberger SV vs SSV Heidenau  (21005)
UID:c0bd58f6-6727-4cc8-9b69-523093955bab
STATUS:CONFIRMED
LAST-MODIFIED:20211112T231857Z
DESCRIPTION:Sachsenliga weibliche Jugend C\nBegegnungs-Nr: 21005\nHeim: Radeberger SV\nGast: SSV Heidenau \nHalle: 3-Feld-Halle-BSZ Radeberg (34209)\nAdresse: Robert-Blum-Weg 5\, 01454 Radeberg\n
LOCATION:3-Feld-Halle-BSZ Radeberg (34209): Robert-Blum-Weg 5\, 01454 Radeberg
CATEGORIES:Saison 2021/22
END:VEVENT
END:VCALENDAR
