BEGIN:VCALENDAR
PRODID:-//nuDatenautomaten//framework iCal4j //DE
VERSION:2.0
CALSCALE:GREGORIAN
BEGIN:VTIMEZONE
TZID:Europe/Berlin
LAST-MODIFIED:20260306T231828Z
TZURL:https://www.tzurl.org/zoneinfo/Europe/Berlin
X-LIC-LOCATION:Europe/Berlin
X-PROLEPTIC-TZNAME:LMT
BEGIN:STANDARD
TZNAME:CET
TZOFFSETFROM:+005328
TZOFFSETTO:+0100
DTSTART:18930401T000000
END:STANDARD
BEGIN:DAYLIGHT
TZNAME:CEST
TZOFFSETFROM:+0100
TZOFFSETTO:+0200
DTSTART:19160430T230000
RDATE:19400401T020000
RDATE:19430329T020000
RDATE:19460414T020000
RDATE:19470406T030000
RDATE:19480418T020000
RDATE:19490410T020000
RDATE:19800406T020000
END:DAYLIGHT
BEGIN:STANDARD
TZNAME:CET
TZOFFSETFROM:+0200
TZOFFSETTO:+0100
DTSTART:19161001T010000
RDATE:19421102T030000
RDATE:19431004T030000
RDATE:19441002T030000
RDATE:19451118T030000
RDATE:19461007T030000
END:STANDARD
BEGIN:DAYLIGHT
TZNAME:CEST
TZOFFSETFROM:+0100
TZOFFSETTO:+0200
DTSTART:19170416T020000
RRULE:FREQ=YEARLY;UNTIL=19180415T010000Z;BYMONTH=4;BYDAY=3MO
END:DAYLIGHT
BEGIN:STANDARD
TZNAME:CET
TZOFFSETFROM:+0200
TZOFFSETTO:+0100
DTSTART:19170917T030000
RRULE:FREQ=YEARLY;UNTIL=19180916T010000Z;BYMONTH=9;BYDAY=3MO
END:STANDARD
BEGIN:DAYLIGHT
TZNAME:CEST
TZOFFSETFROM:+0100
TZOFFSETTO:+0200
DTSTART:19440403T020000
RRULE:FREQ=YEARLY;UNTIL=19450402T010000Z;BYMONTH=4;BYDAY=1MO
END:DAYLIGHT
BEGIN:DAYLIGHT
TZNAME:CEMT
TZOFFSETFROM:+0200
TZOFFSETTO:+0300
DTSTART:19450524T020000
RDATE:19470511T030000
END:DAYLIGHT
BEGIN:DAYLIGHT
TZNAME:CEST
TZOFFSETFROM:+0300
TZOFFSETTO:+0200
DTSTART:19450924T030000
RDATE:19470629T030000
END:DAYLIGHT
BEGIN:STANDARD
TZNAME:CET
TZOFFSETFROM:+0100
TZOFFSETTO:+0100
DTSTART:19460101T000000
RDATE:19800101T000000
END:STANDARD
BEGIN:STANDARD
TZNAME:CET
TZOFFSETFROM:+0200
TZOFFSETTO:+0100
DTSTART:19471005T030000
RRULE:FREQ=YEARLY;UNTIL=19491002T010000Z;BYMONTH=10;BYDAY=1SU
END:STANDARD
BEGIN:STANDARD
TZNAME:CET
TZOFFSETFROM:+0200
TZOFFSETTO:+0100
DTSTART:19800928T030000
RRULE:FREQ=YEARLY;UNTIL=19950924T010000Z;BYMONTH=9;BYDAY=-1SU
END:STANDARD
BEGIN:DAYLIGHT
TZNAME:CEST
TZOFFSETFROM:+0100
TZOFFSETTO:+0200
DTSTART:19810329T020000
RRULE:FREQ=YEARLY;BYMONTH=3;BYDAY=-1SU
END:DAYLIGHT
BEGIN:STANDARD
TZNAME:CET
TZOFFSETFROM:+0200
TZOFFSETTO:+0100
DTSTART:19961027T030000
RRULE:FREQ=YEARLY;BYMONTH=10;BYDAY=-1SU
END:STANDARD
END:VTIMEZONE
BEGIN:VEVENT
DTSTAMP:20260423T055415Z
DTSTART;TZID=Europe/Berlin:20220403T153000
DTEND;TZID=Europe/Berlin:20220403T170000
SUMMARY:Kreisliga Zwickau TSV Lichtentanne vs ESV Lok Zwickau (70)
UID:e2249140-7e22-4c44-b6a0-e453e1713859
STATUS:CONFIRMED
LAST-MODIFIED:20220409T194539Z
DESCRIPTION:Kreisliga Männer\nBegegnungs-Nr: 70\nHeim: TSV Lichtentanne\nGast: ESV Lok Zwickau\nHalle: SH am Käthe Kollwitz Gymnasium (32512)\nAdresse: Lassallestraße 1\, 08058 Zwickau\n
LOCATION:SH am Käthe Kollwitz Gymnasium (32512): Lassallestraße 1\, 08058 Zwickau
CATEGORIES:Saison 2021/22
END:VEVENT
BEGIN:VEVENT
DTSTAMP:20260423T055415Z
DTSTART;TZID=Europe/Berlin:20220410T170000
DTEND;TZID=Europe/Berlin:20220410T183000
SUMMARY:Kreisliga Zwickau TSV Lichtentanne vs ZHC Grubenlampe III (77)
UID:2de3df34-c6dc-4961-b7f6-159f3f798cfb
STATUS:CONFIRMED
LAST-MODIFIED:20220410T170504Z
DESCRIPTION:Kreisliga Männer\nBegegnungs-Nr: 77\nHeim: TSV Lichtentanne\nGast: ZHC Grubenlampe III\nHalle: SH am Käthe Kollwitz Gymnasium (32512)\nAdresse: Lassallestraße 1\, 08058 Zwickau\n
LOCATION:SH am Käthe Kollwitz Gymnasium (32512): Lassallestraße 1\, 08058 Zwickau
CATEGORIES:Saison 2021/22
END:VEVENT
BEGIN:VEVENT
DTSTAMP:20260423T055415Z
DTSTART;TZID=Europe/Berlin:20210925T181500
DTEND;TZID=Europe/Berlin:20210925T194500
SUMMARY:Kreisliga Zwickau Zwönitzer HSV II vs TSV Lichtentanne (2)
UID:8262e423-46e6-4506-9ed6-c7a2a2921719
STATUS:CONFIRMED
LAST-MODIFIED:20210926T182934Z
DESCRIPTION:Kreisliga Männer\nBegegnungs-Nr: 2\nHeim: Zwönitzer HSV II\nGast: TSV Lichtentanne\nHalle: SH Zwönitz (32301)\nAdresse: Turnhallenweg 5\, 08297 Zwönitz\n
LOCATION:SH Zwönitz (32301): Turnhallenweg 5\, 08297 Zwönitz
CATEGORIES:Saison 2021/22
END:VEVENT
BEGIN:VEVENT
DTSTAMP:20260423T055415Z
DTSTART;TZID=Europe/Berlin:20211010T140000
DTEND;TZID=Europe/Berlin:20211010T153000
SUMMARY:Kreisliga Zwickau Sachsen 90 Werdau II vs TSV Lichtentanne (10)
UID:df530a77-1836-4b84-85b6-c17879efbe29
STATUS:CONFIRMED
LAST-MODIFIED:20220316T104431Z
DESCRIPTION:Kreisliga Männer\nBegegnungs-Nr: 10\nHeim: Sachsen 90 Werdau II\nGast: TSV Lichtentanne\nHalle: SH Werdau (32508)\nAdresse: Alexander-von-Humboldt-Str. 4\, 08412 Werdau\n
LOCATION:SH Werdau (32508): Alexander-von-Humboldt-Str. 4\, 08412 Werdau
CATEGORIES:Saison 2021/22
END:VEVENT
BEGIN:VEVENT
DTSTAMP:20260423T055415Z
DTSTART;TZID=Europe/Berlin:20220319T193000
DTEND;TZID=Europe/Berlin:20220319T210000
SUMMARY:Kreisliga Zwickau TSV Zschopau vs TSV Lichtentanne (60)
UID:62b0a771-1ab0-487e-8a37-32de13c47ec9
STATUS:CONFIRMED
LAST-MODIFIED:20220321T205950Z
DESCRIPTION:Kreisliga Männer\nBegegnungs-Nr: 60\nHeim: TSV Zschopau\nGast: TSV Lichtentanne\nHalle: Sporthalle der M.A.N.-Schule Zschopau (32414)\nAdresse: An den Anlagen 19\, 09405 Zschopau\n
LOCATION:Sporthalle der M.A.N.-Schule Zschopau (32414): An den Anlagen 19\, 09405 Zschopau
CATEGORIES:Saison 2021/22
END:VEVENT
BEGIN:VEVENT
DTSTAMP:20260423T055415Z
DTSTART;TZID=Europe/Berlin:20220501T160000
DTEND;TZID=Europe/Berlin:20220501T173000
SUMMARY:Kreisliga Zwickau SV \"Tanne\" Thalheim vs TSV Lichtentanne (78)
UID:1aaaf7ef-8613-445b-a999-d75b57dc9f84
STATUS:CONFIRMED
LAST-MODIFIED:20220501T211324Z
DESCRIPTION:Kreisliga Männer\nBegegnungs-Nr: 78\nHeim: SV \"Tanne\" Thalheim\nGast: TSV Lichtentanne\nHalle: SH Burkhardtsdorf (32313)\nAdresse: Topfmarkt 15\, 09235 Burkhardtsdorf\n
LOCATION:SH Burkhardtsdorf (32313): Topfmarkt 15\, 09235 Burkhardtsdorf
CATEGORIES:Saison 2021/22
END:VEVENT
END:VCALENDAR
