BEGIN:VCALENDAR
PRODID:-//nuDatenautomaten//framework iCal4j //DE
VERSION:2.0
CALSCALE:GREGORIAN
BEGIN:VTIMEZONE
TZID:Europe/Berlin
LAST-MODIFIED:20260306T231828Z
TZURL:https://www.tzurl.org/zoneinfo/Europe/Berlin
X-LIC-LOCATION:Europe/Berlin
X-PROLEPTIC-TZNAME:LMT
BEGIN:STANDARD
TZNAME:CET
TZOFFSETFROM:+005328
TZOFFSETTO:+0100
DTSTART:18930401T000000
END:STANDARD
BEGIN:DAYLIGHT
TZNAME:CEST
TZOFFSETFROM:+0100
TZOFFSETTO:+0200
DTSTART:19160430T230000
RDATE:19400401T020000
RDATE:19430329T020000
RDATE:19460414T020000
RDATE:19470406T030000
RDATE:19480418T020000
RDATE:19490410T020000
RDATE:19800406T020000
END:DAYLIGHT
BEGIN:STANDARD
TZNAME:CET
TZOFFSETFROM:+0200
TZOFFSETTO:+0100
DTSTART:19161001T010000
RDATE:19421102T030000
RDATE:19431004T030000
RDATE:19441002T030000
RDATE:19451118T030000
RDATE:19461007T030000
END:STANDARD
BEGIN:DAYLIGHT
TZNAME:CEST
TZOFFSETFROM:+0100
TZOFFSETTO:+0200
DTSTART:19170416T020000
RRULE:FREQ=YEARLY;UNTIL=19180415T010000Z;BYMONTH=4;BYDAY=3MO
END:DAYLIGHT
BEGIN:STANDARD
TZNAME:CET
TZOFFSETFROM:+0200
TZOFFSETTO:+0100
DTSTART:19170917T030000
RRULE:FREQ=YEARLY;UNTIL=19180916T010000Z;BYMONTH=9;BYDAY=3MO
END:STANDARD
BEGIN:DAYLIGHT
TZNAME:CEST
TZOFFSETFROM:+0100
TZOFFSETTO:+0200
DTSTART:19440403T020000
RRULE:FREQ=YEARLY;UNTIL=19450402T010000Z;BYMONTH=4;BYDAY=1MO
END:DAYLIGHT
BEGIN:DAYLIGHT
TZNAME:CEMT
TZOFFSETFROM:+0200
TZOFFSETTO:+0300
DTSTART:19450524T020000
RDATE:19470511T030000
END:DAYLIGHT
BEGIN:DAYLIGHT
TZNAME:CEST
TZOFFSETFROM:+0300
TZOFFSETTO:+0200
DTSTART:19450924T030000
RDATE:19470629T030000
END:DAYLIGHT
BEGIN:STANDARD
TZNAME:CET
TZOFFSETFROM:+0100
TZOFFSETTO:+0100
DTSTART:19460101T000000
RDATE:19800101T000000
END:STANDARD
BEGIN:STANDARD
TZNAME:CET
TZOFFSETFROM:+0200
TZOFFSETTO:+0100
DTSTART:19471005T030000
RRULE:FREQ=YEARLY;UNTIL=19491002T010000Z;BYMONTH=10;BYDAY=1SU
END:STANDARD
BEGIN:STANDARD
TZNAME:CET
TZOFFSETFROM:+0200
TZOFFSETTO:+0100
DTSTART:19800928T030000
RRULE:FREQ=YEARLY;UNTIL=19950924T010000Z;BYMONTH=9;BYDAY=-1SU
END:STANDARD
BEGIN:DAYLIGHT
TZNAME:CEST
TZOFFSETFROM:+0100
TZOFFSETTO:+0200
DTSTART:19810329T020000
RRULE:FREQ=YEARLY;BYMONTH=3;BYDAY=-1SU
END:DAYLIGHT
BEGIN:STANDARD
TZNAME:CET
TZOFFSETFROM:+0200
TZOFFSETTO:+0100
DTSTART:19961027T030000
RRULE:FREQ=YEARLY;BYMONTH=10;BYDAY=-1SU
END:STANDARD
END:VTIMEZONE
BEGIN:VEVENT
DTSTAMP:20260423T110216Z
DTSTART;TZID=Europe/Berlin:20211003T104500
DTEND;TZID=Europe/Berlin:20211003T114500
SUMMARY:Sachsenliga mJD Koweg Görlitz vs HC Elbflorenz 2006 (4)
UID:5bb962fb-efb9-464d-ab1e-0d6621b1768b
STATUS:CONFIRMED
LAST-MODIFIED:20211005T072630Z
DESCRIPTION:Sachsenliga männliche Jugend D\nBegegnungs-Nr: 4\nHeim: Koweg Görlitz\nGast: HC Elbflorenz 2006\nHalle: SH Rauschwalde (34301)\nAdresse: Diesterwegplatz 8\, 02827 Görlitz\n
LOCATION:SH Rauschwalde (34301): Diesterwegplatz 8\, 02827 Görlitz
CATEGORIES:Saison 2021/22
END:VEVENT
BEGIN:VEVENT
DTSTAMP:20260423T110216Z
DTSTART;TZID=Europe/Berlin:20220403T103000
DTEND;TZID=Europe/Berlin:20220403T113000
SUMMARY:Sachsenliga mJD Koweg Görlitz vs HSV Dresden (46)
UID:be580df2-4024-4794-a4e2-c30e3af5e014
STATUS:CONFIRMED
LAST-MODIFIED:20220407T124652Z
DESCRIPTION:Sachsenliga männliche Jugend D\nBegegnungs-Nr: 46\nHeim: Koweg Görlitz\nGast: HSV Dresden\nHalle: SH Rauschwalde (34301)\nAdresse: Diesterwegplatz 8\, 02827 Görlitz\n
LOCATION:SH Rauschwalde (34301): Diesterwegplatz 8\, 02827 Görlitz
CATEGORIES:Saison 2021/22
END:VEVENT
BEGIN:VEVENT
DTSTAMP:20260423T110216Z
DTSTART;TZID=Europe/Berlin:20211107T100000
DTEND;TZID=Europe/Berlin:20211107T110000
SUMMARY:Sachsenliga mJD Koweg Görlitz vs LHV Hoyerswerda (18)
UID:769756d1-afab-43b4-9782-77e072d6f0ca
STATUS:CONFIRMED
LAST-MODIFIED:20211111T092709Z
DESCRIPTION:Sachsenliga männliche Jugend D\nBegegnungs-Nr: 18\nHeim: Koweg Görlitz\nGast: LHV Hoyerswerda\nHalle: SH Rauschwalde (34301)\nAdresse: Diesterwegplatz 8\, 02827 Görlitz\n
LOCATION:SH Rauschwalde (34301): Diesterwegplatz 8\, 02827 Görlitz
CATEGORIES:Saison 2021/22
END:VEVENT
BEGIN:VEVENT
DTSTAMP:20260423T110216Z
DTSTART;TZID=Europe/Berlin:20220508T110000
DTEND;TZID=Europe/Berlin:20220508T120000
SUMMARY:Sachsenliga mJD Koweg Görlitz vs SC DHfK Leipzig (71)
UID:ec1d9b37-cdb6-470e-961e-ea82913ffdca
STATUS:CONFIRMED
LAST-MODIFIED:20220522T140616Z
DESCRIPTION:Sachsenliga männliche Jugend D\nBegegnungs-Nr: 71\nHeim: Koweg Görlitz\nGast: SC DHfK Leipzig\nHalle: SH Rauschwalde (34301)\nAdresse: Diesterwegplatz 8\, 02827 Görlitz\n
LOCATION:SH Rauschwalde (34301): Diesterwegplatz 8\, 02827 Görlitz
CATEGORIES:Saison 2021/22
END:VEVENT
BEGIN:VEVENT
DTSTAMP:20260423T110216Z
DTSTART;TZID=Europe/Berlin:20220501T113000
DTEND;TZID=Europe/Berlin:20220501T123000
SUMMARY:Sachsenliga mJD Koweg Görlitz vs SC DHfK Leipzig II (58)
UID:b68a1638-1448-4f5b-9e8e-dc6f0ee4f84f
STATUS:CONFIRMED
LAST-MODIFIED:20220522T140249Z
DESCRIPTION:Sachsenliga männliche Jugend D\nBegegnungs-Nr: 58\nHeim: Koweg Görlitz\nGast: SC DHfK Leipzig II\nHalle: SH Rauschwalde (34301)\nAdresse: Diesterwegplatz 8\, 02827 Görlitz\n
LOCATION:SH Rauschwalde (34301): Diesterwegplatz 8\, 02827 Görlitz
CATEGORIES:Saison 2021/22
END:VEVENT
BEGIN:VEVENT
DTSTAMP:20260423T110216Z
DTSTART;TZID=Europe/Berlin:20220313T110000
DTEND;TZID=Europe/Berlin:20220313T120000
SUMMARY:Sachsenliga mJD Koweg Görlitz vs HC Buteo Chemnitz (34)
UID:1925b197-026f-4246-8a1a-ad552dfbba72
STATUS:CONFIRMED
LAST-MODIFIED:20220315T125919Z
DESCRIPTION:Sachsenliga männliche Jugend D\nBegegnungs-Nr: 34\nHeim: Koweg Görlitz\nGast: HC Buteo Chemnitz\nHalle: SH Rauschwalde (34301)\nAdresse: Diesterwegplatz 8\, 02827 Görlitz\n
LOCATION:SH Rauschwalde (34301): Diesterwegplatz 8\, 02827 Görlitz
CATEGORIES:Saison 2021/22
END:VEVENT
BEGIN:VEVENT
DTSTAMP:20260423T110216Z
DTSTART;TZID=Europe/Berlin:20211010T110000
DTEND;TZID=Europe/Berlin:20211010T120000
SUMMARY:Sachsenliga mJD NSG Gc-Mee-LO vs Koweg Görlitz (12)
UID:b98ddef2-ed11-45b7-9b06-65ef115bd42d
STATUS:CONFIRMED
LAST-MODIFIED:20211014T104949Z
DESCRIPTION:Sachsenliga männliche Jugend D\nBegegnungs-Nr: 12\nHeim: NSG Gc-Mee-LO\nGast: Koweg Görlitz\nHalle: GSH Limbach-Oberfrohna (32201)\nAdresse: Anna-Esche-Gäßchen 1\, 09212 Limbach-Oberfrohna\n
LOCATION:GSH Limbach-Oberfrohna (32201): Anna-Esche-Gäßchen 1\, 09212 Limbach-Oberfrohna
CATEGORIES:Saison 2021/22
END:VEVENT
BEGIN:VEVENT
DTSTAMP:20260423T110216Z
DTSTART;TZID=Europe/Berlin:20220319T130000
DTEND;TZID=Europe/Berlin:20220319T140000
SUMMARY:Sachsenliga mJD HC Buteo Chemnitz II vs Koweg Görlitz (41)
UID:450b886b-f808-411c-a2c9-41e5815352d0
STATUS:CONFIRMED
LAST-MODIFIED:20220329T083007Z
DESCRIPTION:Sachsenliga männliche Jugend D\nBegegnungs-Nr: 41\nHeim: HC Buteo Chemnitz II\nGast: Koweg Görlitz\nHalle: Sachsenhalle Chemnitz (32101)\nAdresse: Straße Usti nad Labem 275\, 09119 Chemnitz\n
LOCATION:Sachsenhalle Chemnitz (32101): Straße Usti nad Labem 275\, 09119 Chemnitz
CATEGORIES:Saison 2021/22
END:VEVENT
BEGIN:VEVENT
DTSTAMP:20260423T110216Z
DTSTART;TZID=Europe/Berlin:20220507T120000
DTEND;TZID=Europe/Berlin:20220507T130000
SUMMARY:Sachsenliga mJD NSG TSV/SV04/HCE vs Koweg Görlitz (65)
UID:f0b0ff85-a9e4-4907-ad59-0f1cf9c9e1fb
STATUS:CONFIRMED
LAST-MODIFIED:20220522T140525Z
DESCRIPTION:Sachsenliga männliche Jugend D\nBegegnungs-Nr: 65\nHeim: NSG TSV/SV04/HCE\nGast: Koweg Görlitz\nHalle: Dreifelder-SH am BSZ \"Anne Frank\" (32711)\nAdresse: Wieprechtstr. 11\, 08525 Plauen\n
LOCATION:Dreifelder-SH am BSZ \"Anne Frank\" (32711): Wieprechtstr. 11\, 08525 Plauen
CATEGORIES:Saison 2021/22
END:VEVENT
BEGIN:VEVENT
DTSTAMP:20260423T110216Z
DTSTART;TZID=Europe/Berlin:20220409T110000
DTEND;TZID=Europe/Berlin:20220409T120000
SUMMARY:Sachsenliga mJD NSG EHV/NH Aue vs Koweg Görlitz (49)
UID:94561ca3-398d-40cf-bd39-995bdd1e3343
STATUS:CONFIRMED
LAST-MODIFIED:20220412T085829Z
DESCRIPTION:Sachsenliga männliche Jugend D\nBegegnungs-Nr: 49\nHeim: NSG EHV/NH Aue\nGast: Koweg Görlitz\nHalle: SH Zeller Berg Aue  (32304)\nAdresse: Agricolastr. 5\, 08280 Aue\n
LOCATION:SH Zeller Berg Aue  (32304): Agricolastr. 5\, 08280 Aue
CATEGORIES:Saison 2021/22
END:VEVENT
BEGIN:VEVENT
DTSTAMP:20260423T110216Z
DTSTART;TZID=Europe/Berlin:20220306T140000
DTEND;TZID=Europe/Berlin:20220306T150000
SUMMARY:Sachsenliga mJD HC Großenhain  vs Koweg Görlitz (30)
UID:eae9ba23-2dea-44bd-a102-8f9a425ec70d
STATUS:CONFIRMED
LAST-MODIFIED:20220315T124004Z
DESCRIPTION:Sachsenliga männliche Jugend D\nBegegnungs-Nr: 30\nHeim: HC Großenhain \nGast: Koweg Görlitz\nHalle: Rödertal-SH (33205)\nAdresse: Am Marstall 4\, 01558 Großenhain\n
LOCATION:Rödertal-SH (33205): Am Marstall 4\, 01558 Großenhain
CATEGORIES:Saison 2021/22
END:VEVENT
END:VCALENDAR
