BEGIN:VCALENDAR
PRODID:-//nuDatenautomaten//framework iCal4j //DE
VERSION:2.0
CALSCALE:GREGORIAN
BEGIN:VTIMEZONE
TZID:Europe/Berlin
LAST-MODIFIED:20260306T231828Z
TZURL:https://www.tzurl.org/zoneinfo/Europe/Berlin
X-LIC-LOCATION:Europe/Berlin
X-PROLEPTIC-TZNAME:LMT
BEGIN:STANDARD
TZNAME:CET
TZOFFSETFROM:+005328
TZOFFSETTO:+0100
DTSTART:18930401T000000
END:STANDARD
BEGIN:DAYLIGHT
TZNAME:CEST
TZOFFSETFROM:+0100
TZOFFSETTO:+0200
DTSTART:19160430T230000
RDATE:19400401T020000
RDATE:19430329T020000
RDATE:19460414T020000
RDATE:19470406T030000
RDATE:19480418T020000
RDATE:19490410T020000
RDATE:19800406T020000
END:DAYLIGHT
BEGIN:STANDARD
TZNAME:CET
TZOFFSETFROM:+0200
TZOFFSETTO:+0100
DTSTART:19161001T010000
RDATE:19421102T030000
RDATE:19431004T030000
RDATE:19441002T030000
RDATE:19451118T030000
RDATE:19461007T030000
END:STANDARD
BEGIN:DAYLIGHT
TZNAME:CEST
TZOFFSETFROM:+0100
TZOFFSETTO:+0200
DTSTART:19170416T020000
RRULE:FREQ=YEARLY;UNTIL=19180415T010000Z;BYMONTH=4;BYDAY=3MO
END:DAYLIGHT
BEGIN:STANDARD
TZNAME:CET
TZOFFSETFROM:+0200
TZOFFSETTO:+0100
DTSTART:19170917T030000
RRULE:FREQ=YEARLY;UNTIL=19180916T010000Z;BYMONTH=9;BYDAY=3MO
END:STANDARD
BEGIN:DAYLIGHT
TZNAME:CEST
TZOFFSETFROM:+0100
TZOFFSETTO:+0200
DTSTART:19440403T020000
RRULE:FREQ=YEARLY;UNTIL=19450402T010000Z;BYMONTH=4;BYDAY=1MO
END:DAYLIGHT
BEGIN:DAYLIGHT
TZNAME:CEMT
TZOFFSETFROM:+0200
TZOFFSETTO:+0300
DTSTART:19450524T020000
RDATE:19470511T030000
END:DAYLIGHT
BEGIN:DAYLIGHT
TZNAME:CEST
TZOFFSETFROM:+0300
TZOFFSETTO:+0200
DTSTART:19450924T030000
RDATE:19470629T030000
END:DAYLIGHT
BEGIN:STANDARD
TZNAME:CET
TZOFFSETFROM:+0100
TZOFFSETTO:+0100
DTSTART:19460101T000000
RDATE:19800101T000000
END:STANDARD
BEGIN:STANDARD
TZNAME:CET
TZOFFSETFROM:+0200
TZOFFSETTO:+0100
DTSTART:19471005T030000
RRULE:FREQ=YEARLY;UNTIL=19491002T010000Z;BYMONTH=10;BYDAY=1SU
END:STANDARD
BEGIN:STANDARD
TZNAME:CET
TZOFFSETFROM:+0200
TZOFFSETTO:+0100
DTSTART:19800928T030000
RRULE:FREQ=YEARLY;UNTIL=19950924T010000Z;BYMONTH=9;BYDAY=-1SU
END:STANDARD
BEGIN:DAYLIGHT
TZNAME:CEST
TZOFFSETFROM:+0100
TZOFFSETTO:+0200
DTSTART:19810329T020000
RRULE:FREQ=YEARLY;BYMONTH=3;BYDAY=-1SU
END:DAYLIGHT
BEGIN:STANDARD
TZNAME:CET
TZOFFSETFROM:+0200
TZOFFSETTO:+0100
DTSTART:19961027T030000
RRULE:FREQ=YEARLY;BYMONTH=10;BYDAY=-1SU
END:STANDARD
END:VTIMEZONE
BEGIN:VEVENT
DTSTAMP:20260426T025620Z
DTSTART;TZID=Europe/Berlin:20211010T130000
DTEND;TZID=Europe/Berlin:20211010T140000
SUMMARY:Bezirksliga mB NSG Gc-Mee-LO vs NSG EHV/NH Aue III (605)
UID:e6daa7e9-bcd3-44fa-9969-a412ac01d378
STATUS:CONFIRMED
LAST-MODIFIED:20211108T143357Z
DESCRIPTION:Bezirksliga Chemnitz männl. Jugend B\nBegegnungs-Nr: 605\nHeim: NSG Gc-Mee-LO\nGast: NSG EHV/NH Aue III\nHalle: GSH Limbach-Oberfrohna (32201)\nAdresse: Anna-Esche-Gäßchen 1\, 09212 Limbach-Oberfrohna\n
LOCATION:GSH Limbach-Oberfrohna (32201): Anna-Esche-Gäßchen 1\, 09212 Limbach-Oberfrohna
CATEGORIES:Saison 2021/22
END:VEVENT
BEGIN:VEVENT
DTSTAMP:20260426T025620Z
DTSTART;TZID=Europe/Berlin:20220508T140000
DTEND;TZID=Europe/Berlin:20220508T150000
SUMMARY:Bezirksliga mB NSG Gc-Mee-LO vs Burgstädter HC (651)
UID:0d1a4895-d133-473f-81db-6081aaeabffa
STATUS:CONFIRMED
LAST-MODIFIED:20220522T073456Z
DESCRIPTION:Bezirksliga Chemnitz männl. Jugend B\nBegegnungs-Nr: 651\nHeim: NSG Gc-Mee-LO\nGast: Burgstädter HC\nHalle: SH Meerane (32202)\nAdresse: Leipziger Str. 7\, 08393 Meerane\n
LOCATION:SH Meerane (32202): Leipziger Str. 7\, 08393 Meerane
CATEGORIES:Saison 2021/22
END:VEVENT
BEGIN:VEVENT
DTSTAMP:20260426T025620Z
DTSTART;TZID=Europe/Berlin:20220312T100000
DTEND;TZID=Europe/Berlin:20220312T110000
SUMMARY:Bezirksliga mB NSG Gc-Mee-LO vs Fortschritt Mittweida (628)
UID:42d798df-0520-4a6d-9cd1-c73aa5690b4b
STATUS:CONFIRMED
LAST-MODIFIED:20220322T063846Z
DESCRIPTION:Bezirksliga Chemnitz männl. Jugend B\nBegegnungs-Nr: 628\nHeim: NSG Gc-Mee-LO\nGast: Fortschritt Mittweida\nHalle: GSH Limbach-Oberfrohna (32201)\nAdresse: Anna-Esche-Gäßchen 1\, 09212 Limbach-Oberfrohna\n
LOCATION:GSH Limbach-Oberfrohna (32201): Anna-Esche-Gäßchen 1\, 09212 Limbach-Oberfrohna
CATEGORIES:Saison 2021/22
END:VEVENT
BEGIN:VEVENT
DTSTAMP:20260426T025620Z
DTSTART;TZID=Europe/Berlin:20220305T130000
DTEND;TZID=Europe/Berlin:20220305T140000
SUMMARY:Bezirksliga mB NSG Gc-Mee-LO vs NSG TSV/SV04/HCE (637)
UID:86b91cbb-e766-4fa2-92b4-301cbb4e6295
STATUS:CONFIRMED
LAST-MODIFIED:20220312T083143Z
DESCRIPTION:Bezirksliga Chemnitz männl. Jugend B\nBegegnungs-Nr: 637\nHeim: NSG Gc-Mee-LO\nGast: NSG TSV/SV04/HCE\nHalle: GSH Limbach-Oberfrohna (32201)\nAdresse: Anna-Esche-Gäßchen 1\, 09212 Limbach-Oberfrohna\n
LOCATION:GSH Limbach-Oberfrohna (32201): Anna-Esche-Gäßchen 1\, 09212 Limbach-Oberfrohna
CATEGORIES:Saison 2021/22
END:VEVENT
BEGIN:VEVENT
DTSTAMP:20260426T025620Z
DTSTART;TZID=Europe/Berlin:20220517T180000
DTEND;TZID=Europe/Berlin:20220517T190000
SUMMARY:Bezirksliga mB Rotation Weißenborn vs NSG Gc-Mee-LO (632)
UID:ce183bb9-aff5-4b5d-a71b-b5ac730f6c2e
STATUS:CONFIRMED
LAST-MODIFIED:20220522T074236Z
DESCRIPTION:Bezirksliga Chemnitz männl. Jugend B\nBegegnungs-Nr: 632\nHeim: Rotation Weißenborn\nGast: NSG Gc-Mee-LO\nHalle: SH Schoeller Weißenborn (32415)\nAdresse: Lichtenberger Straße 8\, 09600 Weißenborn\n
LOCATION:SH Schoeller Weißenborn (32415): Lichtenberger Straße 8\, 09600 Weißenborn
CATEGORIES:Saison 2021/22
END:VEVENT
BEGIN:VEVENT
DTSTAMP:20260426T025620Z
DTSTART;TZID=Europe/Berlin:20220402T144500
DTEND;TZID=Europe/Berlin:20220402T154500
SUMMARY:Bezirksliga mB HSG Rottluff/Lok Chemnitz vs NSG Gc-Mee-LO (644)
UID:48fdc80e-2a03-4eb4-861f-703882f534cd
STATUS:CONFIRMED
LAST-MODIFIED:20220406T074634Z
DESCRIPTION:Bezirksliga Chemnitz männl. Jugend B\nBegegnungs-Nr: 644\nHeim: HSG Rottluff/Lok Chemnitz\nGast: NSG Gc-Mee-LO\nHalle: Sachsenhalle Chemnitz (32101)\nAdresse: Straße Usti nad Labem 275\, 09119 Chemnitz\n
LOCATION:Sachsenhalle Chemnitz (32101): Straße Usti nad Labem 275\, 09119 Chemnitz
CATEGORIES:Saison 2021/22
END:VEVENT
BEGIN:VEVENT
DTSTAMP:20260426T025620Z
DTSTART;TZID=Europe/Berlin:20220430T124500
DTEND;TZID=Europe/Berlin:20220430T134500
SUMMARY:Bezirksliga mB HSG Rottluff/Lok Chemnitz II vs NSG Gc-Mee-LO (649)
UID:bd4866a2-65ff-4ec8-a43a-14aa4a877505
STATUS:CONFIRMED
LAST-MODIFIED:20220522T073040Z
DESCRIPTION:Bezirksliga Chemnitz männl. Jugend B\nBegegnungs-Nr: 649\nHeim: HSG Rottluff/Lok Chemnitz II\nGast: NSG Gc-Mee-LO\nHalle: Sachsenhalle Chemnitz (32101)\nAdresse: Straße Usti nad Labem 275\, 09119 Chemnitz\n
LOCATION:Sachsenhalle Chemnitz (32101): Straße Usti nad Labem 275\, 09119 Chemnitz
CATEGORIES:Saison 2021/22
END:VEVENT
END:VCALENDAR
