BEGIN:VCALENDAR
PRODID:-//nuDatenautomaten//framework iCal4j //DE
VERSION:2.0
CALSCALE:GREGORIAN
BEGIN:VTIMEZONE
TZID:Europe/Berlin
LAST-MODIFIED:20260306T231828Z
TZURL:https://www.tzurl.org/zoneinfo/Europe/Berlin
X-LIC-LOCATION:Europe/Berlin
X-PROLEPTIC-TZNAME:LMT
BEGIN:STANDARD
TZNAME:CET
TZOFFSETFROM:+005328
TZOFFSETTO:+0100
DTSTART:18930401T000000
END:STANDARD
BEGIN:DAYLIGHT
TZNAME:CEST
TZOFFSETFROM:+0100
TZOFFSETTO:+0200
DTSTART:19160430T230000
RDATE:19400401T020000
RDATE:19430329T020000
RDATE:19460414T020000
RDATE:19470406T030000
RDATE:19480418T020000
RDATE:19490410T020000
RDATE:19800406T020000
END:DAYLIGHT
BEGIN:STANDARD
TZNAME:CET
TZOFFSETFROM:+0200
TZOFFSETTO:+0100
DTSTART:19161001T010000
RDATE:19421102T030000
RDATE:19431004T030000
RDATE:19441002T030000
RDATE:19451118T030000
RDATE:19461007T030000
END:STANDARD
BEGIN:DAYLIGHT
TZNAME:CEST
TZOFFSETFROM:+0100
TZOFFSETTO:+0200
DTSTART:19170416T020000
RRULE:FREQ=YEARLY;UNTIL=19180415T010000Z;BYMONTH=4;BYDAY=3MO
END:DAYLIGHT
BEGIN:STANDARD
TZNAME:CET
TZOFFSETFROM:+0200
TZOFFSETTO:+0100
DTSTART:19170917T030000
RRULE:FREQ=YEARLY;UNTIL=19180916T010000Z;BYMONTH=9;BYDAY=3MO
END:STANDARD
BEGIN:DAYLIGHT
TZNAME:CEST
TZOFFSETFROM:+0100
TZOFFSETTO:+0200
DTSTART:19440403T020000
RRULE:FREQ=YEARLY;UNTIL=19450402T010000Z;BYMONTH=4;BYDAY=1MO
END:DAYLIGHT
BEGIN:DAYLIGHT
TZNAME:CEMT
TZOFFSETFROM:+0200
TZOFFSETTO:+0300
DTSTART:19450524T020000
RDATE:19470511T030000
END:DAYLIGHT
BEGIN:DAYLIGHT
TZNAME:CEST
TZOFFSETFROM:+0300
TZOFFSETTO:+0200
DTSTART:19450924T030000
RDATE:19470629T030000
END:DAYLIGHT
BEGIN:STANDARD
TZNAME:CET
TZOFFSETFROM:+0100
TZOFFSETTO:+0100
DTSTART:19460101T000000
RDATE:19800101T000000
END:STANDARD
BEGIN:STANDARD
TZNAME:CET
TZOFFSETFROM:+0200
TZOFFSETTO:+0100
DTSTART:19471005T030000
RRULE:FREQ=YEARLY;UNTIL=19491002T010000Z;BYMONTH=10;BYDAY=1SU
END:STANDARD
BEGIN:STANDARD
TZNAME:CET
TZOFFSETFROM:+0200
TZOFFSETTO:+0100
DTSTART:19800928T030000
RRULE:FREQ=YEARLY;UNTIL=19950924T010000Z;BYMONTH=9;BYDAY=-1SU
END:STANDARD
BEGIN:DAYLIGHT
TZNAME:CEST
TZOFFSETFROM:+0100
TZOFFSETTO:+0200
DTSTART:19810329T020000
RRULE:FREQ=YEARLY;BYMONTH=3;BYDAY=-1SU
END:DAYLIGHT
BEGIN:STANDARD
TZNAME:CET
TZOFFSETFROM:+0200
TZOFFSETTO:+0100
DTSTART:19961027T030000
RRULE:FREQ=YEARLY;BYMONTH=10;BYDAY=-1SU
END:STANDARD
END:VTIMEZONE
BEGIN:VEVENT
DTSTAMP:20260423T003558Z
DTSTART;TZID=Europe/Berlin:20211009T150000
DTEND;TZID=Europe/Berlin:20211009T160000
SUMMARY:Sachsenliga wJC VfL Meißen vs BSV Sa. Zwickau (21009)
UID:9016d814-88b3-41ab-aac0-540a6205509d
STATUS:CONFIRMED
LAST-MODIFIED:20211031T170526Z
DESCRIPTION:Sachsenliga weibliche Jugend C\nBegegnungs-Nr: 21009\nHeim: VfL Meißen\nGast: BSV Sa. Zwickau\nHalle: SH \"Heiliger Grund\" Meißen (33212)\nAdresse: Goethestraße 27\, 01662 Meißen\n
LOCATION:SH \"Heiliger Grund\" Meißen (33212): Goethestraße 27\, 01662 Meißen
CATEGORIES:Saison 2021/22
END:VEVENT
BEGIN:VEVENT
DTSTAMP:20260423T003558Z
DTSTART;TZID=Europe/Berlin:20211113T130000
DTEND;TZID=Europe/Berlin:20211113T140000
SUMMARY:Sachsenliga wJC VfL Meißen vs SC Markranstädt (21022)
UID:5d47ede0-0836-4d4c-b496-b029eb971244
STATUS:CONFIRMED
LAST-MODIFIED:20211113T224602Z
DESCRIPTION:Sachsenliga weibliche Jugend C\nBegegnungs-Nr: 21022\nHeim: VfL Meißen\nGast: SC Markranstädt\nHalle: SH \"Heiliger Grund\" Meißen (33212)\nAdresse: Goethestraße 27\, 01662 Meißen\n
LOCATION:SH \"Heiliger Grund\" Meißen (33212): Goethestraße 27\, 01662 Meißen
CATEGORIES:Saison 2021/22
END:VEVENT
BEGIN:VEVENT
DTSTAMP:20260423T003558Z
DTSTART;TZID=Europe/Berlin:20220313T110000
DTEND;TZID=Europe/Berlin:20220313T120000
SUMMARY:Sachsenliga wJC VfL Meißen vs Radeberger SV (21035)
UID:d4267d29-f38f-4afd-a9b8-84daa36440b4
STATUS:CONFIRMED
LAST-MODIFIED:20220315T101212Z
DESCRIPTION:Sachsenliga weibliche Jugend C\nBegegnungs-Nr: 21035\nHeim: VfL Meißen\nGast: Radeberger SV\nHalle: SH \"Heiliger Grund\" Meißen (33212)\nAdresse: Goethestraße 27\, 01662 Meißen\n
LOCATION:SH \"Heiliger Grund\" Meißen (33212): Goethestraße 27\, 01662 Meißen
CATEGORIES:Saison 2021/22
END:VEVENT
BEGIN:VEVENT
DTSTAMP:20260423T003558Z
DTSTART;TZID=Europe/Berlin:20220402T130000
DTEND;TZID=Europe/Berlin:20220402T140000
SUMMARY:Sachsenliga wJC VfL Meißen vs SSV Heidenau  (21049)
UID:aa3ebf55-a1c8-42bf-b082-e919e72ce56a
STATUS:CONFIRMED
LAST-MODIFIED:20220403T103153Z
DESCRIPTION:Sachsenliga weibliche Jugend C\nBegegnungs-Nr: 21049\nHeim: VfL Meißen\nGast: SSV Heidenau \nHalle: SH \"Heiliger Grund\" Meißen (33212)\nAdresse: Goethestraße 27\, 01662 Meißen\n
LOCATION:SH \"Heiliger Grund\" Meißen (33212): Goethestraße 27\, 01662 Meißen
CATEGORIES:Saison 2021/22
END:VEVENT
BEGIN:VEVENT
DTSTAMP:20260423T003558Z
DTSTART;TZID=Europe/Berlin:20220410T121500
DTEND;TZID=Europe/Berlin:20220410T124500
SUMMARY:Quali BE VR Gr.II VfL Meißen vs BSV Sa. Zwickau (4)
UID:1f5efbea-80d3-4eae-9fad-a9c5cd629320
STATUS:CONFIRMED
LAST-MODIFIED:20220410T165947Z
DESCRIPTION:Quali für Nord-Ost-Deutsche Bestenermittlung/MHV Meisterschaft GR II\nBegegnungs-Nr: 4\nHeim: VfL Meißen\nGast: BSV Sa. Zwickau\n
LOCATION:
CATEGORIES:Saison 2021/22
END:VEVENT
BEGIN:VEVENT
DTSTAMP:20260423T003558Z
DTSTART;TZID=Europe/Berlin:20220319T130000
DTEND;TZID=Europe/Berlin:20220319T140000
SUMMARY:Sachsenliga wJC VfL Meißen vs HC Rödertal  (21036)
UID:22b1e0a7-b72c-448c-b83c-ff947360a3db
STATUS:CONFIRMED
LAST-MODIFIED:20220321T125009Z
DESCRIPTION:Sachsenliga weibliche Jugend C\nBegegnungs-Nr: 21036\nHeim: VfL Meißen\nGast: HC Rödertal \nHalle: SH \"Heiliger Grund\" Meißen (33212)\nAdresse: Goethestraße 27\, 01662 Meißen\n
LOCATION:SH \"Heiliger Grund\" Meißen (33212): Goethestraße 27\, 01662 Meißen
CATEGORIES:Saison 2021/22
END:VEVENT
BEGIN:VEVENT
DTSTAMP:20260423T003558Z
DTSTART;TZID=Europe/Berlin:20220625T100000
DTEND;TZID=Europe/Berlin:20220625T110000
SUMMARY:Sachsenliga wJC VfL Meißen vs Görlitzer HC (21062)
UID:518c195a-cd74-4cec-ba44-316a158ec27c
STATUS:CONFIRMED
LAST-MODIFIED:20220627T051840Z
DESCRIPTION:Sachsenliga weibliche Jugend C\nBegegnungs-Nr: 21062\nHeim: VfL Meißen\nGast: Görlitzer HC\nHalle: SH \"Heiliger Grund\" Meißen (33212)\nAdresse: Goethestraße 27\, 01662 Meißen\n
LOCATION:SH \"Heiliger Grund\" Meißen (33212): Goethestraße 27\, 01662 Meißen
CATEGORIES:Saison 2021/22
END:VEVENT
BEGIN:VEVENT
DTSTAMP:20260423T003558Z
DTSTART;TZID=Europe/Berlin:20211106T130000
DTEND;TZID=Europe/Berlin:20211106T140000
SUMMARY:Sachsenliga wJC MSV Dresden vs VfL Meißen (21013)
UID:34654bfc-7b7c-430e-8903-f4a568cbf693
STATUS:CONFIRMED
LAST-MODIFIED:20211107T102620Z
DESCRIPTION:Sachsenliga weibliche Jugend C\nBegegnungs-Nr: 21013\nHeim: MSV Dresden\nGast: VfL Meißen\nHalle: SH Bertolt-Brecht-Gymnasium Dresden (33129)\nAdresse: Thomaestraße 60\, 01307 Dresden\n
LOCATION:SH Bertolt-Brecht-Gymnasium Dresden (33129): Thomaestraße 60\, 01307 Dresden
CATEGORIES:Saison 2021/22
END:VEVENT
BEGIN:VEVENT
DTSTAMP:20260423T003558Z
DTSTART;TZID=Europe/Berlin:20211003T110000
DTEND;TZID=Europe/Berlin:20211003T120000
SUMMARY:Sachsenliga wJC HC Leipzig vs VfL Meißen (21002)
UID:7bdfff4c-2839-4e40-a6c3-f7b4874fc668
STATUS:CONFIRMED
LAST-MODIFIED:20211005T192352Z
DESCRIPTION:Sachsenliga weibliche Jugend C\nBegegnungs-Nr: 21002\nHeim: HC Leipzig\nGast: VfL Meißen\nHalle: SH Sportoberschule (31132)\nAdresse: Max -Planck-Str. 53-55\, 04105 Leipzig\n
LOCATION:SH Sportoberschule (31132): Max -Planck-Str. 53-55\, 04105 Leipzig
CATEGORIES:Saison 2021/22
END:VEVENT
BEGIN:VEVENT
DTSTAMP:20260423T003558Z
DTSTART;TZID=Europe/Berlin:20220305T150000
DTEND;TZID=Europe/Berlin:20220305T160000
SUMMARY:Sachsenliga wJC HSV Marienberg vs VfL Meißen (21024)
UID:c3434d57-2914-45c0-9ab9-b1aafb16bea2
STATUS:CONFIRMED
LAST-MODIFIED:20220309T211430Z
DESCRIPTION:Sachsenliga weibliche Jugend C\nBegegnungs-Nr: 21024\nHeim: HSV Marienberg\nGast: VfL Meißen\nHalle: SH am Goldkindstein Marienberg (32416)\nAdresse: Dr.-Wilhelm-Külz-Allee 23\, 09496 Marienberg\n
LOCATION:SH am Goldkindstein Marienberg (32416): Dr.-Wilhelm-Külz-Allee 23\, 09496 Marienberg
CATEGORIES:Saison 2021/22
END:VEVENT
BEGIN:VEVENT
DTSTAMP:20260423T003558Z
DTSTART;TZID=Europe/Berlin:20220327T110000
DTEND;TZID=Europe/Berlin:20220327T120000
SUMMARY:Sachsenliga wJC SC Hoyerswerda  vs VfL Meißen (21046)
UID:0a1e3014-a1e8-43e4-b1bc-e586fd1c2837
STATUS:CONFIRMED
LAST-MODIFIED:20220403T102119Z
DESCRIPTION:Sachsenliga weibliche Jugend C\nBegegnungs-Nr: 21046\nHeim: SC Hoyerswerda \nGast: VfL Meißen\nHalle: VBH Arena Hoyerswerda (34202)\nAdresse: Lieselotte-Herrmann-Str. 11\, 02977 Hoyerswerda\n
LOCATION:VBH Arena Hoyerswerda (34202): Lieselotte-Herrmann-Str. 11\, 02977 Hoyerswerda
CATEGORIES:Saison 2021/22
END:VEVENT
BEGIN:VEVENT
DTSTAMP:20260423T003558Z
DTSTART;TZID=Europe/Berlin:20220409T140000
DTEND;TZID=Europe/Berlin:20220409T150000
SUMMARY:Sachsenliga wJC MSV Dresden II vs VfL Meißen (21057)
UID:f8c713f1-14f7-41ba-9125-c117145a0cd0
STATUS:CONFIRMED
LAST-MODIFIED:20220411T154012Z
DESCRIPTION:Sachsenliga weibliche Jugend C\nBegegnungs-Nr: 21057\nHeim: MSV Dresden II\nGast: VfL Meißen\nHalle: SH 56. Oberschule Dresden Am Trachenberg (33131)\nAdresse: Aachener Straße 10\, 01129 Dresden\n
LOCATION:SH 56. Oberschule Dresden Am Trachenberg (33131): Aachener Straße 10\, 01129 Dresden
CATEGORIES:Saison 2021/22
END:VEVENT
BEGIN:VEVENT
DTSTAMP:20260423T003558Z
DTSTART;TZID=Europe/Berlin:20220410T134500
DTEND;TZID=Europe/Berlin:20220410T141500
SUMMARY:Quali BE VR Gr.II Görlitzer HC vs VfL Meißen (6)
UID:0feafac6-ff84-4f11-90ff-383df602881c
STATUS:CONFIRMED
LAST-MODIFIED:20220410T170002Z
DESCRIPTION:Quali für Nord-Ost-Deutsche Bestenermittlung/MHV Meisterschaft GR II\nBegegnungs-Nr: 6\nHeim: Görlitzer HC\nGast: VfL Meißen\n
LOCATION:
CATEGORIES:Saison 2021/22
END:VEVENT
END:VCALENDAR
