BEGIN:VCALENDAR
PRODID:-//nuDatenautomaten//framework iCal4j //DE
VERSION:2.0
CALSCALE:GREGORIAN
BEGIN:VTIMEZONE
TZID:Europe/Berlin
LAST-MODIFIED:20260306T231828Z
TZURL:https://www.tzurl.org/zoneinfo/Europe/Berlin
X-LIC-LOCATION:Europe/Berlin
X-PROLEPTIC-TZNAME:LMT
BEGIN:STANDARD
TZNAME:CET
TZOFFSETFROM:+005328
TZOFFSETTO:+0100
DTSTART:18930401T000000
END:STANDARD
BEGIN:DAYLIGHT
TZNAME:CEST
TZOFFSETFROM:+0100
TZOFFSETTO:+0200
DTSTART:19160430T230000
RDATE:19400401T020000
RDATE:19430329T020000
RDATE:19460414T020000
RDATE:19470406T030000
RDATE:19480418T020000
RDATE:19490410T020000
RDATE:19800406T020000
END:DAYLIGHT
BEGIN:STANDARD
TZNAME:CET
TZOFFSETFROM:+0200
TZOFFSETTO:+0100
DTSTART:19161001T010000
RDATE:19421102T030000
RDATE:19431004T030000
RDATE:19441002T030000
RDATE:19451118T030000
RDATE:19461007T030000
END:STANDARD
BEGIN:DAYLIGHT
TZNAME:CEST
TZOFFSETFROM:+0100
TZOFFSETTO:+0200
DTSTART:19170416T020000
RRULE:FREQ=YEARLY;UNTIL=19180415T010000Z;BYMONTH=4;BYDAY=3MO
END:DAYLIGHT
BEGIN:STANDARD
TZNAME:CET
TZOFFSETFROM:+0200
TZOFFSETTO:+0100
DTSTART:19170917T030000
RRULE:FREQ=YEARLY;UNTIL=19180916T010000Z;BYMONTH=9;BYDAY=3MO
END:STANDARD
BEGIN:DAYLIGHT
TZNAME:CEST
TZOFFSETFROM:+0100
TZOFFSETTO:+0200
DTSTART:19440403T020000
RRULE:FREQ=YEARLY;UNTIL=19450402T010000Z;BYMONTH=4;BYDAY=1MO
END:DAYLIGHT
BEGIN:DAYLIGHT
TZNAME:CEMT
TZOFFSETFROM:+0200
TZOFFSETTO:+0300
DTSTART:19450524T020000
RDATE:19470511T030000
END:DAYLIGHT
BEGIN:DAYLIGHT
TZNAME:CEST
TZOFFSETFROM:+0300
TZOFFSETTO:+0200
DTSTART:19450924T030000
RDATE:19470629T030000
END:DAYLIGHT
BEGIN:STANDARD
TZNAME:CET
TZOFFSETFROM:+0100
TZOFFSETTO:+0100
DTSTART:19460101T000000
RDATE:19800101T000000
END:STANDARD
BEGIN:STANDARD
TZNAME:CET
TZOFFSETFROM:+0200
TZOFFSETTO:+0100
DTSTART:19471005T030000
RRULE:FREQ=YEARLY;UNTIL=19491002T010000Z;BYMONTH=10;BYDAY=1SU
END:STANDARD
BEGIN:STANDARD
TZNAME:CET
TZOFFSETFROM:+0200
TZOFFSETTO:+0100
DTSTART:19800928T030000
RRULE:FREQ=YEARLY;UNTIL=19950924T010000Z;BYMONTH=9;BYDAY=-1SU
END:STANDARD
BEGIN:DAYLIGHT
TZNAME:CEST
TZOFFSETFROM:+0100
TZOFFSETTO:+0200
DTSTART:19810329T020000
RRULE:FREQ=YEARLY;BYMONTH=3;BYDAY=-1SU
END:DAYLIGHT
BEGIN:STANDARD
TZNAME:CET
TZOFFSETFROM:+0200
TZOFFSETTO:+0100
DTSTART:19961027T030000
RRULE:FREQ=YEARLY;BYMONTH=10;BYDAY=-1SU
END:STANDARD
END:VTIMEZONE
BEGIN:VEVENT
DTSTAMP:20260423T234607Z
DTSTART;TZID=Europe/Berlin:20220507T100000
DTEND;TZID=Europe/Berlin:20220507T110000
SUMMARY:OSL wJD VfB Bischofswerda vs HC Rödertal  II (12027)
UID:055b72ad-c2b1-402c-82dd-fe2140816c08
STATUS:CONFIRMED
LAST-MODIFIED:20220510T143459Z
DESCRIPTION:Ostsachsenliga weiblich D\nBegegnungs-Nr: 12027\nHeim: VfB Bischofswerda\nGast: HC Rödertal  II\nHalle: SH Grundschule Bischofswerda-Süd (34507)\nAdresse: Dietrich-Bonhoeffer Str.\, 01877 Bischofswerda\n
LOCATION:SH Grundschule Bischofswerda-Süd (34507): Dietrich-Bonhoeffer Str.\, 01877 Bischofswerda
CATEGORIES:Saison 2021/22
END:VEVENT
BEGIN:VEVENT
DTSTAMP:20260423T234607Z
DTSTART;TZID=Europe/Berlin:20211106T104500
DTEND;TZID=Europe/Berlin:20211106T114500
SUMMARY:OSL wJD VfB Bischofswerda vs Lok Schleife (12010)
UID:375b12c1-d394-4f85-8527-381bf71318f7
STATUS:CONFIRMED
LAST-MODIFIED:20211109T172056Z
DESCRIPTION:Ostsachsenliga weiblich D\nBegegnungs-Nr: 12010\nHeim: VfB Bischofswerda\nGast: Lok Schleife\nHalle: SH Wesenitzsportpark Bischofswerda (34505)\nAdresse: Clara-Zetkin-Str. 4\, 01877  Bischofswerda\n
LOCATION:SH Wesenitzsportpark Bischofswerda (34505): Clara-Zetkin-Str. 4\, 01877  Bischofswerda
CATEGORIES:Saison 2021/22
END:VEVENT
BEGIN:VEVENT
DTSTAMP:20260423T234607Z
DTSTART;TZID=Europe/Berlin:20220513T164500
DTEND;TZID=Europe/Berlin:20220513T174500
SUMMARY:OSL wJD VfB Bischofswerda vs Radeberger SV (12022)
UID:47391e2c-4071-4b4a-8169-7128b2c215e1
STATUS:CONFIRMED
LAST-MODIFIED:20220517T145327Z
DESCRIPTION:Ostsachsenliga weiblich D\nBegegnungs-Nr: 12022\nHeim: VfB Bischofswerda\nGast: Radeberger SV\nHalle: SH Albert-Schweitzer-Gymnasium Kamenz (34204)\nAdresse: Am Flugplatz\, 01917 Kamenz\, Parkplatz - Macherstraße 142\n
LOCATION:SH Albert-Schweitzer-Gymnasium Kamenz (34204): Am Flugplatz\, 01917 Kamenz\, Parkplatz - Macherstraße 142
CATEGORIES:Saison 2021/22
END:VEVENT
BEGIN:VEVENT
DTSTAMP:20260423T234607Z
DTSTART;TZID=Europe/Berlin:20220319T113000
DTEND;TZID=Europe/Berlin:20220319T123000
SUMMARY:OSL wJD VfB Bischofswerda vs SC Hoyerswerda  (12043)
UID:ba8a26cc-e1ec-465d-a48d-adf99c44b951
STATUS:CONFIRMED
LAST-MODIFIED:20220403T171004Z
DESCRIPTION:Ostsachsenliga weiblich D\nBegegnungs-Nr: 12043\nHeim: VfB Bischofswerda\nGast: SC Hoyerswerda \nHalle: SH Grundschule Bischofswerda-Süd (34507)\nAdresse: Dietrich-Bonhoeffer Str.\, 01877 Bischofswerda\n
LOCATION:SH Grundschule Bischofswerda-Süd (34507): Dietrich-Bonhoeffer Str.\, 01877 Bischofswerda
CATEGORIES:Saison 2021/22
END:VEVENT
BEGIN:VEVENT
DTSTAMP:20260423T234607Z
DTSTART;TZID=Europe/Berlin:20220409T120000
DTEND;TZID=Europe/Berlin:20220409T130000
SUMMARY:OSL wJD VfB Bischofswerda vs SG Cunewalde/Sohland (12048)
UID:e9e32979-a808-443a-afd7-7beb2013a2ec
STATUS:CONFIRMED
LAST-MODIFIED:20220413T092007Z
DESCRIPTION:Ostsachsenliga weiblich D\nBegegnungs-Nr: 12048\nHeim: VfB Bischofswerda\nGast: SG Cunewalde/Sohland\nHalle: SH Grundschule Bischofswerda-Süd (34507)\nAdresse: Dietrich-Bonhoeffer Str.\, 01877 Bischofswerda\n
LOCATION:SH Grundschule Bischofswerda-Süd (34507): Dietrich-Bonhoeffer Str.\, 01877 Bischofswerda
CATEGORIES:Saison 2021/22
END:VEVENT
BEGIN:VEVENT
DTSTAMP:20260423T234607Z
DTSTART;TZID=Europe/Berlin:20220618T103000
DTEND;TZID=Europe/Berlin:20220618T113000
SUMMARY:OSL wJD SG Cunewalde/Sohland vs VfB Bischofswerda (12020)
UID:cdd94b82-f5fb-4a9c-8d6a-b345666a4701
STATUS:CONFIRMED
LAST-MODIFIED:20220620T163443Z
DESCRIPTION:Ostsachsenliga weiblich D\nBegegnungs-Nr: 12020\nHeim: SG Cunewalde/Sohland\nGast: VfB Bischofswerda\nHalle: \"Oberland-Sporthalle\" Sohland (34501)\nAdresse: G. - Hauptmann - Str. 4 A\, 02689 Sohland\n
LOCATION:\"Oberland-Sporthalle\" Sohland (34501): G. - Hauptmann - Str. 4 A\, 02689 Sohland
CATEGORIES:Saison 2021/22
END:VEVENT
BEGIN:VEVENT
DTSTAMP:20260423T234607Z
DTSTART;TZID=Europe/Berlin:20220514T153000
DTEND;TZID=Europe/Berlin:20220514T163000
SUMMARY:OSL wJD HC Rödertal  II vs VfB Bischofswerda (12055)
UID:78f94cd7-e64b-4dc0-ac4d-27846812b5ec
STATUS:CONFIRMED
LAST-MODIFIED:20220517T145518Z
DESCRIPTION:Ostsachsenliga weiblich D\nBegegnungs-Nr: 12055\nHeim: HC Rödertal  II\nGast: VfB Bischofswerda\nHalle: 3-Feld-Halle-GY Großröhrsdorf (34514)\nAdresse: Melanchthonstraße 21\, 01900  Großröhrsdorf\n
LOCATION:3-Feld-Halle-GY Großröhrsdorf (34514): Melanchthonstraße 21\, 01900  Großröhrsdorf
CATEGORIES:Saison 2021/22
END:VEVENT
BEGIN:VEVENT
DTSTAMP:20260423T234607Z
DTSTART;TZID=Europe/Berlin:20220305T110000
DTEND;TZID=Europe/Berlin:20220305T120000
SUMMARY:OSL wJD SC Hoyerswerda  vs VfB Bischofswerda (12015)
UID:b193cbd0-a1ab-4679-917f-750d0ecd74d4
STATUS:CONFIRMED
LAST-MODIFIED:20220307T171915Z
DESCRIPTION:Ostsachsenliga weiblich D\nBegegnungs-Nr: 12015\nHeim: SC Hoyerswerda \nGast: VfB Bischofswerda\nHalle: VBH Arena Hoyerswerda (34202)\nAdresse: Lieselotte-Herrmann-Str. 11\, 02977 Hoyerswerda\n
LOCATION:VBH Arena Hoyerswerda (34202): Lieselotte-Herrmann-Str. 11\, 02977 Hoyerswerda
CATEGORIES:Saison 2021/22
END:VEVENT
BEGIN:VEVENT
DTSTAMP:20260423T234607Z
DTSTART;TZID=Europe/Berlin:20220312T090000
DTEND;TZID=Europe/Berlin:20220312T100000
SUMMARY:OSL wJD Lok Schleife vs VfB Bischofswerda (12038)
UID:4328a380-06cd-415e-a598-4dd5ceea37b8
STATUS:CONFIRMED
LAST-MODIFIED:20220403T170655Z
DESCRIPTION:Ostsachsenliga weiblich D\nBegegnungs-Nr: 12038\nHeim: Lok Schleife\nGast: VfB Bischofswerda\nHalle: SH Schleife (34402)\nAdresse: Spremberger Straße 29\, 02959 Schleife\n
LOCATION:SH Schleife (34402): Spremberger Straße 29\, 02959 Schleife
CATEGORIES:Saison 2021/22
END:VEVENT
BEGIN:VEVENT
DTSTAMP:20260423T234607Z
DTSTART;TZID=Europe/Berlin:20220430T103000
DTEND;TZID=Europe/Berlin:20220430T113000
SUMMARY:OSL wJD Radeberger SV vs VfB Bischofswerda (12050)
UID:e045e29e-f242-4589-a1ed-0d4b3847c25a
STATUS:CONFIRMED
LAST-MODIFIED:20220502T072438Z
DESCRIPTION:Ostsachsenliga weiblich D\nBegegnungs-Nr: 12050\nHeim: Radeberger SV\nGast: VfB Bischofswerda\nHalle: 3-Feld-Halle-GY Radeberg (34217)\nAdresse: Dr. Albert-Dietze Strasse\, 01454 Radeberg\n
LOCATION:3-Feld-Halle-GY Radeberg (34217): Dr. Albert-Dietze Strasse\, 01454 Radeberg
CATEGORIES:Saison 2021/22
END:VEVENT
END:VCALENDAR
