BEGIN:VCALENDAR
PRODID:-//nuDatenautomaten//framework iCal4j //DE
VERSION:2.0
CALSCALE:GREGORIAN
BEGIN:VTIMEZONE
TZID:Europe/Berlin
LAST-MODIFIED:20260306T231828Z
TZURL:https://www.tzurl.org/zoneinfo/Europe/Berlin
X-LIC-LOCATION:Europe/Berlin
X-PROLEPTIC-TZNAME:LMT
BEGIN:STANDARD
TZNAME:CET
TZOFFSETFROM:+005328
TZOFFSETTO:+0100
DTSTART:18930401T000000
END:STANDARD
BEGIN:DAYLIGHT
TZNAME:CEST
TZOFFSETFROM:+0100
TZOFFSETTO:+0200
DTSTART:19160430T230000
RDATE:19400401T020000
RDATE:19430329T020000
RDATE:19460414T020000
RDATE:19470406T030000
RDATE:19480418T020000
RDATE:19490410T020000
RDATE:19800406T020000
END:DAYLIGHT
BEGIN:STANDARD
TZNAME:CET
TZOFFSETFROM:+0200
TZOFFSETTO:+0100
DTSTART:19161001T010000
RDATE:19421102T030000
RDATE:19431004T030000
RDATE:19441002T030000
RDATE:19451118T030000
RDATE:19461007T030000
END:STANDARD
BEGIN:DAYLIGHT
TZNAME:CEST
TZOFFSETFROM:+0100
TZOFFSETTO:+0200
DTSTART:19170416T020000
RRULE:FREQ=YEARLY;UNTIL=19180415T010000Z;BYMONTH=4;BYDAY=3MO
END:DAYLIGHT
BEGIN:STANDARD
TZNAME:CET
TZOFFSETFROM:+0200
TZOFFSETTO:+0100
DTSTART:19170917T030000
RRULE:FREQ=YEARLY;UNTIL=19180916T010000Z;BYMONTH=9;BYDAY=3MO
END:STANDARD
BEGIN:DAYLIGHT
TZNAME:CEST
TZOFFSETFROM:+0100
TZOFFSETTO:+0200
DTSTART:19440403T020000
RRULE:FREQ=YEARLY;UNTIL=19450402T010000Z;BYMONTH=4;BYDAY=1MO
END:DAYLIGHT
BEGIN:DAYLIGHT
TZNAME:CEMT
TZOFFSETFROM:+0200
TZOFFSETTO:+0300
DTSTART:19450524T020000
RDATE:19470511T030000
END:DAYLIGHT
BEGIN:DAYLIGHT
TZNAME:CEST
TZOFFSETFROM:+0300
TZOFFSETTO:+0200
DTSTART:19450924T030000
RDATE:19470629T030000
END:DAYLIGHT
BEGIN:STANDARD
TZNAME:CET
TZOFFSETFROM:+0100
TZOFFSETTO:+0100
DTSTART:19460101T000000
RDATE:19800101T000000
END:STANDARD
BEGIN:STANDARD
TZNAME:CET
TZOFFSETFROM:+0200
TZOFFSETTO:+0100
DTSTART:19471005T030000
RRULE:FREQ=YEARLY;UNTIL=19491002T010000Z;BYMONTH=10;BYDAY=1SU
END:STANDARD
BEGIN:STANDARD
TZNAME:CET
TZOFFSETFROM:+0200
TZOFFSETTO:+0100
DTSTART:19800928T030000
RRULE:FREQ=YEARLY;UNTIL=19950924T010000Z;BYMONTH=9;BYDAY=-1SU
END:STANDARD
BEGIN:DAYLIGHT
TZNAME:CEST
TZOFFSETFROM:+0100
TZOFFSETTO:+0200
DTSTART:19810329T020000
RRULE:FREQ=YEARLY;BYMONTH=3;BYDAY=-1SU
END:DAYLIGHT
BEGIN:STANDARD
TZNAME:CET
TZOFFSETFROM:+0200
TZOFFSETTO:+0100
DTSTART:19961027T030000
RRULE:FREQ=YEARLY;BYMONTH=10;BYDAY=-1SU
END:STANDARD
END:VTIMEZONE
BEGIN:VEVENT
DTSTAMP:20260424T010544Z
DTSTART;TZID=Europe/Berlin:20220521T140000
DTEND;TZID=Europe/Berlin:20220521T153000
SUMMARY:WLLMä1 TBSV Neugersdorf III vs SG Oberlichtenau II (1018)
UID:690fff0a-9ad4-40fe-9b2d-2bbcd73b54d3
STATUS:CONFIRMED
LAST-MODIFIED:20220625T132350Z
DESCRIPTION:Westlausitzliga Männer Gruppe 1\nBegegnungs-Nr: 1018\nHeim: TBSV Neugersdorf III\nGast: SG Oberlichtenau II\nHalle: FSZ Oberland \"Albert Schweitzer\" (34112)\nAdresse: Friedrich-Ebert-Str.27\, 02730 Ebersbach-Neugersdorf\n
LOCATION:FSZ Oberland \"Albert Schweitzer\" (34112): Friedrich-Ebert-Str.27\, 02730 Ebersbach-Neugersdorf
CATEGORIES:Saison 2021/22
END:VEVENT
BEGIN:VEVENT
DTSTAMP:20260424T010544Z
DTSTART;TZID=Europe/Berlin:20220515T121500
DTEND;TZID=Europe/Berlin:20220515T134500
SUMMARY:WLLMä1 TBSV Neugersdorf III vs HSV 1923 Pulsnitz III (1014)
UID:fdddd3d9-507a-4641-a7f7-965c97bbac59
STATUS:CONFIRMED
DESCRIPTION:Westlausitzliga Männer Gruppe 1\nBegegnungs-Nr: 1014\nHeim: TBSV Neugersdorf III\nGast: HSV 1923 Pulsnitz III\nHalle: FSZ Oberland \"Albert Schweitzer\" (34112)\nAdresse: Friedrich-Ebert-Str.27\, 02730 Ebersbach-Neugersdorf\n
LOCATION:FSZ Oberland \"Albert Schweitzer\" (34112): Friedrich-Ebert-Str.27\, 02730 Ebersbach-Neugersdorf
CATEGORIES:Saison 2021/22
END:VEVENT
BEGIN:VEVENT
DTSTAMP:20260424T010544Z
DTSTART;TZID=Europe/Berlin:20220410T110000
DTEND;TZID=Europe/Berlin:20220410T123000
SUMMARY:WLLMä1 TBSV Neugersdorf III vs SG Sohland/Friedersdorf II (1006)
UID:1a954d12-5afa-4af8-a524-3a563eb0bccd
STATUS:CONFIRMED
DESCRIPTION:Westlausitzliga Männer Gruppe 1\nBegegnungs-Nr: 1006\nHeim: TBSV Neugersdorf III\nGast: SG Sohland/Friedersdorf II\nHalle: FSZ Oberland \"Albert Schweitzer\" (34112)\nAdresse: Friedrich-Ebert-Str.27\, 02730 Ebersbach-Neugersdorf\n
LOCATION:FSZ Oberland \"Albert Schweitzer\" (34112): Friedrich-Ebert-Str.27\, 02730 Ebersbach-Neugersdorf
CATEGORIES:Saison 2021/22
END:VEVENT
BEGIN:VEVENT
DTSTAMP:20260424T010544Z
DTSTART;TZID=Europe/Berlin:20220402T140000
DTEND;TZID=Europe/Berlin:20220402T153000
SUMMARY:WLLMä1 TBSV Neugersdorf III vs Stahl Rietschen III (1001)
UID:9ab94274-a70c-4a1a-972a-7ead421fa38e
STATUS:CONFIRMED
LAST-MODIFIED:20220406T090235Z
DESCRIPTION:Westlausitzliga Männer Gruppe 1\nBegegnungs-Nr: 1001\nHeim: TBSV Neugersdorf III\nGast: Stahl Rietschen III\nHalle: FSZ Oberland \"Albert Schweitzer\" (34112)\nAdresse: Friedrich-Ebert-Str.27\, 02730 Ebersbach-Neugersdorf\n
LOCATION:FSZ Oberland \"Albert Schweitzer\" (34112): Friedrich-Ebert-Str.27\, 02730 Ebersbach-Neugersdorf
CATEGORIES:Saison 2021/22
END:VEVENT
BEGIN:VEVENT
DTSTAMP:20260424T010544Z
DTSTART;TZID=Europe/Berlin:20220619T150000
DTEND;TZID=Europe/Berlin:20220619T163000
SUMMARY:WLLMä1 SG Eibau/Zittau II vs TBSV Neugersdorf III (1024)
UID:1bfdf0f9-09c5-4c9e-a77a-5d137ba54e6f
STATUS:CONFIRMED
LAST-MODIFIED:20220614T154045Z
DESCRIPTION:Westlausitzliga Männer Gruppe 1\nBegegnungs-Nr: 1024\nHeim: SG Eibau/Zittau II\nGast: TBSV Neugersdorf III\nHalle: SH BSZ Zittau Ottokarplatz (34109)
LOCATION:SH BSZ Zittau Ottokarplatz (34109): 
CATEGORIES:Saison 2021/22
END:VEVENT
BEGIN:VEVENT
DTSTAMP:20260424T010544Z
DTSTART;TZID=Europe/Berlin:20220430T160000
DTEND;TZID=Europe/Berlin:20220430T173000
SUMMARY:WLLMä1 SV Lok Königsbrück  vs TBSV Neugersdorf III (1011)
UID:cdf763ed-9a89-4c10-b485-ea8ba75617e1
STATUS:CONFIRMED
DESCRIPTION:Westlausitzliga Männer Gruppe 1\nBegegnungs-Nr: 1011\nHeim: SV Lok Königsbrück \nGast: TBSV Neugersdorf III\nHalle: 2-Feld-Halle- OS Königsbrück (34513)\nAdresse: An der Schule 3\, 01936 Königsbrück\n
LOCATION:2-Feld-Halle- OS Königsbrück (34513): An der Schule 3\, 01936 Königsbrück
CATEGORIES:Saison 2021/22
END:VEVENT
BEGIN:VEVENT
DTSTAMP:20260424T010544Z
DTSTART;TZID=Europe/Berlin:20220625T160000
DTEND;TZID=Europe/Berlin:20220625T173000
SUMMARY:WLLMä1 Radeberger SV III vs TBSV Neugersdorf III (1027)
UID:04318f7f-6910-4e8d-8bf1-3c54b61aa4b7
STATUS:CONFIRMED
LAST-MODIFIED:20220624T155205Z
DESCRIPTION:Westlausitzliga Männer Gruppe 1\nBegegnungs-Nr: 1027\nHeim: Radeberger SV III\nGast: TBSV Neugersdorf III\nHalle: 3-Feld-Halle-GY Radeberg (34217)\nAdresse: Dr. Albert-Dietze Strasse\, 01454 Radeberg\n
LOCATION:3-Feld-Halle-GY Radeberg (34217): Dr. Albert-Dietze Strasse\, 01454 Radeberg
CATEGORIES:Saison 2021/22
END:VEVENT
END:VCALENDAR
