BEGIN:VCALENDAR
PRODID:-//nuDatenautomaten//framework iCal4j //DE
VERSION:2.0
CALSCALE:GREGORIAN
BEGIN:VTIMEZONE
TZID:Europe/Berlin
LAST-MODIFIED:20260306T231828Z
TZURL:https://www.tzurl.org/zoneinfo/Europe/Berlin
X-LIC-LOCATION:Europe/Berlin
X-PROLEPTIC-TZNAME:LMT
BEGIN:STANDARD
TZNAME:CET
TZOFFSETFROM:+005328
TZOFFSETTO:+0100
DTSTART:18930401T000000
END:STANDARD
BEGIN:DAYLIGHT
TZNAME:CEST
TZOFFSETFROM:+0100
TZOFFSETTO:+0200
DTSTART:19160430T230000
RDATE:19400401T020000
RDATE:19430329T020000
RDATE:19460414T020000
RDATE:19470406T030000
RDATE:19480418T020000
RDATE:19490410T020000
RDATE:19800406T020000
END:DAYLIGHT
BEGIN:STANDARD
TZNAME:CET
TZOFFSETFROM:+0200
TZOFFSETTO:+0100
DTSTART:19161001T010000
RDATE:19421102T030000
RDATE:19431004T030000
RDATE:19441002T030000
RDATE:19451118T030000
RDATE:19461007T030000
END:STANDARD
BEGIN:DAYLIGHT
TZNAME:CEST
TZOFFSETFROM:+0100
TZOFFSETTO:+0200
DTSTART:19170416T020000
RRULE:FREQ=YEARLY;UNTIL=19180415T010000Z;BYMONTH=4;BYDAY=3MO
END:DAYLIGHT
BEGIN:STANDARD
TZNAME:CET
TZOFFSETFROM:+0200
TZOFFSETTO:+0100
DTSTART:19170917T030000
RRULE:FREQ=YEARLY;UNTIL=19180916T010000Z;BYMONTH=9;BYDAY=3MO
END:STANDARD
BEGIN:DAYLIGHT
TZNAME:CEST
TZOFFSETFROM:+0100
TZOFFSETTO:+0200
DTSTART:19440403T020000
RRULE:FREQ=YEARLY;UNTIL=19450402T010000Z;BYMONTH=4;BYDAY=1MO
END:DAYLIGHT
BEGIN:DAYLIGHT
TZNAME:CEMT
TZOFFSETFROM:+0200
TZOFFSETTO:+0300
DTSTART:19450524T020000
RDATE:19470511T030000
END:DAYLIGHT
BEGIN:DAYLIGHT
TZNAME:CEST
TZOFFSETFROM:+0300
TZOFFSETTO:+0200
DTSTART:19450924T030000
RDATE:19470629T030000
END:DAYLIGHT
BEGIN:STANDARD
TZNAME:CET
TZOFFSETFROM:+0100
TZOFFSETTO:+0100
DTSTART:19460101T000000
RDATE:19800101T000000
END:STANDARD
BEGIN:STANDARD
TZNAME:CET
TZOFFSETFROM:+0200
TZOFFSETTO:+0100
DTSTART:19471005T030000
RRULE:FREQ=YEARLY;UNTIL=19491002T010000Z;BYMONTH=10;BYDAY=1SU
END:STANDARD
BEGIN:STANDARD
TZNAME:CET
TZOFFSETFROM:+0200
TZOFFSETTO:+0100
DTSTART:19800928T030000
RRULE:FREQ=YEARLY;UNTIL=19950924T010000Z;BYMONTH=9;BYDAY=-1SU
END:STANDARD
BEGIN:DAYLIGHT
TZNAME:CEST
TZOFFSETFROM:+0100
TZOFFSETTO:+0200
DTSTART:19810329T020000
RRULE:FREQ=YEARLY;BYMONTH=3;BYDAY=-1SU
END:DAYLIGHT
BEGIN:STANDARD
TZNAME:CET
TZOFFSETFROM:+0200
TZOFFSETTO:+0100
DTSTART:19961027T030000
RRULE:FREQ=YEARLY;BYMONTH=10;BYDAY=-1SU
END:STANDARD
END:VTIMEZONE
BEGIN:VEVENT
DTSTAMP:20260425T032357Z
DTSTART;TZID=Europe/Berlin:20211002T120000
DTEND;TZID=Europe/Berlin:20211002T130000
SUMMARY:Bezirksliga mC NSG TSV/SV04/HCE vs HSG Rottluff/Lok Chemnitz II (703)
UID:090898b5-5318-4f4f-9ebd-e628718257d1
STATUS:CONFIRMED
LAST-MODIFIED:20211109T124606Z
DESCRIPTION:Bezirksliga Chemnitz männl. Jugend C\nBegegnungs-Nr: 703\nHeim: NSG TSV/SV04/HCE\nGast: HSG Rottluff/Lok Chemnitz II\nHalle: Dreifelder-SH am BSZ \"Anne Frank\" (32711)\nAdresse: Wieprechtstr. 11\, 08525 Plauen\n
LOCATION:Dreifelder-SH am BSZ \"Anne Frank\" (32711): Wieprechtstr. 11\, 08525 Plauen
CATEGORIES:Saison 2021/22
END:VEVENT
BEGIN:VEVENT
DTSTAMP:20260425T032357Z
DTSTART;TZID=Europe/Berlin:20220428T180000
DTEND;TZID=Europe/Berlin:20220428T190000
SUMMARY:Bezirksliga mC NSG TSV/SV04/HCE vs NSG TSV/SV04/HCE II (724)
UID:d59699f7-5441-48d1-b821-f3ecd78d800a
STATUS:CONFIRMED
LAST-MODIFIED:20220406T061433Z
DESCRIPTION:Bezirksliga Chemnitz männl. Jugend C\nBegegnungs-Nr: 724\nHeim: NSG TSV/SV04/HCE\nGast: NSG TSV/SV04/HCE II\nHalle: SH Kurt-Helbig Plauen (32701)\nAdresse: Comeniusstr. 15\, 08523 Plauen\n
LOCATION:SH Kurt-Helbig Plauen (32701): Comeniusstr. 15\, 08523 Plauen
CATEGORIES:Saison 2021/22
END:VEVENT
BEGIN:VEVENT
DTSTAMP:20260425T032357Z
DTSTART;TZID=Europe/Berlin:20211113T100000
DTEND;TZID=Europe/Berlin:20211113T110000
SUMMARY:Bezirksliga mC NSG TSV/SV04/HCE vs NSG Gc-Mee-LO (713)
UID:6c2d4277-061d-4948-a7a0-a0ce67d908e4
STATUS:CONFIRMED
LAST-MODIFIED:20220222T103627Z
DESCRIPTION:Bezirksliga Chemnitz männl. Jugend C\nBegegnungs-Nr: 713\nHeim: NSG TSV/SV04/HCE\nGast: NSG Gc-Mee-LO\nHalle: Dreifelder-SH am BSZ \"Anne Frank\" (32711)\nAdresse: Wieprechtstr. 11\, 08525 Plauen\n
LOCATION:Dreifelder-SH am BSZ \"Anne Frank\" (32711): Wieprechtstr. 11\, 08525 Plauen
CATEGORIES:Saison 2021/22
END:VEVENT
BEGIN:VEVENT
DTSTAMP:20260425T032357Z
DTSTART;TZID=Europe/Berlin:20220521T120000
DTEND;TZID=Europe/Berlin:20220521T130000
SUMMARY:Bezirksliga mC NSG TSV/SV04/HCE vs HSG Rottluff/Lok Chemnitz II (733)
UID:0e2df88e-1014-48ce-a0bf-7ebf1e925c44
STATUS:CONFIRMED
LAST-MODIFIED:20220628T170315Z
DESCRIPTION:Bezirksliga Chemnitz männl. Jugend C\nBegegnungs-Nr: 733\nHeim: NSG TSV/SV04/HCE\nGast: HSG Rottluff/Lok Chemnitz II\nHalle: Dreifelder-SH am BSZ \"Anne Frank\" (32711)\nAdresse: Wieprechtstr. 11\, 08525 Plauen\n
LOCATION:Dreifelder-SH am BSZ \"Anne Frank\" (32711): Wieprechtstr. 11\, 08525 Plauen
CATEGORIES:Saison 2021/22
END:VEVENT
BEGIN:VEVENT
DTSTAMP:20260425T032357Z
DTSTART;TZID=Europe/Berlin:20220612T140000
DTEND;TZID=Europe/Berlin:20220612T150000
SUMMARY:Qualifikation SL 22/23 - Gr. A NSG TSV/SV04/HCE vs HC Elbflorenz 2006 II (2)
UID:4326a4d3-e2b4-458b-8991-3f4119a3f2e9
STATUS:CONFIRMED
LAST-MODIFIED:20220614T081858Z
DESCRIPTION:Qualifikation SL 22/23 _Gruppe A\nBegegnungs-Nr: 2\nHeim: NSG TSV/SV04/HCE\nGast: HC Elbflorenz 2006 II\nHalle: BallsportARENA Dresden (33133)\nAdresse: Weißeritzstraße 4\, 01067 Dresden\n
LOCATION:BallsportARENA Dresden (33133): Weißeritzstraße 4\, 01067 Dresden
CATEGORIES:Saison 2021/22
END:VEVENT
BEGIN:VEVENT
DTSTAMP:20260425T032357Z
DTSTART;TZID=Europe/Berlin:20220326T103000
DTEND;TZID=Europe/Berlin:20220326T113000
SUMMARY:Bezirksliga mC NSG TSV/SV04/HCE vs Rotation Weißenborn (720)
UID:e4438a37-919f-4ce1-a1d5-cf2d464d3dfb
STATUS:CONFIRMED
DESCRIPTION:Bezirksliga Chemnitz männl. Jugend C\nBegegnungs-Nr: 720\nHeim: NSG TSV/SV04/HCE\nGast: Rotation Weißenborn\nHalle: Dreifelder-SH am BSZ \"Anne Frank\" (32711)\nAdresse: Wieprechtstr. 11\, 08525 Plauen\n
LOCATION:Dreifelder-SH am BSZ \"Anne Frank\" (32711): Wieprechtstr. 11\, 08525 Plauen
CATEGORIES:Saison 2021/22
END:VEVENT
BEGIN:VEVENT
DTSTAMP:20260425T032357Z
DTSTART;TZID=Europe/Berlin:20211009T123000
DTEND;TZID=Europe/Berlin:20211009T133000
SUMMARY:Bezirksliga mC NSG TSV/SV04/HCE vs NSG TSV/SV04/HCE II (707)
UID:b80bebd8-75d2-4f44-a728-076e3ea6650d
STATUS:CONFIRMED
LAST-MODIFIED:20211109T124636Z
DESCRIPTION:Bezirksliga Chemnitz männl. Jugend C\nBegegnungs-Nr: 707\nHeim: NSG TSV/SV04/HCE\nGast: NSG TSV/SV04/HCE II\nHalle: Dreifelder-SH am BSZ \"Anne Frank\" (32711)\nAdresse: Wieprechtstr. 11\, 08525 Plauen\n
LOCATION:Dreifelder-SH am BSZ \"Anne Frank\" (32711): Wieprechtstr. 11\, 08525 Plauen
CATEGORIES:Saison 2021/22
END:VEVENT
BEGIN:VEVENT
DTSTAMP:20260425T032357Z
DTSTART;TZID=Europe/Berlin:20220616T183000
DTEND;TZID=Europe/Berlin:20220616T193000
SUMMARY:Bezirksliga mC NSG TSV/SV04/HCE vs NSG Gc-Mee-LO (719)
UID:27dfe993-b226-415d-a901-9273db7973e8
STATUS:CONFIRMED
LAST-MODIFIED:20220628T170236Z
DESCRIPTION:Bezirksliga Chemnitz männl. Jugend C\nBegegnungs-Nr: 719\nHeim: NSG TSV/SV04/HCE\nGast: NSG Gc-Mee-LO\nHalle: SH Kurt-Helbig Plauen (32701)\nAdresse: Comeniusstr. 15\, 08523 Plauen\n
LOCATION:SH Kurt-Helbig Plauen (32701): Comeniusstr. 15\, 08523 Plauen
CATEGORIES:Saison 2021/22
END:VEVENT
BEGIN:VEVENT
DTSTAMP:20260425T032357Z
DTSTART;TZID=Europe/Berlin:20220522T100000
DTEND;TZID=Europe/Berlin:20220522T110000
SUMMARY:Bezirksliga mC NSG Gc-Mee-LO vs NSG TSV/SV04/HCE (729)
UID:4340e220-597e-46b0-91dd-8ad9740a0117
STATUS:CONFIRMED
LAST-MODIFIED:20220628T170304Z
DESCRIPTION:Bezirksliga Chemnitz männl. Jugend C\nBegegnungs-Nr: 729\nHeim: NSG Gc-Mee-LO\nGast: NSG TSV/SV04/HCE\nHalle: SH Meerane (32202)\nAdresse: Leipziger Str. 7\, 08393 Meerane\n
LOCATION:SH Meerane (32202): Leipziger Str. 7\, 08393 Meerane
CATEGORIES:Saison 2021/22
END:VEVENT
BEGIN:VEVENT
DTSTAMP:20260425T032357Z
DTSTART;TZID=Europe/Berlin:20220530T171500
DTEND;TZID=Europe/Berlin:20220530T181500
SUMMARY:Bezirksliga mC HSG Rottluff/Lok Chemnitz II vs NSG TSV/SV04/HCE (723)
UID:b8a44a3e-2e78-4060-9ba3-351cdb1432da
STATUS:CONFIRMED
LAST-MODIFIED:20220628T170250Z
DESCRIPTION:Bezirksliga Chemnitz männl. Jugend C\nBegegnungs-Nr: 723\nHeim: HSG Rottluff/Lok Chemnitz II\nGast: NSG TSV/SV04/HCE\nHalle: SH Dr.-Wilhelm-André-Gymnasium Chemnitz (32114)\nAdresse: Henriettenstraße 35\, 09112 Chemnitz\n
LOCATION:SH Dr.-Wilhelm-André-Gymnasium Chemnitz (32114): Henriettenstraße 35\, 09112 Chemnitz
CATEGORIES:Saison 2021/22
END:VEVENT
BEGIN:VEVENT
DTSTAMP:20260425T032357Z
DTSTART;TZID=Europe/Berlin:20220612T150000
DTEND;TZID=Europe/Berlin:20220612T160000
SUMMARY:Qualifikation SL 22/23 - Gr. A HSG Freiberg vs NSG TSV/SV04/HCE (3)
UID:65fcb02c-f371-4108-b729-ccc552a1e5fd
STATUS:CONFIRMED
LAST-MODIFIED:20220617T121128Z
DESCRIPTION:Qualifikation SL 22/23 _Gruppe A\nBegegnungs-Nr: 3\nHeim: HSG Freiberg\nGast: NSG TSV/SV04/HCE\nHalle: BallsportARENA Dresden (33133)\nAdresse: Weißeritzstraße 4\, 01067 Dresden\n
LOCATION:BallsportARENA Dresden (33133): Weißeritzstraße 4\, 01067 Dresden
CATEGORIES:Saison 2021/22
END:VEVENT
BEGIN:VEVENT
DTSTAMP:20260425T032357Z
DTSTART;TZID=Europe/Berlin:20210925T120000
DTEND;TZID=Europe/Berlin:20210925T130000
SUMMARY:Bezirksliga mC Rotation Weißenborn vs NSG TSV/SV04/HCE (701)
UID:89d789df-2a24-462a-a75c-51c232824683
STATUS:CONFIRMED
LAST-MODIFIED:20211109T124458Z
DESCRIPTION:Bezirksliga Chemnitz männl. Jugend C\nBegegnungs-Nr: 701\nHeim: Rotation Weißenborn\nGast: NSG TSV/SV04/HCE\nHalle: SH Schoeller Weißenborn (32415)\nAdresse: Lichtenberger Straße 8\, 09600 Weißenborn\n
LOCATION:SH Schoeller Weißenborn (32415): Lichtenberger Straße 8\, 09600 Weißenborn
CATEGORIES:Saison 2021/22
END:VEVENT
BEGIN:VEVENT
DTSTAMP:20260425T032357Z
DTSTART;TZID=Europe/Berlin:20220306T120000
DTEND;TZID=Europe/Berlin:20220306T130000
SUMMARY:Bezirksliga mC NSG TSV/SV04/HCE II vs NSG TSV/SV04/HCE (714)
UID:e1267489-20a6-4fff-a641-401c8d61e40c
STATUS:CONFIRMED
DESCRIPTION:Bezirksliga Chemnitz männl. Jugend C\nBegegnungs-Nr: 714\nHeim: NSG TSV/SV04/HCE II\nGast: NSG TSV/SV04/HCE\nHalle: SH Kurt-Helbig Plauen (32701)\nAdresse: Comeniusstr. 15\, 08523 Plauen\n
LOCATION:SH Kurt-Helbig Plauen (32701): Comeniusstr. 15\, 08523 Plauen
CATEGORIES:Saison 2021/22
END:VEVENT
BEGIN:VEVENT
DTSTAMP:20260425T032357Z
DTSTART;TZID=Europe/Berlin:20220628T180000
DTEND;TZID=Europe/Berlin:20220628T190000
SUMMARY:Bezirksliga mC Rotation Weißenborn vs NSG TSV/SV04/HCE (731)
UID:24b48471-3898-4b2a-9d7f-fb5c52535001
STATUS:CONFIRMED
LAST-MODIFIED:20220530T094150Z
DESCRIPTION:Bezirksliga Chemnitz männl. Jugend C\nBegegnungs-Nr: 731\nHeim: Rotation Weißenborn\nGast: NSG TSV/SV04/HCE\nHalle: SH Schoeller Weißenborn (32415)\nAdresse: Lichtenberger Straße 8\, 09600 Weißenborn\n
LOCATION:SH Schoeller Weißenborn (32415): Lichtenberger Straße 8\, 09600 Weißenborn
CATEGORIES:Saison 2021/22
END:VEVENT
END:VCALENDAR
