BEGIN:VCALENDAR
PRODID:-//nuDatenautomaten//framework iCal4j //DE
VERSION:2.0
CALSCALE:GREGORIAN
BEGIN:VTIMEZONE
TZID:Europe/Berlin
LAST-MODIFIED:20260306T231828Z
TZURL:https://www.tzurl.org/zoneinfo/Europe/Berlin
X-LIC-LOCATION:Europe/Berlin
X-PROLEPTIC-TZNAME:LMT
BEGIN:STANDARD
TZNAME:CET
TZOFFSETFROM:+005328
TZOFFSETTO:+0100
DTSTART:18930401T000000
END:STANDARD
BEGIN:DAYLIGHT
TZNAME:CEST
TZOFFSETFROM:+0100
TZOFFSETTO:+0200
DTSTART:19160430T230000
RDATE:19400401T020000
RDATE:19430329T020000
RDATE:19460414T020000
RDATE:19470406T030000
RDATE:19480418T020000
RDATE:19490410T020000
RDATE:19800406T020000
END:DAYLIGHT
BEGIN:STANDARD
TZNAME:CET
TZOFFSETFROM:+0200
TZOFFSETTO:+0100
DTSTART:19161001T010000
RDATE:19421102T030000
RDATE:19431004T030000
RDATE:19441002T030000
RDATE:19451118T030000
RDATE:19461007T030000
END:STANDARD
BEGIN:DAYLIGHT
TZNAME:CEST
TZOFFSETFROM:+0100
TZOFFSETTO:+0200
DTSTART:19170416T020000
RRULE:FREQ=YEARLY;UNTIL=19180415T010000Z;BYMONTH=4;BYDAY=3MO
END:DAYLIGHT
BEGIN:STANDARD
TZNAME:CET
TZOFFSETFROM:+0200
TZOFFSETTO:+0100
DTSTART:19170917T030000
RRULE:FREQ=YEARLY;UNTIL=19180916T010000Z;BYMONTH=9;BYDAY=3MO
END:STANDARD
BEGIN:DAYLIGHT
TZNAME:CEST
TZOFFSETFROM:+0100
TZOFFSETTO:+0200
DTSTART:19440403T020000
RRULE:FREQ=YEARLY;UNTIL=19450402T010000Z;BYMONTH=4;BYDAY=1MO
END:DAYLIGHT
BEGIN:DAYLIGHT
TZNAME:CEMT
TZOFFSETFROM:+0200
TZOFFSETTO:+0300
DTSTART:19450524T020000
RDATE:19470511T030000
END:DAYLIGHT
BEGIN:DAYLIGHT
TZNAME:CEST
TZOFFSETFROM:+0300
TZOFFSETTO:+0200
DTSTART:19450924T030000
RDATE:19470629T030000
END:DAYLIGHT
BEGIN:STANDARD
TZNAME:CET
TZOFFSETFROM:+0100
TZOFFSETTO:+0100
DTSTART:19460101T000000
RDATE:19800101T000000
END:STANDARD
BEGIN:STANDARD
TZNAME:CET
TZOFFSETFROM:+0200
TZOFFSETTO:+0100
DTSTART:19471005T030000
RRULE:FREQ=YEARLY;UNTIL=19491002T010000Z;BYMONTH=10;BYDAY=1SU
END:STANDARD
BEGIN:STANDARD
TZNAME:CET
TZOFFSETFROM:+0200
TZOFFSETTO:+0100
DTSTART:19800928T030000
RRULE:FREQ=YEARLY;UNTIL=19950924T010000Z;BYMONTH=9;BYDAY=-1SU
END:STANDARD
BEGIN:DAYLIGHT
TZNAME:CEST
TZOFFSETFROM:+0100
TZOFFSETTO:+0200
DTSTART:19810329T020000
RRULE:FREQ=YEARLY;BYMONTH=3;BYDAY=-1SU
END:DAYLIGHT
BEGIN:STANDARD
TZNAME:CET
TZOFFSETFROM:+0200
TZOFFSETTO:+0100
DTSTART:19961027T030000
RRULE:FREQ=YEARLY;BYMONTH=10;BYDAY=-1SU
END:STANDARD
END:VTIMEZONE
BEGIN:VEVENT
DTSTAMP:20260426T031059Z
DTSTART;TZID=Europe/Berlin:20211106T133000
DTEND;TZID=Europe/Berlin:20211106T143000
SUMMARY:Bezirksliga mJC - 1 TuS Leipzig-Mockau vs HSG Rückmarsdorf (17107)
UID:52562588-0510-4816-ab6a-d7893fa2ee15
STATUS:CONFIRMED
LAST-MODIFIED:20211115T183740Z
DESCRIPTION:Bezirksliga männliche Jugend C  (Staffel 1)\nBegegnungs-Nr: 17107\nHeim: TuS Leipzig-Mockau\nGast: HSG Rückmarsdorf\nHalle: SH Leipzig-Wiederitzsch (31135)\nAdresse: Messeallee 21\, 04158 Leipzig\n
LOCATION:SH Leipzig-Wiederitzsch (31135): Messeallee 21\, 04158 Leipzig
CATEGORIES:Saison 2021/22
END:VEVENT
BEGIN:VEVENT
DTSTAMP:20260426T031059Z
DTSTART;TZID=Europe/Berlin:20211003T123000
DTEND;TZID=Europe/Berlin:20211003T133000
SUMMARY:Bezirksliga mJC - 1 TuS Leipzig-Mockau vs VICTORIA Naunhof (17102)
UID:8c20faf4-97b3-412b-9f06-802c3970de9c
STATUS:CONFIRMED
LAST-MODIFIED:20211011T140609Z
DESCRIPTION:Bezirksliga männliche Jugend C  (Staffel 1)\nBegegnungs-Nr: 17102\nHeim: TuS Leipzig-Mockau\nGast: VICTORIA Naunhof\nHalle: SH Leipzig-Wiederitzsch (31135)\nAdresse: Messeallee 21\, 04158 Leipzig\n
LOCATION:SH Leipzig-Wiederitzsch (31135): Messeallee 21\, 04158 Leipzig
CATEGORIES:Saison 2021/22
END:VEVENT
BEGIN:VEVENT
DTSTAMP:20260426T031059Z
DTSTART;TZID=Europe/Berlin:20220327T110000
DTEND;TZID=Europe/Berlin:20220327T120000
SUMMARY:Bezirksliga mJC - 1 Germania Zwenkau vs TuS Leipzig-Mockau (17115)
UID:4932213a-c016-400d-b3fb-6071406207c9
STATUS:CONFIRMED
LAST-MODIFIED:20220219T092217Z
DESCRIPTION:Bezirksliga männliche Jugend C  (Staffel 1)\nBegegnungs-Nr: 17115\nHeim: Germania Zwenkau\nGast: TuS Leipzig-Mockau\nHalle: Stadthalle Zwenkau (31113)\nAdresse: Heinrich-Mann-Weg 17\, 04442 Zwenkau\n
LOCATION:Stadthalle Zwenkau (31113): Heinrich-Mann-Weg 17\, 04442 Zwenkau
CATEGORIES:Saison 2021/22
END:VEVENT
BEGIN:VEVENT
DTSTAMP:20260426T031059Z
DTSTART;TZID=Europe/Berlin:20211010T133000
DTEND;TZID=Europe/Berlin:20211010T143000
SUMMARY:Bezirksliga mJC - 1 TSV Markkleeberg vs TuS Leipzig-Mockau (17104)
UID:c59812da-2e1b-4dee-8ffa-6399dc163b5c
STATUS:CONFIRMED
LAST-MODIFIED:20211030T090541Z
DESCRIPTION:Bezirksliga männliche Jugend C  (Staffel 1)\nBegegnungs-Nr: 17104\nHeim: TSV Markkleeberg\nGast: TuS Leipzig-Mockau\nHalle: Peter-Pohlmann-Sportzentrum (31123)\nAdresse: Mehringstraße 6\, 04416 Markkleeberg\n
LOCATION:Peter-Pohlmann-Sportzentrum (31123): Mehringstraße 6\, 04416 Markkleeberg
CATEGORIES:Saison 2021/22
END:VEVENT
BEGIN:VEVENT
DTSTAMP:20260426T031059Z
DTSTART;TZID=Europe/Berlin:20220403T140000
DTEND;TZID=Europe/Berlin:20220403T150000
SUMMARY:Bezirksliga mJC - 1 NHV Concordia Delitzsch vs TuS Leipzig-Mockau (17113)
UID:2242bfbb-013b-4e9c-8656-c9707bfe9e30
STATUS:CONFIRMED
LAST-MODIFIED:20220318T160000Z
DESCRIPTION:Bezirksliga männliche Jugend C  (Staffel 1)\nBegegnungs-Nr: 17113\nHeim: NHV Concordia Delitzsch\nGast: TuS Leipzig-Mockau\nHalle: Mehrzweckhalle Delitzsch  (31304)\nAdresse: Karl-Marx-Str. 1\, 04509 Delitzsch\n
LOCATION:Mehrzweckhalle Delitzsch  (31304): Karl-Marx-Str. 1\, 04509 Delitzsch
CATEGORIES:Saison 2021/22
END:VEVENT
END:VCALENDAR
