BEGIN:VCALENDAR
PRODID:-//nuDatenautomaten//framework iCal4j //DE
VERSION:2.0
CALSCALE:GREGORIAN
BEGIN:VTIMEZONE
TZID:Europe/Berlin
LAST-MODIFIED:20260306T231828Z
TZURL:https://www.tzurl.org/zoneinfo/Europe/Berlin
X-LIC-LOCATION:Europe/Berlin
X-PROLEPTIC-TZNAME:LMT
BEGIN:STANDARD
TZNAME:CET
TZOFFSETFROM:+005328
TZOFFSETTO:+0100
DTSTART:18930401T000000
END:STANDARD
BEGIN:DAYLIGHT
TZNAME:CEST
TZOFFSETFROM:+0100
TZOFFSETTO:+0200
DTSTART:19160430T230000
RDATE:19400401T020000
RDATE:19430329T020000
RDATE:19460414T020000
RDATE:19470406T030000
RDATE:19480418T020000
RDATE:19490410T020000
RDATE:19800406T020000
END:DAYLIGHT
BEGIN:STANDARD
TZNAME:CET
TZOFFSETFROM:+0200
TZOFFSETTO:+0100
DTSTART:19161001T010000
RDATE:19421102T030000
RDATE:19431004T030000
RDATE:19441002T030000
RDATE:19451118T030000
RDATE:19461007T030000
END:STANDARD
BEGIN:DAYLIGHT
TZNAME:CEST
TZOFFSETFROM:+0100
TZOFFSETTO:+0200
DTSTART:19170416T020000
RRULE:FREQ=YEARLY;UNTIL=19180415T010000Z;BYMONTH=4;BYDAY=3MO
END:DAYLIGHT
BEGIN:STANDARD
TZNAME:CET
TZOFFSETFROM:+0200
TZOFFSETTO:+0100
DTSTART:19170917T030000
RRULE:FREQ=YEARLY;UNTIL=19180916T010000Z;BYMONTH=9;BYDAY=3MO
END:STANDARD
BEGIN:DAYLIGHT
TZNAME:CEST
TZOFFSETFROM:+0100
TZOFFSETTO:+0200
DTSTART:19440403T020000
RRULE:FREQ=YEARLY;UNTIL=19450402T010000Z;BYMONTH=4;BYDAY=1MO
END:DAYLIGHT
BEGIN:DAYLIGHT
TZNAME:CEMT
TZOFFSETFROM:+0200
TZOFFSETTO:+0300
DTSTART:19450524T020000
RDATE:19470511T030000
END:DAYLIGHT
BEGIN:DAYLIGHT
TZNAME:CEST
TZOFFSETFROM:+0300
TZOFFSETTO:+0200
DTSTART:19450924T030000
RDATE:19470629T030000
END:DAYLIGHT
BEGIN:STANDARD
TZNAME:CET
TZOFFSETFROM:+0100
TZOFFSETTO:+0100
DTSTART:19460101T000000
RDATE:19800101T000000
END:STANDARD
BEGIN:STANDARD
TZNAME:CET
TZOFFSETFROM:+0200
TZOFFSETTO:+0100
DTSTART:19471005T030000
RRULE:FREQ=YEARLY;UNTIL=19491002T010000Z;BYMONTH=10;BYDAY=1SU
END:STANDARD
BEGIN:STANDARD
TZNAME:CET
TZOFFSETFROM:+0200
TZOFFSETTO:+0100
DTSTART:19800928T030000
RRULE:FREQ=YEARLY;UNTIL=19950924T010000Z;BYMONTH=9;BYDAY=-1SU
END:STANDARD
BEGIN:DAYLIGHT
TZNAME:CEST
TZOFFSETFROM:+0100
TZOFFSETTO:+0200
DTSTART:19810329T020000
RRULE:FREQ=YEARLY;BYMONTH=3;BYDAY=-1SU
END:DAYLIGHT
BEGIN:STANDARD
TZNAME:CET
TZOFFSETFROM:+0200
TZOFFSETTO:+0100
DTSTART:19961027T030000
RRULE:FREQ=YEARLY;BYMONTH=10;BYDAY=-1SU
END:STANDARD
END:VTIMEZONE
BEGIN:VEVENT
DTSTAMP:20260424T132638Z
DTSTART;TZID=Europe/Berlin:20220327T140000
DTEND;TZID=Europe/Berlin:20220327T150000
SUMMARY:Sachsenliga wJC Görlitzer HC vs HSV Marienberg (21056)
UID:a7e71b63-931a-4785-97f6-efaa7fe66aa9
STATUS:CONFIRMED
LAST-MODIFIED:20220403T102239Z
DESCRIPTION:Sachsenliga weibliche Jugend C\nBegegnungs-Nr: 21056\nHeim: Görlitzer HC\nGast: HSV Marienberg\nHalle: Jahn-SH Görlitz (34302)\nAdresse: Kummerau 6\, 02826 Görlitz\n
LOCATION:Jahn-SH Görlitz (34302): Kummerau 6\, 02826 Görlitz
CATEGORIES:Saison 2021/22
END:VEVENT
BEGIN:VEVENT
DTSTAMP:20260424T132638Z
DTSTART;TZID=Europe/Berlin:20220410T161500
DTEND;TZID=Europe/Berlin:20220410T164500
SUMMARY:Quali BE Endrunde Görlitzer HC vs HC Leipzig (5)
UID:54afc4de-be2a-4763-9ee9-3a78c37f9bfd
STATUS:CONFIRMED
LAST-MODIFIED:20220410T170206Z
DESCRIPTION:Quali für Nord-Ost-Deutsche Bestenermittlung/MHV Meisterschaft Endrunde\nBegegnungs-Nr: 5\nHeim: Görlitzer HC\nGast: HC Leipzig\nHalle: SH BSZ Meißen (33220)\nAdresse: Goethestraße 21\, 01662 Meißen\n
LOCATION:SH BSZ Meißen (33220): Goethestraße 21\, 01662 Meißen
CATEGORIES:Saison 2021/22
END:VEVENT
BEGIN:VEVENT
DTSTAMP:20260424T132638Z
DTSTART;TZID=Europe/Berlin:20220514T110000
DTEND;TZID=Europe/Berlin:20220514T120000
SUMMARY:Sachsenliga wJC Görlitzer HC vs HC Leipzig (21030)
UID:1c67f3b1-f44f-4a32-bf81-7616a1008de9
STATUS:CONFIRMED
LAST-MODIFIED:20220517T185224Z
DESCRIPTION:Sachsenliga weibliche Jugend C\nBegegnungs-Nr: 21030\nHeim: Görlitzer HC\nGast: HC Leipzig\nHalle: SH Rauschwalde (34301)\nAdresse: Diesterwegplatz 8\, 02827 Görlitz\n
LOCATION:SH Rauschwalde (34301): Diesterwegplatz 8\, 02827 Görlitz
CATEGORIES:Saison 2021/22
END:VEVENT
BEGIN:VEVENT
DTSTAMP:20260424T132638Z
DTSTART;TZID=Europe/Berlin:20220329T180000
DTEND;TZID=Europe/Berlin:20220329T190000
SUMMARY:Sachsenliga wJC Görlitzer HC vs SSV Heidenau  (21016)
UID:568ef744-f97d-486f-8f4a-8bdf31b94d2f
STATUS:CONFIRMED
LAST-MODIFIED:20220403T102357Z
DESCRIPTION:Sachsenliga weibliche Jugend C\nBegegnungs-Nr: 21016\nHeim: Görlitzer HC\nGast: SSV Heidenau \nHalle: SH Rauschwalde (34301)\nAdresse: Diesterwegplatz 8\, 02827 Görlitz\n
LOCATION:SH Rauschwalde (34301): Diesterwegplatz 8\, 02827 Görlitz
CATEGORIES:Saison 2021/22
END:VEVENT
BEGIN:VEVENT
DTSTAMP:20260424T132638Z
DTSTART;TZID=Europe/Berlin:20220510T180000
DTEND;TZID=Europe/Berlin:20220510T190000
SUMMARY:Sachsenliga wJC Görlitzer HC vs MSV Dresden (21043)
UID:14bd07cb-04ff-4ccf-a7bd-73ca05224959
STATUS:CONFIRMED
LAST-MODIFIED:20220517T185104Z
DESCRIPTION:Sachsenliga weibliche Jugend C\nBegegnungs-Nr: 21043\nHeim: Görlitzer HC\nGast: MSV Dresden\nHalle: SH BSZ \"Christoph Lüders\" (34304)\nAdresse: Sattigstraße 10\, 02826 Görlitz\n
LOCATION:SH BSZ \"Christoph Lüders\" (34304): Sattigstraße 10\, 02826 Görlitz
CATEGORIES:Saison 2021/22
END:VEVENT
BEGIN:VEVENT
DTSTAMP:20260424T132638Z
DTSTART;TZID=Europe/Berlin:20211003T120000
DTEND;TZID=Europe/Berlin:20211003T130000
SUMMARY:Sachsenliga wJC Görlitzer HC vs HC Rödertal  (21003)
UID:b0bef569-fa2d-45db-ba27-b22d525a4f4e
STATUS:CONFIRMED
LAST-MODIFIED:20211005T192447Z
DESCRIPTION:Sachsenliga weibliche Jugend C\nBegegnungs-Nr: 21003\nHeim: Görlitzer HC\nGast: HC Rödertal \nHalle: Jahn-SH Görlitz (34302)\nAdresse: Kummerau 6\, 02826 Görlitz\n
LOCATION:Jahn-SH Görlitz (34302): Kummerau 6\, 02826 Görlitz
CATEGORIES:Saison 2021/22
END:VEVENT
BEGIN:VEVENT
DTSTAMP:20260424T132638Z
DTSTART;TZID=Europe/Berlin:20220410T134500
DTEND;TZID=Europe/Berlin:20220410T141500
SUMMARY:Quali BE VR Gr.II Görlitzer HC vs VfL Meißen (6)
UID:0feafac6-ff84-4f11-90ff-383df602881c
STATUS:CONFIRMED
LAST-MODIFIED:20220410T170002Z
DESCRIPTION:Quali für Nord-Ost-Deutsche Bestenermittlung/MHV Meisterschaft GR II\nBegegnungs-Nr: 6\nHeim: Görlitzer HC\nGast: VfL Meißen\n
LOCATION:
CATEGORIES:Saison 2021/22
END:VEVENT
BEGIN:VEVENT
DTSTAMP:20260424T132638Z
DTSTART;TZID=Europe/Berlin:20220410T144500
DTEND;TZID=Europe/Berlin:20220410T151500
SUMMARY:Quali BE Endrunde SC Markranstädt vs Görlitzer HC (3)
UID:82cc67e6-7df3-4575-b04f-2329f71f06fb
STATUS:CONFIRMED
LAST-MODIFIED:20220410T170125Z
DESCRIPTION:Quali für Nord-Ost-Deutsche Bestenermittlung/MHV Meisterschaft Endrunde\nBegegnungs-Nr: 3\nHeim: SC Markranstädt\nGast: Görlitzer HC\nHalle: SH BSZ Meißen (33220)\nAdresse: Goethestraße 21\, 01662 Meißen\n
LOCATION:SH BSZ Meißen (33220): Goethestraße 21\, 01662 Meißen
CATEGORIES:Saison 2021/22
END:VEVENT
BEGIN:VEVENT
DTSTAMP:20260424T132638Z
DTSTART;TZID=Europe/Berlin:20220410T104500
DTEND;TZID=Europe/Berlin:20220410T111500
SUMMARY:Quali BE Endrunde BSV Sa. Zwickau vs Görlitzer HC (2)
UID:c65f25af-d106-456d-a265-a5014e40d4b7
STATUS:CONFIRMED
LAST-MODIFIED:20220410T122110Z
DESCRIPTION:Quali für Nord-Ost-Deutsche Bestenermittlung/MHV Meisterschaft Endrunde\nBegegnungs-Nr: 2\nHeim: BSV Sa. Zwickau\nGast: Görlitzer HC\nHalle: SH BSZ Meißen (33220)\nAdresse: Goethestraße 21\, 01662 Meißen\n
LOCATION:SH BSZ Meißen (33220): Goethestraße 21\, 01662 Meißen
CATEGORIES:Saison 2021/22
END:VEVENT
BEGIN:VEVENT
DTSTAMP:20260424T132638Z
DTSTART;TZID=Europe/Berlin:20220319T160000
DTEND;TZID=Europe/Berlin:20220319T170000
SUMMARY:Sachsenliga wJC BSV Sa. Zwickau vs Görlitzer HC (21040)
UID:0bfb9126-78ce-4d50-a903-bcba68792ed7
STATUS:CONFIRMED
LAST-MODIFIED:20220321T125309Z
DESCRIPTION:Sachsenliga weibliche Jugend C\nBegegnungs-Nr: 21040\nHeim: BSV Sa. Zwickau\nGast: Görlitzer HC\nHalle: SH Zwickau-Neuplanitz (32501)\nAdresse: Dortmunder Str. 7a\, 08062 Zwickau\n
LOCATION:SH Zwickau-Neuplanitz (32501): Dortmunder Str. 7a\, 08062 Zwickau
CATEGORIES:Saison 2021/22
END:VEVENT
BEGIN:VEVENT
DTSTAMP:20260424T132638Z
DTSTART;TZID=Europe/Berlin:20220503T180000
DTEND;TZID=Europe/Berlin:20220503T190000
SUMMARY:Sachsenliga wJC SC Hoyerswerda  vs Görlitzer HC (21007)
UID:fb702117-ab0d-4859-a513-d5f11244658d
STATUS:CONFIRMED
LAST-MODIFIED:20220509T150027Z
DESCRIPTION:Sachsenliga weibliche Jugend C\nBegegnungs-Nr: 21007\nHeim: SC Hoyerswerda \nGast: Görlitzer HC\nHalle: VBH Arena Hoyerswerda (34202)\nAdresse: Lieselotte-Herrmann-Str. 11\, 02977 Hoyerswerda\n
LOCATION:VBH Arena Hoyerswerda (34202): Lieselotte-Herrmann-Str. 11\, 02977 Hoyerswerda
CATEGORIES:Saison 2021/22
END:VEVENT
BEGIN:VEVENT
DTSTAMP:20260424T132638Z
DTSTART;TZID=Europe/Berlin:20211016T140000
DTEND;TZID=Europe/Berlin:20211016T150000
SUMMARY:Sachsenliga wJC SC Markranstädt vs Görlitzer HC (21051)
UID:79b96495-1f56-41a9-86cf-cbfb244ce233
STATUS:CONFIRMED
LAST-MODIFIED:20211031T170857Z
DESCRIPTION:Sachsenliga weibliche Jugend C\nBegegnungs-Nr: 21051\nHeim: SC Markranstädt\nGast: Görlitzer HC\nHalle: Sportcenter Markranstädt (31127)\nAdresse: Leipziger Str. 47\, 04420 Markranstädt\n
LOCATION:Sportcenter Markranstädt (31127): Leipziger Str. 47\, 04420 Markranstädt
CATEGORIES:Saison 2021/22
END:VEVENT
BEGIN:VEVENT
DTSTAMP:20260424T132638Z
DTSTART;TZID=Europe/Berlin:20220401T180000
DTEND;TZID=Europe/Berlin:20220401T190000
SUMMARY:Sachsenliga wJC MSV Dresden II vs Görlitzer HC (21018)
UID:61a02327-299b-41b1-991b-9a7ceebaffd7
STATUS:CONFIRMED
LAST-MODIFIED:20220403T102434Z
DESCRIPTION:Sachsenliga weibliche Jugend C\nBegegnungs-Nr: 21018\nHeim: MSV Dresden II\nGast: Görlitzer HC\nHalle: SH Erlwein-Gymnasium Dresden (33127)\nAdresse: Eibenstocker Straße 30\, 01277 Dresden\n
LOCATION:SH Erlwein-Gymnasium Dresden (33127): Eibenstocker Straße 30\, 01277 Dresden
CATEGORIES:Saison 2021/22
END:VEVENT
BEGIN:VEVENT
DTSTAMP:20260424T132638Z
DTSTART;TZID=Europe/Berlin:20220410T104500
DTEND;TZID=Europe/Berlin:20220410T111500
SUMMARY:Quali BE VR Gr.II BSV Sa. Zwickau vs Görlitzer HC (2)
UID:de1a022f-6c5e-4dd9-9be6-077c7ae5d760
STATUS:CONFIRMED
LAST-MODIFIED:20220410T165918Z
DESCRIPTION:Quali für Nord-Ost-Deutsche Bestenermittlung/MHV Meisterschaft GR II\nBegegnungs-Nr: 2\nHeim: BSV Sa. Zwickau\nGast: Görlitzer HC\n
LOCATION:
CATEGORIES:Saison 2021/22
END:VEVENT
BEGIN:VEVENT
DTSTAMP:20260424T132638Z
DTSTART;TZID=Europe/Berlin:20220305T114000
DTEND;TZID=Europe/Berlin:20220305T124000
SUMMARY:Sachsenliga wJC Radeberger SV vs Görlitzer HC (21029)
UID:c5bf20e9-0741-4b7f-9c33-fbeedc42fae2
STATUS:CONFIRMED
LAST-MODIFIED:20220309T211201Z
DESCRIPTION:Sachsenliga weibliche Jugend C\nBegegnungs-Nr: 21029\nHeim: Radeberger SV\nGast: Görlitzer HC\nHalle: 3-Feld-Halle-BSZ Radeberg (34209)\nAdresse: Robert-Blum-Weg 5\, 01454 Radeberg\n
LOCATION:3-Feld-Halle-BSZ Radeberg (34209): Robert-Blum-Weg 5\, 01454 Radeberg
CATEGORIES:Saison 2021/22
END:VEVENT
BEGIN:VEVENT
DTSTAMP:20260424T132638Z
DTSTART;TZID=Europe/Berlin:20220625T100000
DTEND;TZID=Europe/Berlin:20220625T110000
SUMMARY:Sachsenliga wJC VfL Meißen vs Görlitzer HC (21062)
UID:518c195a-cd74-4cec-ba44-316a158ec27c
STATUS:CONFIRMED
LAST-MODIFIED:20220627T051840Z
DESCRIPTION:Sachsenliga weibliche Jugend C\nBegegnungs-Nr: 21062\nHeim: VfL Meißen\nGast: Görlitzer HC\nHalle: SH \"Heiliger Grund\" Meißen (33212)\nAdresse: Goethestraße 27\, 01662 Meißen\n
LOCATION:SH \"Heiliger Grund\" Meißen (33212): Goethestraße 27\, 01662 Meißen
CATEGORIES:Saison 2021/22
END:VEVENT
END:VCALENDAR
