BEGIN:VCALENDAR
PRODID:-//nuDatenautomaten//framework iCal4j //DE
VERSION:2.0
CALSCALE:GREGORIAN
BEGIN:VTIMEZONE
TZID:Europe/Berlin
LAST-MODIFIED:20260306T231828Z
TZURL:https://www.tzurl.org/zoneinfo/Europe/Berlin
X-LIC-LOCATION:Europe/Berlin
X-PROLEPTIC-TZNAME:LMT
BEGIN:STANDARD
TZNAME:CET
TZOFFSETFROM:+005328
TZOFFSETTO:+0100
DTSTART:18930401T000000
END:STANDARD
BEGIN:DAYLIGHT
TZNAME:CEST
TZOFFSETFROM:+0100
TZOFFSETTO:+0200
DTSTART:19160430T230000
RDATE:19400401T020000
RDATE:19430329T020000
RDATE:19460414T020000
RDATE:19470406T030000
RDATE:19480418T020000
RDATE:19490410T020000
RDATE:19800406T020000
END:DAYLIGHT
BEGIN:STANDARD
TZNAME:CET
TZOFFSETFROM:+0200
TZOFFSETTO:+0100
DTSTART:19161001T010000
RDATE:19421102T030000
RDATE:19431004T030000
RDATE:19441002T030000
RDATE:19451118T030000
RDATE:19461007T030000
END:STANDARD
BEGIN:DAYLIGHT
TZNAME:CEST
TZOFFSETFROM:+0100
TZOFFSETTO:+0200
DTSTART:19170416T020000
RRULE:FREQ=YEARLY;UNTIL=19180415T010000Z;BYMONTH=4;BYDAY=3MO
END:DAYLIGHT
BEGIN:STANDARD
TZNAME:CET
TZOFFSETFROM:+0200
TZOFFSETTO:+0100
DTSTART:19170917T030000
RRULE:FREQ=YEARLY;UNTIL=19180916T010000Z;BYMONTH=9;BYDAY=3MO
END:STANDARD
BEGIN:DAYLIGHT
TZNAME:CEST
TZOFFSETFROM:+0100
TZOFFSETTO:+0200
DTSTART:19440403T020000
RRULE:FREQ=YEARLY;UNTIL=19450402T010000Z;BYMONTH=4;BYDAY=1MO
END:DAYLIGHT
BEGIN:DAYLIGHT
TZNAME:CEMT
TZOFFSETFROM:+0200
TZOFFSETTO:+0300
DTSTART:19450524T020000
RDATE:19470511T030000
END:DAYLIGHT
BEGIN:DAYLIGHT
TZNAME:CEST
TZOFFSETFROM:+0300
TZOFFSETTO:+0200
DTSTART:19450924T030000
RDATE:19470629T030000
END:DAYLIGHT
BEGIN:STANDARD
TZNAME:CET
TZOFFSETFROM:+0100
TZOFFSETTO:+0100
DTSTART:19460101T000000
RDATE:19800101T000000
END:STANDARD
BEGIN:STANDARD
TZNAME:CET
TZOFFSETFROM:+0200
TZOFFSETTO:+0100
DTSTART:19471005T030000
RRULE:FREQ=YEARLY;UNTIL=19491002T010000Z;BYMONTH=10;BYDAY=1SU
END:STANDARD
BEGIN:STANDARD
TZNAME:CET
TZOFFSETFROM:+0200
TZOFFSETTO:+0100
DTSTART:19800928T030000
RRULE:FREQ=YEARLY;UNTIL=19950924T010000Z;BYMONTH=9;BYDAY=-1SU
END:STANDARD
BEGIN:DAYLIGHT
TZNAME:CEST
TZOFFSETFROM:+0100
TZOFFSETTO:+0200
DTSTART:19810329T020000
RRULE:FREQ=YEARLY;BYMONTH=3;BYDAY=-1SU
END:DAYLIGHT
BEGIN:STANDARD
TZNAME:CET
TZOFFSETFROM:+0200
TZOFFSETTO:+0100
DTSTART:19961027T030000
RRULE:FREQ=YEARLY;BYMONTH=10;BYDAY=-1SU
END:STANDARD
END:VTIMEZONE
BEGIN:VEVENT
DTSTAMP:20260424T082512Z
DTSTART;TZID=Europe/Berlin:20220306T134500
DTEND;TZID=Europe/Berlin:20220306T144500
SUMMARY:KlwJD E/R - T10 - TSV 1862 Radeburg Medizin Bad Gottleuba vs HSV Weinböhla (2)
UID:fbe4355c-8078-40ed-90ff-810afe7a6002
STATUS:CONFIRMED
LAST-MODIFIED:20220311T195324Z
DESCRIPTION:KreisLiga wJD E/R - T10 - TSV 1862 Radeburg\nBegegnungs-Nr: 2\nHeim: Medizin Bad Gottleuba\nGast: HSV Weinböhla\nHalle: Paul-Tiedemann-SH Radeburg (33214)\nAdresse: Meißner Berg 83c\, 01471 Radeburg\n
LOCATION:Paul-Tiedemann-SH Radeburg (33214): Meißner Berg 83c\, 01471 Radeburg
CATEGORIES:Saison 2021/22
END:VEVENT
BEGIN:VEVENT
DTSTAMP:20260424T082512Z
DTSTART;TZID=Europe/Berlin:20220515T110000
DTEND;TZID=Europe/Berlin:20220515T120000
SUMMARY:KlwJD E/R - T08 - TSV 1862 Radeburg Medizin Bad Gottleuba vs SG Klotzsche (2)
UID:68808e11-102a-4fdd-b88d-3198accd5f91
STATUS:CONFIRMED
LAST-MODIFIED:20220515T175738Z
DESCRIPTION:KreisLiga wJD E/R - T08 - TSV 1862 Radeburg\nBegegnungs-Nr: 2\nHeim: Medizin Bad Gottleuba\nGast: SG Klotzsche\nHalle: Paul-Tiedemann-SH Radeburg (33214)\nAdresse: Meißner Berg 83c\, 01471 Radeburg\n
LOCATION:Paul-Tiedemann-SH Radeburg (33214): Meißner Berg 83c\, 01471 Radeburg
CATEGORIES:Saison 2021/22
END:VEVENT
BEGIN:VEVENT
DTSTAMP:20260424T082512Z
DTSTART;TZID=Europe/Berlin:20211003T100000
DTEND;TZID=Europe/Berlin:20211003T110000
SUMMARY:KlwJD E/R - T02 - SG Klotzsche Medizin Bad Gottleuba vs TSV 1862 Radeburg (2)
UID:51682d24-f4cf-4ad4-8e4d-b061f71f9254
STATUS:CONFIRMED
LAST-MODIFIED:20211007T180259Z
DESCRIPTION:KreisLiga wJD E/R - T02 - SG Kotzsche\nBegegnungs-Nr: 2\nHeim: Medizin Bad Gottleuba\nGast: TSV 1862 Radeburg\nHalle: SH Gymnasium Klotzsche (33126)\nAdresse: Karl-Marx-Straße 44\, 01109 Dresden\n
LOCATION:SH Gymnasium Klotzsche (33126): Karl-Marx-Straße 44\, 01109 Dresden
CATEGORIES:Saison 2021/22
END:VEVENT
BEGIN:VEVENT
DTSTAMP:20260424T082512Z
DTSTART;TZID=Europe/Berlin:20220327T100000
DTEND;TZID=Europe/Berlin:20220327T110000
SUMMARY:KlwJD E/R -Teilnehmer Medizin Bad Gottleuba vs NSG Dresden NordWest (601)
UID:085e0da9-2f9e-47ed-97e7-f0a15daff4f4
STATUS:CONFIRMED
LAST-MODIFIED:20220510T180107Z
DESCRIPTION:KreisLiga wJD E/R -Teilnehmer\nBegegnungs-Nr: 601\nHeim: Medizin Bad Gottleuba\nGast: NSG Dresden NordWest\nHalle: SH Geising (33201)\nAdresse: Lange Str. 25\, 01778 Altenberg ST Geising\n
LOCATION:SH Geising (33201): Lange Str. 25\, 01778 Altenberg ST Geising
CATEGORIES:Saison 2021/22
END:VEVENT
BEGIN:VEVENT
DTSTAMP:20260424T082512Z
DTSTART;TZID=Europe/Berlin:20220327T130000
DTEND;TZID=Europe/Berlin:20220327T140000
SUMMARY:KlwJD E/R -Teilnehmer Medizin Bad Gottleuba vs Radebeuler HV II (604)
UID:af8cccaf-07a9-41f0-8b2c-8e1d459f346a
STATUS:CONFIRMED
LAST-MODIFIED:20220510T180422Z
DESCRIPTION:KreisLiga wJD E/R -Teilnehmer\nBegegnungs-Nr: 604\nHeim: Medizin Bad Gottleuba\nGast: Radebeuler HV II\nHalle: SH Geising (33201)\nAdresse: Lange Str. 25\, 01778 Altenberg ST Geising\n
LOCATION:SH Geising (33201): Lange Str. 25\, 01778 Altenberg ST Geising
CATEGORIES:Saison 2021/22
END:VEVENT
BEGIN:VEVENT
DTSTAMP:20260424T082512Z
DTSTART;TZID=Europe/Berlin:20220515T110000
DTEND;TZID=Europe/Berlin:20220515T120000
SUMMARY:KlwJD E/R -Teilnehmer Medizin Bad Gottleuba vs SG Klotzsche (802)
UID:def5b4c8-ca7c-47d9-9ec5-7b04ca2a0fe0
STATUS:CONFIRMED
LAST-MODIFIED:20220515T180547Z
DESCRIPTION:KreisLiga wJD E/R -Teilnehmer\nBegegnungs-Nr: 802\nHeim: Medizin Bad Gottleuba\nGast: SG Klotzsche\nHalle: Paul-Tiedemann-SH Radeburg (33214)\nAdresse: Meißner Berg 83c\, 01471 Radeburg\n
LOCATION:Paul-Tiedemann-SH Radeburg (33214): Meißner Berg 83c\, 01471 Radeburg
CATEGORIES:Saison 2021/22
END:VEVENT
BEGIN:VEVENT
DTSTAMP:20260424T082512Z
DTSTART;TZID=Europe/Berlin:20220306T134500
DTEND;TZID=Europe/Berlin:20220306T144500
SUMMARY:KlwJD E/R -Teilnehmer Medizin Bad Gottleuba vs HSV Weinböhla (1002)
UID:b7a8b210-827e-4c7e-9235-cd53856921f9
STATUS:CONFIRMED
LAST-MODIFIED:20220311T200723Z
DESCRIPTION:KreisLiga wJD E/R -Teilnehmer\nBegegnungs-Nr: 1002\nHeim: Medizin Bad Gottleuba\nGast: HSV Weinböhla\nHalle: Paul-Tiedemann-SH Radeburg (33214)\nAdresse: Meißner Berg 83c\, 01471 Radeburg\n
LOCATION:Paul-Tiedemann-SH Radeburg (33214): Meißner Berg 83c\, 01471 Radeburg
CATEGORIES:Saison 2021/22
END:VEVENT
BEGIN:VEVENT
DTSTAMP:20260424T082512Z
DTSTART;TZID=Europe/Berlin:20220306T143000
DTEND;TZID=Europe/Berlin:20220306T153000
SUMMARY:KlwJD E/R -Teilnehmer Medizin Bad Gottleuba vs HSG Weißeritztal (1003)
UID:850c1352-afd9-4d9f-8231-e946221cf3a4
STATUS:CONFIRMED
LAST-MODIFIED:20220311T201121Z
DESCRIPTION:KreisLiga wJD E/R -Teilnehmer\nBegegnungs-Nr: 1003\nHeim: Medizin Bad Gottleuba\nGast: HSG Weißeritztal\nHalle: Paul-Tiedemann-SH Radeburg (33214)\nAdresse: Meißner Berg 83c\, 01471 Radeburg\n
LOCATION:Paul-Tiedemann-SH Radeburg (33214): Meißner Berg 83c\, 01471 Radeburg
CATEGORIES:Saison 2021/22
END:VEVENT
BEGIN:VEVENT
DTSTAMP:20260424T082512Z
DTSTART;TZID=Europe/Berlin:20211003T100000
DTEND;TZID=Europe/Berlin:20211003T110000
SUMMARY:KlwJD E/R -Teilnehmer Medizin Bad Gottleuba vs TSV 1862 Radeburg (202)
UID:c3dd7116-e850-4ab2-85a6-04a4ced23164
STATUS:CONFIRMED
LAST-MODIFIED:20211117T175041Z
DESCRIPTION:KreisLiga wJD E/R -Teilnehmer\nBegegnungs-Nr: 202\nHeim: Medizin Bad Gottleuba\nGast: TSV 1862 Radeburg\nHalle: SH Gymnasium Klotzsche (33126)\nAdresse: Karl-Marx-Straße 44\, 01109 Dresden\n
LOCATION:SH Gymnasium Klotzsche (33126): Karl-Marx-Straße 44\, 01109 Dresden
CATEGORIES:Saison 2021/22
END:VEVENT
BEGIN:VEVENT
DTSTAMP:20260424T082512Z
DTSTART;TZID=Europe/Berlin:20220327T130000
DTEND;TZID=Europe/Berlin:20220327T140000
SUMMARY:KlwJD E/R - T06 - SV Med. Bad Gottleuba Medizin Bad Gottleuba vs Radebeuler HV II (4)
UID:669abb7b-6859-441f-ae0b-dbdea3a5888c
STATUS:CONFIRMED
LAST-MODIFIED:20220315T161018Z
DESCRIPTION:KreisLiga wJD E/R - T06 - SV Med. Bad Gottleuba\nBegegnungs-Nr: 4\nHeim: Medizin Bad Gottleuba\nGast: Radebeuler HV II\nHalle: SH Geising (33201)\nAdresse: Lange Str. 25\, 01778 Altenberg ST Geising\n
LOCATION:SH Geising (33201): Lange Str. 25\, 01778 Altenberg ST Geising
CATEGORIES:Saison 2021/22
END:VEVENT
BEGIN:VEVENT
DTSTAMP:20260424T082512Z
DTSTART;TZID=Europe/Berlin:20220327T100000
DTEND;TZID=Europe/Berlin:20220327T110000
SUMMARY:KlwJD E/R - T06 - SV Med. Bad Gottleuba Medizin Bad Gottleuba vs NSG Dresden NordWest (1)
UID:56400624-c6b2-43ed-b6ac-f191d072dc44
STATUS:CONFIRMED
LAST-MODIFIED:20220315T160832Z
DESCRIPTION:KreisLiga wJD E/R - T06 - SV Med. Bad Gottleuba\nBegegnungs-Nr: 1\nHeim: Medizin Bad Gottleuba\nGast: NSG Dresden NordWest\nHalle: SH Geising (33201)\nAdresse: Lange Str. 25\, 01778 Altenberg ST Geising\n
LOCATION:SH Geising (33201): Lange Str. 25\, 01778 Altenberg ST Geising
CATEGORIES:Saison 2021/22
END:VEVENT
BEGIN:VEVENT
DTSTAMP:20260424T082512Z
DTSTART;TZID=Europe/Berlin:20220306T143000
DTEND;TZID=Europe/Berlin:20220306T153000
SUMMARY:KlwJD E/R - T10 - TSV 1862 Radeburg Medizin Bad Gottleuba vs HSG Weißeritztal (3)
UID:5c39b4a9-9d19-4f38-b21a-a2cdd646c7f9
STATUS:CONFIRMED
LAST-MODIFIED:20220311T195520Z
DESCRIPTION:KreisLiga wJD E/R - T10 - TSV 1862 Radeburg\nBegegnungs-Nr: 3\nHeim: Medizin Bad Gottleuba\nGast: HSG Weißeritztal\nHalle: Paul-Tiedemann-SH Radeburg (33214)\nAdresse: Meißner Berg 83c\, 01471 Radeburg\n
LOCATION:Paul-Tiedemann-SH Radeburg (33214): Meißner Berg 83c\, 01471 Radeburg
CATEGORIES:Saison 2021/22
END:VEVENT
BEGIN:VEVENT
DTSTAMP:20260424T082512Z
DTSTART;TZID=Europe/Berlin:20220430T094500
DTEND;TZID=Europe/Berlin:20220430T104500
SUMMARY:KlwJD E/R - T04 - HSV Weinböhla HSG Weißeritztal vs Medizin Bad Gottleuba (3)
UID:61559f3d-8553-4231-993a-bf039a41c639
STATUS:CONFIRMED
LAST-MODIFIED:20220504T181031Z
DESCRIPTION:KreisLiga wJD E/R - T04 - HSV Weinböhla\nBegegnungs-Nr: 3\nHeim: HSG Weißeritztal\nGast: Medizin Bad Gottleuba\nHalle: Nassau-SH Weinböhla (33224)\nAdresse: Meißner Str. 1\, 01689 Weinböhla\n
LOCATION:Nassau-SH Weinböhla (33224): Meißner Str. 1\, 01689 Weinböhla
CATEGORIES:Saison 2021/22
END:VEVENT
BEGIN:VEVENT
DTSTAMP:20260424T082512Z
DTSTART;TZID=Europe/Berlin:20220515T120000
DTEND;TZID=Europe/Berlin:20220515T130000
SUMMARY:KlwJD E/R - T08 - TSV 1862 Radeburg TSV 1862 Radeburg vs Medizin Bad Gottleuba (3)
UID:9d164bde-9abc-4d9e-9da1-4f97f3197922
STATUS:CONFIRMED
LAST-MODIFIED:20220515T180044Z
DESCRIPTION:KreisLiga wJD E/R - T08 - TSV 1862 Radeburg\nBegegnungs-Nr: 3\nHeim: TSV 1862 Radeburg\nGast: Medizin Bad Gottleuba\nHalle: Paul-Tiedemann-SH Radeburg (33214)\nAdresse: Meißner Berg 83c\, 01471 Radeburg\n
LOCATION:Paul-Tiedemann-SH Radeburg (33214): Meißner Berg 83c\, 01471 Radeburg
CATEGORIES:Saison 2021/22
END:VEVENT
BEGIN:VEVENT
DTSTAMP:20260424T082512Z
DTSTART;TZID=Europe/Berlin:20211114T100000
DTEND;TZID=Europe/Berlin:20211114T110000
SUMMARY:KlwJD E/R -Teilnehmer NSG Dresden NordWest vs Medizin Bad Gottleuba (301)
UID:2568a8bb-277d-45d6-a5ea-84c1776987fe
STATUS:CONFIRMED
LAST-MODIFIED:20211117T175014Z
DESCRIPTION:KreisLiga wJD E/R -Teilnehmer\nBegegnungs-Nr: 301\nHeim: NSG Dresden NordWest\nGast: Medizin Bad Gottleuba\nHalle: Lok-SH Dresden (33106)\nAdresse: Emmerich-Ambros-Ufer 74\, 01159 Dresden\n
LOCATION:Lok-SH Dresden (33106): Emmerich-Ambros-Ufer 74\, 01159 Dresden
CATEGORIES:Saison 2021/22
END:VEVENT
BEGIN:VEVENT
DTSTAMP:20260424T082512Z
DTSTART;TZID=Europe/Berlin:20211114T120000
DTEND;TZID=Europe/Berlin:20211114T130000
SUMMARY:KlwJD E/R -Teilnehmer Radebeuler HV II vs Medizin Bad Gottleuba (303)
UID:ef4e0107-9885-4321-9e3c-da62e6e4c9c6
STATUS:CONFIRMED
LAST-MODIFIED:20211117T175313Z
DESCRIPTION:KreisLiga wJD E/R -Teilnehmer\nBegegnungs-Nr: 303\nHeim: Radebeuler HV II\nGast: Medizin Bad Gottleuba\nHalle: Lok-SH Dresden (33106)\nAdresse: Emmerich-Ambros-Ufer 74\, 01159 Dresden\n
LOCATION:Lok-SH Dresden (33106): Emmerich-Ambros-Ufer 74\, 01159 Dresden
CATEGORIES:Saison 2021/22
END:VEVENT
BEGIN:VEVENT
DTSTAMP:20260424T082512Z
DTSTART;TZID=Europe/Berlin:20220430T094500
DTEND;TZID=Europe/Berlin:20220430T104500
SUMMARY:KlwJD E/R -Teilnehmer HSG Weißeritztal vs Medizin Bad Gottleuba (402)
UID:ea203795-60e1-41b8-82c3-ad9e9d65ba7b
STATUS:CONFIRMED
LAST-MODIFIED:20220504T183533Z
DESCRIPTION:KreisLiga wJD E/R -Teilnehmer\nBegegnungs-Nr: 402\nHeim: HSG Weißeritztal\nGast: Medizin Bad Gottleuba\nHalle: Nassau-SH Weinböhla (33224)\nAdresse: Meißner Str. 1\, 01689 Weinböhla\n
LOCATION:Nassau-SH Weinböhla (33224): Meißner Str. 1\, 01689 Weinböhla
CATEGORIES:Saison 2021/22
END:VEVENT
BEGIN:VEVENT
DTSTAMP:20260424T082512Z
DTSTART;TZID=Europe/Berlin:20220430T113000
DTEND;TZID=Europe/Berlin:20220430T123000
SUMMARY:KlwJD E/R -Teilnehmer HSV Weinböhla vs Medizin Bad Gottleuba (404)
UID:983c84e0-c803-448d-b22a-f648ce0bd536
STATUS:CONFIRMED
LAST-MODIFIED:20220504T183743Z
DESCRIPTION:KreisLiga wJD E/R -Teilnehmer\nBegegnungs-Nr: 404\nHeim: HSV Weinböhla\nGast: Medizin Bad Gottleuba\nHalle: Nassau-SH Weinböhla (33224)\nAdresse: Meißner Str. 1\, 01689 Weinböhla\n
LOCATION:Nassau-SH Weinböhla (33224): Meißner Str. 1\, 01689 Weinböhla
CATEGORIES:Saison 2021/22
END:VEVENT
BEGIN:VEVENT
DTSTAMP:20260424T082512Z
DTSTART;TZID=Europe/Berlin:20220515T120000
DTEND;TZID=Europe/Berlin:20220515T130000
SUMMARY:KlwJD E/R -Teilnehmer TSV 1862 Radeburg vs Medizin Bad Gottleuba (803)
UID:f22bae0a-8f7b-492a-ba4d-4bc697cab9d9
STATUS:CONFIRMED
LAST-MODIFIED:20220515T180641Z
DESCRIPTION:KreisLiga wJD E/R -Teilnehmer\nBegegnungs-Nr: 803\nHeim: TSV 1862 Radeburg\nGast: Medizin Bad Gottleuba\nHalle: Paul-Tiedemann-SH Radeburg (33214)\nAdresse: Meißner Berg 83c\, 01471 Radeburg\n
LOCATION:Paul-Tiedemann-SH Radeburg (33214): Meißner Berg 83c\, 01471 Radeburg
CATEGORIES:Saison 2021/22
END:VEVENT
BEGIN:VEVENT
DTSTAMP:20260424T082512Z
DTSTART;TZID=Europe/Berlin:20211003T090000
DTEND;TZID=Europe/Berlin:20211003T100000
SUMMARY:KlwJD E/R -Teilnehmer SG Klotzsche vs Medizin Bad Gottleuba (201)
UID:0b07b5ea-fd9c-4b26-b6ee-dee773998bdc
STATUS:CONFIRMED
LAST-MODIFIED:20211007T180951Z
DESCRIPTION:KreisLiga wJD E/R -Teilnehmer\nBegegnungs-Nr: 201\nHeim: SG Klotzsche\nGast: Medizin Bad Gottleuba\nHalle: SH Gymnasium Klotzsche (33126)\nAdresse: Karl-Marx-Straße 44\, 01109 Dresden\n
LOCATION:SH Gymnasium Klotzsche (33126): Karl-Marx-Straße 44\, 01109 Dresden
CATEGORIES:Saison 2021/22
END:VEVENT
BEGIN:VEVENT
DTSTAMP:20260424T082512Z
DTSTART;TZID=Europe/Berlin:20211003T090000
DTEND;TZID=Europe/Berlin:20211003T100000
SUMMARY:KlwJD E/R - T02 - SG Klotzsche SG Klotzsche vs Medizin Bad Gottleuba (1)
UID:d13fbd30-1f91-4f4d-867e-7b2304fded06
STATUS:CONFIRMED
LAST-MODIFIED:20211007T175521Z
DESCRIPTION:KreisLiga wJD E/R - T02 - SG Kotzsche\nBegegnungs-Nr: 1\nHeim: SG Klotzsche\nGast: Medizin Bad Gottleuba\nHalle: SH Gymnasium Klotzsche (33126)\nAdresse: Karl-Marx-Straße 44\, 01109 Dresden\n
LOCATION:SH Gymnasium Klotzsche (33126): Karl-Marx-Straße 44\, 01109 Dresden
CATEGORIES:Saison 2021/22
END:VEVENT
BEGIN:VEVENT
DTSTAMP:20260424T082512Z
DTSTART;TZID=Europe/Berlin:20220430T113000
DTEND;TZID=Europe/Berlin:20220430T123000
SUMMARY:KlwJD E/R - T04 - HSV Weinböhla HSV Weinböhla vs Medizin Bad Gottleuba (1)
UID:cf294a3e-214e-4732-8363-06a8fcac4ec4
STATUS:CONFIRMED
LAST-MODIFIED:20220504T181945Z
DESCRIPTION:KreisLiga wJD E/R - T04 - HSV Weinböhla\nBegegnungs-Nr: 1\nHeim: HSV Weinböhla\nGast: Medizin Bad Gottleuba\nHalle: Nassau-SH Weinböhla (33224)\nAdresse: Meißner Str. 1\, 01689 Weinböhla\n
LOCATION:Nassau-SH Weinböhla (33224): Meißner Str. 1\, 01689 Weinböhla
CATEGORIES:Saison 2021/22
END:VEVENT
END:VCALENDAR
