BEGIN:VCALENDAR
PRODID:-//nuDatenautomaten//framework iCal4j //DE
VERSION:2.0
CALSCALE:GREGORIAN
BEGIN:VTIMEZONE
TZID:Europe/Berlin
LAST-MODIFIED:20260306T231828Z
TZURL:https://www.tzurl.org/zoneinfo/Europe/Berlin
X-LIC-LOCATION:Europe/Berlin
X-PROLEPTIC-TZNAME:LMT
BEGIN:STANDARD
TZNAME:CET
TZOFFSETFROM:+005328
TZOFFSETTO:+0100
DTSTART:18930401T000000
END:STANDARD
BEGIN:DAYLIGHT
TZNAME:CEST
TZOFFSETFROM:+0100
TZOFFSETTO:+0200
DTSTART:19160430T230000
RDATE:19400401T020000
RDATE:19430329T020000
RDATE:19460414T020000
RDATE:19470406T030000
RDATE:19480418T020000
RDATE:19490410T020000
RDATE:19800406T020000
END:DAYLIGHT
BEGIN:STANDARD
TZNAME:CET
TZOFFSETFROM:+0200
TZOFFSETTO:+0100
DTSTART:19161001T010000
RDATE:19421102T030000
RDATE:19431004T030000
RDATE:19441002T030000
RDATE:19451118T030000
RDATE:19461007T030000
END:STANDARD
BEGIN:DAYLIGHT
TZNAME:CEST
TZOFFSETFROM:+0100
TZOFFSETTO:+0200
DTSTART:19170416T020000
RRULE:FREQ=YEARLY;UNTIL=19180415T010000Z;BYMONTH=4;BYDAY=3MO
END:DAYLIGHT
BEGIN:STANDARD
TZNAME:CET
TZOFFSETFROM:+0200
TZOFFSETTO:+0100
DTSTART:19170917T030000
RRULE:FREQ=YEARLY;UNTIL=19180916T010000Z;BYMONTH=9;BYDAY=3MO
END:STANDARD
BEGIN:DAYLIGHT
TZNAME:CEST
TZOFFSETFROM:+0100
TZOFFSETTO:+0200
DTSTART:19440403T020000
RRULE:FREQ=YEARLY;UNTIL=19450402T010000Z;BYMONTH=4;BYDAY=1MO
END:DAYLIGHT
BEGIN:DAYLIGHT
TZNAME:CEMT
TZOFFSETFROM:+0200
TZOFFSETTO:+0300
DTSTART:19450524T020000
RDATE:19470511T030000
END:DAYLIGHT
BEGIN:DAYLIGHT
TZNAME:CEST
TZOFFSETFROM:+0300
TZOFFSETTO:+0200
DTSTART:19450924T030000
RDATE:19470629T030000
END:DAYLIGHT
BEGIN:STANDARD
TZNAME:CET
TZOFFSETFROM:+0100
TZOFFSETTO:+0100
DTSTART:19460101T000000
RDATE:19800101T000000
END:STANDARD
BEGIN:STANDARD
TZNAME:CET
TZOFFSETFROM:+0200
TZOFFSETTO:+0100
DTSTART:19471005T030000
RRULE:FREQ=YEARLY;UNTIL=19491002T010000Z;BYMONTH=10;BYDAY=1SU
END:STANDARD
BEGIN:STANDARD
TZNAME:CET
TZOFFSETFROM:+0200
TZOFFSETTO:+0100
DTSTART:19800928T030000
RRULE:FREQ=YEARLY;UNTIL=19950924T010000Z;BYMONTH=9;BYDAY=-1SU
END:STANDARD
BEGIN:DAYLIGHT
TZNAME:CEST
TZOFFSETFROM:+0100
TZOFFSETTO:+0200
DTSTART:19810329T020000
RRULE:FREQ=YEARLY;BYMONTH=3;BYDAY=-1SU
END:DAYLIGHT
BEGIN:STANDARD
TZNAME:CET
TZOFFSETFROM:+0200
TZOFFSETTO:+0100
DTSTART:19961027T030000
RRULE:FREQ=YEARLY;BYMONTH=10;BYDAY=-1SU
END:STANDARD
END:VTIMEZONE
BEGIN:VEVENT
DTSTAMP:20260419T181730Z
DTSTART;TZID=Europe/Berlin:20220507T100000
DTEND;TZID=Europe/Berlin:20220507T110000
SUMMARY:OSL mJD HVH Kamenz vs SG Cunewalde/Sohland (8105)
UID:0ccea5f1-c2e8-4bea-b1f5-9f625df91cba
STATUS:CONFIRMED
LAST-MODIFIED:20220510T195706Z
DESCRIPTION:Ostsachsenliga männlich D\nBegegnungs-Nr: 8105\nHeim: HVH Kamenz\nGast: SG Cunewalde/Sohland\nHalle: SH Albert-Schweitzer-Gymnasium Kamenz (34204)\nAdresse: Am Flugplatz\, 01917 Kamenz\, Parkplatz - Macherstraße 142\n
LOCATION:SH Albert-Schweitzer-Gymnasium Kamenz (34204): Am Flugplatz\, 01917 Kamenz\, Parkplatz - Macherstraße 142
CATEGORIES:Saison 2021/22
END:VEVENT
BEGIN:VEVENT
DTSTAMP:20260419T181730Z
DTSTART;TZID=Europe/Berlin:20211002T100000
DTEND;TZID=Europe/Berlin:20211002T110000
SUMMARY:OSL mJD HVH Kamenz vs SV Lok Königsbrück  (8008)
UID:63810e55-b545-4c11-8154-84a4fae02535
STATUS:CONFIRMED
LAST-MODIFIED:20211015T052103Z
DESCRIPTION:Ostsachsenliga männlich D\nBegegnungs-Nr: 8008\nHeim: HVH Kamenz\nGast: SV Lok Königsbrück \nHalle: Sporthalle Grundschule am Forst (34206)\nAdresse: Humboldtstraße 3\, 01917 Kamenz\n
LOCATION:Sporthalle Grundschule am Forst (34206): Humboldtstraße 3\, 01917 Kamenz
CATEGORIES:Saison 2021/22
END:VEVENT
BEGIN:VEVENT
DTSTAMP:20260419T181730Z
DTSTART;TZID=Europe/Berlin:20211016T140000
DTEND;TZID=Europe/Berlin:20211016T150000
SUMMARY:OSL mJD HVH Kamenz vs Stahl Rietschen (8019)
UID:969df562-aa97-416c-a7d9-49129b8a0481
STATUS:CONFIRMED
LAST-MODIFIED:20220111T014903Z
DESCRIPTION:Ostsachsenliga männlich D\nBegegnungs-Nr: 8019\nHeim: HVH Kamenz\nGast: Stahl Rietschen\nHalle: Sporthalle Grundschule am Forst (34206)\nAdresse: Humboldtstraße 3\, 01917 Kamenz\n
LOCATION:Sporthalle Grundschule am Forst (34206): Humboldtstraße 3\, 01917 Kamenz
CATEGORIES:Saison 2021/22
END:VEVENT
BEGIN:VEVENT
DTSTAMP:20260419T181730Z
DTSTART;TZID=Europe/Berlin:20220312T110000
DTEND;TZID=Europe/Berlin:20220312T120000
SUMMARY:OSL mJD HVH Kamenz vs TBSV Neugersdorf (8077)
UID:0973173e-77ef-4e1a-8d1a-2860642c924d
STATUS:CONFIRMED
LAST-MODIFIED:20220317T204803Z
DESCRIPTION:Ostsachsenliga männlich D\nBegegnungs-Nr: 8077\nHeim: HVH Kamenz\nGast: TBSV Neugersdorf\nHalle: SH Albert-Schweitzer-Gymnasium Kamenz (34204)\nAdresse: Am Flugplatz\, 01917 Kamenz\, Parkplatz - Macherstraße 142\n
LOCATION:SH Albert-Schweitzer-Gymnasium Kamenz (34204): Am Flugplatz\, 01917 Kamenz\, Parkplatz - Macherstraße 142
CATEGORIES:Saison 2021/22
END:VEVENT
BEGIN:VEVENT
DTSTAMP:20260419T181730Z
DTSTART;TZID=Europe/Berlin:20220402T100000
DTEND;TZID=Europe/Berlin:20220402T110000
SUMMARY:OSL mJD HVH Kamenz vs Lok Schleife (8086)
UID:55ec13d9-5524-4124-b644-fe7198074fcd
STATUS:CONFIRMED
LAST-MODIFIED:20220403T191438Z
DESCRIPTION:Ostsachsenliga männlich D\nBegegnungs-Nr: 8086\nHeim: HVH Kamenz\nGast: Lok Schleife\nHalle: SH Albert-Schweitzer-Gymnasium Kamenz (34204)\nAdresse: Am Flugplatz\, 01917 Kamenz\, Parkplatz - Macherstraße 142\n
LOCATION:SH Albert-Schweitzer-Gymnasium Kamenz (34204): Am Flugplatz\, 01917 Kamenz\, Parkplatz - Macherstraße 142
CATEGORIES:Saison 2021/22
END:VEVENT
BEGIN:VEVENT
DTSTAMP:20260419T181730Z
DTSTART;TZID=Europe/Berlin:20220521T103000
DTEND;TZID=Europe/Berlin:20220521T113000
SUMMARY:OSL mJD Radeberger SV II vs HVH Kamenz (8107)
UID:8f25610b-6942-44f1-ad63-3535c8e1a67f
STATUS:CONFIRMED
LAST-MODIFIED:20220607T070027Z
DESCRIPTION:Ostsachsenliga männlich D\nBegegnungs-Nr: 8107\nHeim: Radeberger SV II\nGast: HVH Kamenz\nHalle: 3-Feld-Halle-GY Radeberg (34217)\nAdresse: Dr. Albert-Dietze Strasse\, 01454 Radeberg\n
LOCATION:3-Feld-Halle-GY Radeberg (34217): Dr. Albert-Dietze Strasse\, 01454 Radeberg
CATEGORIES:Saison 2021/22
END:VEVENT
BEGIN:VEVENT
DTSTAMP:20260419T181730Z
DTSTART;TZID=Europe/Berlin:20210925T140000
DTEND;TZID=Europe/Berlin:20210925T150000
SUMMARY:OSL mJD HV Eibau vs HVH Kamenz (8004)
UID:ade39b53-e9de-4e53-a742-7bd6ff4f064c
STATUS:CONFIRMED
LAST-MODIFIED:20210927T131350Z
DESCRIPTION:Ostsachsenliga männlich D\nBegegnungs-Nr: 8004\nHeim: HV Eibau\nGast: HVH Kamenz\nHalle: SH Am Kottmar Eibau (34105)\nAdresse: Jahnstr. 20 a\, 02739 Eibau\n
LOCATION:SH Am Kottmar Eibau (34105): Jahnstr. 20 a\, 02739 Eibau
CATEGORIES:Saison 2021/22
END:VEVENT
BEGIN:VEVENT
DTSTAMP:20260419T181730Z
DTSTART;TZID=Europe/Berlin:20211106T104500
DTEND;TZID=Europe/Berlin:20211106T114500
SUMMARY:OSL mJD TBSV Neugersdorf vs HVH Kamenz (8022)
UID:228d1d81-804a-44c0-9ff5-ab544391d8e7
STATUS:CONFIRMED
LAST-MODIFIED:20220111T015140Z
DESCRIPTION:Ostsachsenliga männlich D\nBegegnungs-Nr: 8022\nHeim: TBSV Neugersdorf\nGast: HVH Kamenz\nHalle: FSZ Oberland \"Albert Schweitzer\" (34112)\nAdresse: Friedrich-Ebert-Str.27\, 02730 Ebersbach-Neugersdorf\n
LOCATION:FSZ Oberland \"Albert Schweitzer\" (34112): Friedrich-Ebert-Str.27\, 02730 Ebersbach-Neugersdorf
CATEGORIES:Saison 2021/22
END:VEVENT
BEGIN:VEVENT
DTSTAMP:20260419T181730Z
DTSTART;TZID=Europe/Berlin:20211009T120000
DTEND;TZID=Europe/Berlin:20211009T130000
SUMMARY:OSL mJD OSV Zittau vs HVH Kamenz (8013)
UID:94db00c3-1ef6-4f19-8ab6-03b4d31d81f5
STATUS:CONFIRMED
LAST-MODIFIED:20211015T053223Z
DESCRIPTION:Ostsachsenliga männlich D\nBegegnungs-Nr: 8013\nHeim: OSV Zittau\nGast: HVH Kamenz\nHalle: SH Zittau (34107)\nAdresse: Lisa - Tetzner - Str.\, 02763 Zittau\n
LOCATION:SH Zittau (34107): Lisa - Tetzner - Str.\, 02763 Zittau
CATEGORIES:Saison 2021/22
END:VEVENT
BEGIN:VEVENT
DTSTAMP:20260419T181730Z
DTSTART;TZID=Europe/Berlin:20220305T101500
DTEND;TZID=Europe/Berlin:20220305T111500
SUMMARY:OSL mJD Stahl Rietschen vs HVH Kamenz (8074)
UID:5731ac1d-d339-48ff-9431-79e7c2981fe4
STATUS:CONFIRMED
LAST-MODIFIED:20220317T204236Z
DESCRIPTION:Ostsachsenliga männlich D\nBegegnungs-Nr: 8074\nHeim: Stahl Rietschen\nGast: HVH Kamenz\nHalle: Oberlausitz-SH Rietschen (34403)\nAdresse: Am Festplatz 1\, 02956 Rietschen\n
LOCATION:Oberlausitz-SH Rietschen (34403): Am Festplatz 1\, 02956 Rietschen
CATEGORIES:Saison 2021/22
END:VEVENT
BEGIN:VEVENT
DTSTAMP:20260419T181730Z
DTSTART;TZID=Europe/Berlin:20220430T113000
DTEND;TZID=Europe/Berlin:20220430T123000
SUMMARY:OSL mJD OHC Bernstadt vs HVH Kamenz (8096)
UID:67b1c739-b05e-482e-97e4-0ed5ec9f8b55
STATUS:CONFIRMED
LAST-MODIFIED:20220510T195513Z
DESCRIPTION:Ostsachsenliga männlich D\nBegegnungs-Nr: 8096\nHeim: OHC Bernstadt\nGast: HVH Kamenz\nHalle: Sporthalle \"Pließnitztal\" Bernstadt (34108)\nAdresse: Am Pließnitztal 3\, 02748 Bernstadt a.d. Eigen OT Kunnersdorf\n
LOCATION:Sporthalle \"Pließnitztal\" Bernstadt (34108): Am Pließnitztal 3\, 02748 Bernstadt a.d. Eigen OT Kunnersdorf
CATEGORIES:Saison 2021/22
END:VEVENT
END:VCALENDAR
