BEGIN:VCALENDAR
PRODID:-//nuDatenautomaten//framework iCal4j //DE
VERSION:2.0
CALSCALE:GREGORIAN
BEGIN:VTIMEZONE
TZID:Europe/Berlin
LAST-MODIFIED:20260306T231828Z
TZURL:https://www.tzurl.org/zoneinfo/Europe/Berlin
X-LIC-LOCATION:Europe/Berlin
X-PROLEPTIC-TZNAME:LMT
BEGIN:STANDARD
TZNAME:CET
TZOFFSETFROM:+005328
TZOFFSETTO:+0100
DTSTART:18930401T000000
END:STANDARD
BEGIN:DAYLIGHT
TZNAME:CEST
TZOFFSETFROM:+0100
TZOFFSETTO:+0200
DTSTART:19160430T230000
RDATE:19400401T020000
RDATE:19430329T020000
RDATE:19460414T020000
RDATE:19470406T030000
RDATE:19480418T020000
RDATE:19490410T020000
RDATE:19800406T020000
END:DAYLIGHT
BEGIN:STANDARD
TZNAME:CET
TZOFFSETFROM:+0200
TZOFFSETTO:+0100
DTSTART:19161001T010000
RDATE:19421102T030000
RDATE:19431004T030000
RDATE:19441002T030000
RDATE:19451118T030000
RDATE:19461007T030000
END:STANDARD
BEGIN:DAYLIGHT
TZNAME:CEST
TZOFFSETFROM:+0100
TZOFFSETTO:+0200
DTSTART:19170416T020000
RRULE:FREQ=YEARLY;UNTIL=19180415T010000Z;BYMONTH=4;BYDAY=3MO
END:DAYLIGHT
BEGIN:STANDARD
TZNAME:CET
TZOFFSETFROM:+0200
TZOFFSETTO:+0100
DTSTART:19170917T030000
RRULE:FREQ=YEARLY;UNTIL=19180916T010000Z;BYMONTH=9;BYDAY=3MO
END:STANDARD
BEGIN:DAYLIGHT
TZNAME:CEST
TZOFFSETFROM:+0100
TZOFFSETTO:+0200
DTSTART:19440403T020000
RRULE:FREQ=YEARLY;UNTIL=19450402T010000Z;BYMONTH=4;BYDAY=1MO
END:DAYLIGHT
BEGIN:DAYLIGHT
TZNAME:CEMT
TZOFFSETFROM:+0200
TZOFFSETTO:+0300
DTSTART:19450524T020000
RDATE:19470511T030000
END:DAYLIGHT
BEGIN:DAYLIGHT
TZNAME:CEST
TZOFFSETFROM:+0300
TZOFFSETTO:+0200
DTSTART:19450924T030000
RDATE:19470629T030000
END:DAYLIGHT
BEGIN:STANDARD
TZNAME:CET
TZOFFSETFROM:+0100
TZOFFSETTO:+0100
DTSTART:19460101T000000
RDATE:19800101T000000
END:STANDARD
BEGIN:STANDARD
TZNAME:CET
TZOFFSETFROM:+0200
TZOFFSETTO:+0100
DTSTART:19471005T030000
RRULE:FREQ=YEARLY;UNTIL=19491002T010000Z;BYMONTH=10;BYDAY=1SU
END:STANDARD
BEGIN:STANDARD
TZNAME:CET
TZOFFSETFROM:+0200
TZOFFSETTO:+0100
DTSTART:19800928T030000
RRULE:FREQ=YEARLY;UNTIL=19950924T010000Z;BYMONTH=9;BYDAY=-1SU
END:STANDARD
BEGIN:DAYLIGHT
TZNAME:CEST
TZOFFSETFROM:+0100
TZOFFSETTO:+0200
DTSTART:19810329T020000
RRULE:FREQ=YEARLY;BYMONTH=3;BYDAY=-1SU
END:DAYLIGHT
BEGIN:STANDARD
TZNAME:CET
TZOFFSETFROM:+0200
TZOFFSETTO:+0100
DTSTART:19961027T030000
RRULE:FREQ=YEARLY;BYMONTH=10;BYDAY=-1SU
END:STANDARD
END:VTIMEZONE
BEGIN:VEVENT
DTSTAMP:20260424T055811Z
DTSTART;TZID=Europe/Berlin:20211009T153000
DTEND;TZID=Europe/Berlin:20211009T163000
SUMMARY:Sachsenliga wJC HC Rödertal  vs HC Leipzig (21008)
UID:a9795c5a-291f-45b4-88a3-64378c38b709
STATUS:CONFIRMED
LAST-MODIFIED:20211031T171051Z
DESCRIPTION:Sachsenliga weibliche Jugend C\nBegegnungs-Nr: 21008\nHeim: HC Rödertal \nGast: HC Leipzig\nHalle: 3-Feld-Halle-GY Großröhrsdorf (34514)\nAdresse: Melanchthonstraße 21\, 01900  Großröhrsdorf\n
LOCATION:3-Feld-Halle-GY Großröhrsdorf (34514): Melanchthonstraße 21\, 01900  Großröhrsdorf
CATEGORIES:Saison 2021/22
END:VEVENT
BEGIN:VEVENT
DTSTAMP:20260424T055811Z
DTSTART;TZID=Europe/Berlin:20211114T120000
DTEND;TZID=Europe/Berlin:20211114T130000
SUMMARY:Sachsenliga wJC HC Rödertal  vs MSV Dresden (21021)
UID:29af8aba-f660-4f03-a35f-98224e8ecb7b
STATUS:CONFIRMED
LAST-MODIFIED:20211119T212250Z
DESCRIPTION:Sachsenliga weibliche Jugend C\nBegegnungs-Nr: 21021\nHeim: HC Rödertal \nGast: MSV Dresden\nHalle: 3-Feld-Halle-GY Großröhrsdorf (34514)\nAdresse: Melanchthonstraße 21\, 01900  Großröhrsdorf\n
LOCATION:3-Feld-Halle-GY Großröhrsdorf (34514): Melanchthonstraße 21\, 01900  Großröhrsdorf
CATEGORIES:Saison 2021/22
END:VEVENT
BEGIN:VEVENT
DTSTAMP:20260424T055811Z
DTSTART;TZID=Europe/Berlin:20220501T140000
DTEND;TZID=Europe/Berlin:20220501T150000
SUMMARY:Sachsenliga wJC HC Rödertal  vs HSV Marienberg (21034)
UID:d99d1ad5-f8e0-4937-912a-ca52877ae830
STATUS:CONFIRMED
LAST-MODIFIED:20220501T152118Z
DESCRIPTION:Sachsenliga weibliche Jugend C\nBegegnungs-Nr: 21034\nHeim: HC Rödertal \nGast: HSV Marienberg\nHalle: 3-Feld-Halle-GY Großröhrsdorf (34514)\nAdresse: Melanchthonstraße 21\, 01900  Großröhrsdorf\n
LOCATION:3-Feld-Halle-GY Großröhrsdorf (34514): Melanchthonstraße 21\, 01900  Großröhrsdorf
CATEGORIES:Saison 2021/22
END:VEVENT
BEGIN:VEVENT
DTSTAMP:20260424T055811Z
DTSTART;TZID=Europe/Berlin:20220506T173000
DTEND;TZID=Europe/Berlin:20220506T183000
SUMMARY:Sachsenliga wJC HC Rödertal  vs MSV Dresden II (21061)
UID:cd425f7e-31a7-40be-b635-510f69427319
STATUS:CONFIRMED
LAST-MODIFIED:20220509T150110Z
DESCRIPTION:Sachsenliga weibliche Jugend C\nBegegnungs-Nr: 21061\nHeim: HC Rödertal \nGast: MSV Dresden II\nHalle: 3-Feld-Halle-GY Großröhrsdorf (34514)\nAdresse: Melanchthonstraße 21\, 01900  Großröhrsdorf\n
LOCATION:3-Feld-Halle-GY Großröhrsdorf (34514): Melanchthonstraße 21\, 01900  Großröhrsdorf
CATEGORIES:Saison 2021/22
END:VEVENT
BEGIN:VEVENT
DTSTAMP:20260424T055811Z
DTSTART;TZID=Europe/Berlin:20220402T130000
DTEND;TZID=Europe/Berlin:20220402T140000
SUMMARY:Sachsenliga wJC HC Rödertal  vs SC Hoyerswerda  (21048)
UID:3c7da917-6972-4005-834f-50490c663dc1
STATUS:CONFIRMED
LAST-MODIFIED:20220403T103042Z
DESCRIPTION:Sachsenliga weibliche Jugend C\nBegegnungs-Nr: 21048\nHeim: HC Rödertal \nGast: SC Hoyerswerda \nHalle: 3-Feld-Halle-GY Großröhrsdorf (34514)\nAdresse: Melanchthonstraße 21\, 01900  Großröhrsdorf\n
LOCATION:3-Feld-Halle-GY Großröhrsdorf (34514): Melanchthonstraße 21\, 01900  Großröhrsdorf
CATEGORIES:Saison 2021/22
END:VEVENT
BEGIN:VEVENT
DTSTAMP:20260424T055811Z
DTSTART;TZID=Europe/Berlin:20211106T123000
DTEND;TZID=Europe/Berlin:20211106T133000
SUMMARY:Sachsenliga wJC BSV Sa. Zwickau vs HC Rödertal  (21014)
UID:61e7c764-1ec4-4603-9dbc-b916a1053d95
STATUS:CONFIRMED
LAST-MODIFIED:20211107T102526Z
DESCRIPTION:Sachsenliga weibliche Jugend C\nBegegnungs-Nr: 21014\nHeim: BSV Sa. Zwickau\nGast: HC Rödertal \nHalle: SH Zwickau-Neuplanitz (32501)\nAdresse: Dortmunder Str. 7a\, 08062 Zwickau\n
LOCATION:SH Zwickau-Neuplanitz (32501): Dortmunder Str. 7a\, 08062 Zwickau
CATEGORIES:Saison 2021/22
END:VEVENT
BEGIN:VEVENT
DTSTAMP:20260424T055811Z
DTSTART;TZID=Europe/Berlin:20220601T183000
DTEND;TZID=Europe/Berlin:20220601T193000
SUMMARY:Sachsenliga wJC Radeberger SV vs HC Rödertal  (21047)
UID:98951be7-8d31-42a4-95e9-155b0ecdb006
STATUS:CONFIRMED
LAST-MODIFIED:20220611T133835Z
DESCRIPTION:Sachsenliga weibliche Jugend C\nBegegnungs-Nr: 21047\nHeim: Radeberger SV\nGast: HC Rödertal \nHalle: 3-Feld-Halle-GY Radeberg (34217)\nAdresse: Dr. Albert-Dietze Strasse\, 01454 Radeberg\n
LOCATION:3-Feld-Halle-GY Radeberg (34217): Dr. Albert-Dietze Strasse\, 01454 Radeberg
CATEGORIES:Saison 2021/22
END:VEVENT
BEGIN:VEVENT
DTSTAMP:20260424T055811Z
DTSTART;TZID=Europe/Berlin:20211003T120000
DTEND;TZID=Europe/Berlin:20211003T130000
SUMMARY:Sachsenliga wJC Görlitzer HC vs HC Rödertal  (21003)
UID:b0bef569-fa2d-45db-ba27-b22d525a4f4e
STATUS:CONFIRMED
LAST-MODIFIED:20211005T192447Z
DESCRIPTION:Sachsenliga weibliche Jugend C\nBegegnungs-Nr: 21003\nHeim: Görlitzer HC\nGast: HC Rödertal \nHalle: Jahn-SH Görlitz (34302)\nAdresse: Kummerau 6\, 02826 Görlitz\n
LOCATION:Jahn-SH Görlitz (34302): Kummerau 6\, 02826 Görlitz
CATEGORIES:Saison 2021/22
END:VEVENT
BEGIN:VEVENT
DTSTAMP:20260424T055811Z
DTSTART;TZID=Europe/Berlin:20220409T120000
DTEND;TZID=Europe/Berlin:20220409T130000
SUMMARY:Sachsenliga wJC SSV Heidenau  vs HC Rödertal  (21058)
UID:81f860ac-fb8e-4bd9-9d7e-ba5bd0090822
STATUS:CONFIRMED
LAST-MODIFIED:20220411T153843Z
DESCRIPTION:Sachsenliga weibliche Jugend C\nBegegnungs-Nr: 21058\nHeim: SSV Heidenau \nGast: HC Rödertal \nHalle: SH Pestalozzi-Gymnasium Heidenau (33306)\nAdresse: Hauptstraße 37\, 01809 Heidenau\n
LOCATION:SH Pestalozzi-Gymnasium Heidenau (33306): Hauptstraße 37\, 01809 Heidenau
CATEGORIES:Saison 2021/22
END:VEVENT
BEGIN:VEVENT
DTSTAMP:20260424T055811Z
DTSTART;TZID=Europe/Berlin:20220319T130000
DTEND;TZID=Europe/Berlin:20220319T140000
SUMMARY:Sachsenliga wJC VfL Meißen vs HC Rödertal  (21036)
UID:22b1e0a7-b72c-448c-b83c-ff947360a3db
STATUS:CONFIRMED
LAST-MODIFIED:20220321T125009Z
DESCRIPTION:Sachsenliga weibliche Jugend C\nBegegnungs-Nr: 21036\nHeim: VfL Meißen\nGast: HC Rödertal \nHalle: SH \"Heiliger Grund\" Meißen (33212)\nAdresse: Goethestraße 27\, 01662 Meißen\n
LOCATION:SH \"Heiliger Grund\" Meißen (33212): Goethestraße 27\, 01662 Meißen
CATEGORIES:Saison 2021/22
END:VEVENT
BEGIN:VEVENT
DTSTAMP:20260424T055811Z
DTSTART;TZID=Europe/Berlin:20220305T110000
DTEND;TZID=Europe/Berlin:20220305T120000
SUMMARY:Sachsenliga wJC SC Markranstädt vs HC Rödertal  (21025)
UID:c8e96917-2de5-42e8-ace2-b983af09b2aa
STATUS:CONFIRMED
LAST-MODIFIED:20220309T211106Z
DESCRIPTION:Sachsenliga weibliche Jugend C\nBegegnungs-Nr: 21025\nHeim: SC Markranstädt\nGast: HC Rödertal \nHalle: Sportcenter Markranstädt (31127)\nAdresse: Leipziger Str. 47\, 04420 Markranstädt\n
LOCATION:Sportcenter Markranstädt (31127): Leipziger Str. 47\, 04420 Markranstädt
CATEGORIES:Saison 2021/22
END:VEVENT
END:VCALENDAR
