BEGIN:VCALENDAR
PRODID:-//nuDatenautomaten//framework iCal4j //DE
VERSION:2.0
CALSCALE:GREGORIAN
BEGIN:VTIMEZONE
TZID:Europe/Berlin
LAST-MODIFIED:20260306T231828Z
TZURL:https://www.tzurl.org/zoneinfo/Europe/Berlin
X-LIC-LOCATION:Europe/Berlin
X-PROLEPTIC-TZNAME:LMT
BEGIN:STANDARD
TZNAME:CET
TZOFFSETFROM:+005328
TZOFFSETTO:+0100
DTSTART:18930401T000000
END:STANDARD
BEGIN:DAYLIGHT
TZNAME:CEST
TZOFFSETFROM:+0100
TZOFFSETTO:+0200
DTSTART:19160430T230000
RDATE:19400401T020000
RDATE:19430329T020000
RDATE:19460414T020000
RDATE:19470406T030000
RDATE:19480418T020000
RDATE:19490410T020000
RDATE:19800406T020000
END:DAYLIGHT
BEGIN:STANDARD
TZNAME:CET
TZOFFSETFROM:+0200
TZOFFSETTO:+0100
DTSTART:19161001T010000
RDATE:19421102T030000
RDATE:19431004T030000
RDATE:19441002T030000
RDATE:19451118T030000
RDATE:19461007T030000
END:STANDARD
BEGIN:DAYLIGHT
TZNAME:CEST
TZOFFSETFROM:+0100
TZOFFSETTO:+0200
DTSTART:19170416T020000
RRULE:FREQ=YEARLY;UNTIL=19180415T010000Z;BYMONTH=4;BYDAY=3MO
END:DAYLIGHT
BEGIN:STANDARD
TZNAME:CET
TZOFFSETFROM:+0200
TZOFFSETTO:+0100
DTSTART:19170917T030000
RRULE:FREQ=YEARLY;UNTIL=19180916T010000Z;BYMONTH=9;BYDAY=3MO
END:STANDARD
BEGIN:DAYLIGHT
TZNAME:CEST
TZOFFSETFROM:+0100
TZOFFSETTO:+0200
DTSTART:19440403T020000
RRULE:FREQ=YEARLY;UNTIL=19450402T010000Z;BYMONTH=4;BYDAY=1MO
END:DAYLIGHT
BEGIN:DAYLIGHT
TZNAME:CEMT
TZOFFSETFROM:+0200
TZOFFSETTO:+0300
DTSTART:19450524T020000
RDATE:19470511T030000
END:DAYLIGHT
BEGIN:DAYLIGHT
TZNAME:CEST
TZOFFSETFROM:+0300
TZOFFSETTO:+0200
DTSTART:19450924T030000
RDATE:19470629T030000
END:DAYLIGHT
BEGIN:STANDARD
TZNAME:CET
TZOFFSETFROM:+0100
TZOFFSETTO:+0100
DTSTART:19460101T000000
RDATE:19800101T000000
END:STANDARD
BEGIN:STANDARD
TZNAME:CET
TZOFFSETFROM:+0200
TZOFFSETTO:+0100
DTSTART:19471005T030000
RRULE:FREQ=YEARLY;UNTIL=19491002T010000Z;BYMONTH=10;BYDAY=1SU
END:STANDARD
BEGIN:STANDARD
TZNAME:CET
TZOFFSETFROM:+0200
TZOFFSETTO:+0100
DTSTART:19800928T030000
RRULE:FREQ=YEARLY;UNTIL=19950924T010000Z;BYMONTH=9;BYDAY=-1SU
END:STANDARD
BEGIN:DAYLIGHT
TZNAME:CEST
TZOFFSETFROM:+0100
TZOFFSETTO:+0200
DTSTART:19810329T020000
RRULE:FREQ=YEARLY;BYMONTH=3;BYDAY=-1SU
END:DAYLIGHT
BEGIN:STANDARD
TZNAME:CET
TZOFFSETFROM:+0200
TZOFFSETTO:+0100
DTSTART:19961027T030000
RRULE:FREQ=YEARLY;BYMONTH=10;BYDAY=-1SU
END:STANDARD
END:VTIMEZONE
BEGIN:VEVENT
DTSTAMP:20260423T194848Z
DTSTART;TZID=Europe/Berlin:20220619T150000
DTEND;TZID=Europe/Berlin:20220619T163000
SUMMARY:WLLMä1 SG Eibau/Zittau II vs TBSV Neugersdorf III (1024)
UID:1bfdf0f9-09c5-4c9e-a77a-5d137ba54e6f
STATUS:CONFIRMED
LAST-MODIFIED:20220614T154045Z
DESCRIPTION:Westlausitzliga Männer Gruppe 1\nBegegnungs-Nr: 1024\nHeim: SG Eibau/Zittau II\nGast: TBSV Neugersdorf III\nHalle: SH BSZ Zittau Ottokarplatz (34109)
LOCATION:SH BSZ Zittau Ottokarplatz (34109): 
CATEGORIES:Saison 2021/22
END:VEVENT
BEGIN:VEVENT
DTSTAMP:20260423T194848Z
DTSTART;TZID=Europe/Berlin:20220410T150000
DTEND;TZID=Europe/Berlin:20220410T163000
SUMMARY:WLLMä1 SG Eibau/Zittau II vs Stahl Rietschen III (1007)
UID:da7d0c1d-77f1-433a-8832-48b967eb7cb2
STATUS:CONFIRMED
LAST-MODIFIED:20220330T174426Z
DESCRIPTION:Westlausitzliga Männer Gruppe 1\nBegegnungs-Nr: 1007\nHeim: SG Eibau/Zittau II\nGast: Stahl Rietschen III\nHalle: SH BSZ Zittau Ottokarplatz (34109)
LOCATION:SH BSZ Zittau Ottokarplatz (34109): 
CATEGORIES:Saison 2021/22
END:VEVENT
BEGIN:VEVENT
DTSTAMP:20260423T194848Z
DTSTART;TZID=Europe/Berlin:20220515T110000
DTEND;TZID=Europe/Berlin:20220515T123000
SUMMARY:WLLMä1 SG Eibau/Zittau II vs SV Lok Königsbrück  (1016)
UID:5b3d2578-e270-4e7b-b6ca-7e532a8079df
STATUS:CONFIRMED
DESCRIPTION:Westlausitzliga Männer Gruppe 1\nBegegnungs-Nr: 1016\nHeim: SG Eibau/Zittau II\nGast: SV Lok Königsbrück \nHalle: SH Zittau (34107)\nAdresse: Lisa - Tetzner - Str.\, 02763 Zittau\n
LOCATION:SH Zittau (34107): Lisa - Tetzner - Str.\, 02763 Zittau
CATEGORIES:Saison 2021/22
END:VEVENT
BEGIN:VEVENT
DTSTAMP:20260423T194848Z
DTSTART;TZID=Europe/Berlin:20220625T160000
DTEND;TZID=Europe/Berlin:20220625T173000
SUMMARY:WLLMä1 SG Eibau/Zittau II vs SG Oberlichtenau II (1028)
UID:9e4dd70d-82e4-4454-bbf4-ff864274783d
STATUS:CONFIRMED
LAST-MODIFIED:20220624T155205Z
DESCRIPTION:Westlausitzliga Männer Gruppe 1\nBegegnungs-Nr: 1028\nHeim: SG Eibau/Zittau II\nGast: SG Oberlichtenau II\nHalle: SH BSZ Zittau Ottokarplatz (34109)
LOCATION:SH BSZ Zittau Ottokarplatz (34109): 
CATEGORIES:Saison 2021/22
END:VEVENT
BEGIN:VEVENT
DTSTAMP:20260423T194848Z
DTSTART;TZID=Europe/Berlin:20220521T170000
DTEND;TZID=Europe/Berlin:20220521T183000
SUMMARY:WLLMä1 Radeberger SV III vs SG Eibau/Zittau II (1017)
UID:9f8b6ccc-750b-48b4-9bfe-1b752e852db4
STATUS:CONFIRMED
LAST-MODIFIED:20220609T154045Z
DESCRIPTION:Westlausitzliga Männer Gruppe 1\nBegegnungs-Nr: 1017\nHeim: Radeberger SV III\nGast: SG Eibau/Zittau II\nHalle: 3-Feld-Halle-GY Radeberg (34217)\nAdresse: Dr. Albert-Dietze Strasse\, 01454 Radeberg\n
LOCATION:3-Feld-Halle-GY Radeberg (34217): Dr. Albert-Dietze Strasse\, 01454 Radeberg
CATEGORIES:Saison 2021/22
END:VEVENT
BEGIN:VEVENT
DTSTAMP:20260423T194848Z
DTSTART;TZID=Europe/Berlin:20220403T100000
DTEND;TZID=Europe/Berlin:20220403T113000
SUMMARY:WLLMä1 SG Sohland/Friedersdorf II vs SG Eibau/Zittau II (1002)
UID:fa0a676b-c3f7-4041-8d1b-8d0a129461ee
STATUS:CONFIRMED
DESCRIPTION:Westlausitzliga Männer Gruppe 1\nBegegnungs-Nr: 1002\nHeim: SG Sohland/Friedersdorf II\nGast: SG Eibau/Zittau II\nHalle: \"Oberland-Sporthalle\" Sohland (34501)\nAdresse: G. - Hauptmann - Str. 4 A\, 02689 Sohland\n
LOCATION:\"Oberland-Sporthalle\" Sohland (34501): G. - Hauptmann - Str. 4 A\, 02689 Sohland
CATEGORIES:Saison 2021/22
END:VEVENT
BEGIN:VEVENT
DTSTAMP:20260423T194848Z
DTSTART;TZID=Europe/Berlin:20220501T130000
DTEND;TZID=Europe/Berlin:20220501T143000
SUMMARY:WLLMä1 HSV 1923 Pulsnitz III vs SG Eibau/Zittau II (1010)
UID:b5aeb1c3-65da-4c78-8572-a518d33fdcbc
STATUS:CONFIRMED
DESCRIPTION:Westlausitzliga Männer Gruppe 1\nBegegnungs-Nr: 1010\nHeim: HSV 1923 Pulsnitz III\nGast: SG Eibau/Zittau II\nHalle: Sportkomplex Pulsnitz (34208)\nAdresse: Hempelstr. 8\, 01896 Pulsnitz\n
LOCATION:Sportkomplex Pulsnitz (34208): Hempelstr. 8\, 01896 Pulsnitz
CATEGORIES:Saison 2021/22
END:VEVENT
END:VCALENDAR
