BEGIN:VCALENDAR
PRODID:-//nuDatenautomaten//framework iCal4j //DE
VERSION:2.0
CALSCALE:GREGORIAN
BEGIN:VTIMEZONE
TZID:Europe/Berlin
LAST-MODIFIED:20260306T231828Z
TZURL:https://www.tzurl.org/zoneinfo/Europe/Berlin
X-LIC-LOCATION:Europe/Berlin
X-PROLEPTIC-TZNAME:LMT
BEGIN:STANDARD
TZNAME:CET
TZOFFSETFROM:+005328
TZOFFSETTO:+0100
DTSTART:18930401T000000
END:STANDARD
BEGIN:DAYLIGHT
TZNAME:CEST
TZOFFSETFROM:+0100
TZOFFSETTO:+0200
DTSTART:19160430T230000
RDATE:19400401T020000
RDATE:19430329T020000
RDATE:19460414T020000
RDATE:19470406T030000
RDATE:19480418T020000
RDATE:19490410T020000
RDATE:19800406T020000
END:DAYLIGHT
BEGIN:STANDARD
TZNAME:CET
TZOFFSETFROM:+0200
TZOFFSETTO:+0100
DTSTART:19161001T010000
RDATE:19421102T030000
RDATE:19431004T030000
RDATE:19441002T030000
RDATE:19451118T030000
RDATE:19461007T030000
END:STANDARD
BEGIN:DAYLIGHT
TZNAME:CEST
TZOFFSETFROM:+0100
TZOFFSETTO:+0200
DTSTART:19170416T020000
RRULE:FREQ=YEARLY;UNTIL=19180415T010000Z;BYMONTH=4;BYDAY=3MO
END:DAYLIGHT
BEGIN:STANDARD
TZNAME:CET
TZOFFSETFROM:+0200
TZOFFSETTO:+0100
DTSTART:19170917T030000
RRULE:FREQ=YEARLY;UNTIL=19180916T010000Z;BYMONTH=9;BYDAY=3MO
END:STANDARD
BEGIN:DAYLIGHT
TZNAME:CEST
TZOFFSETFROM:+0100
TZOFFSETTO:+0200
DTSTART:19440403T020000
RRULE:FREQ=YEARLY;UNTIL=19450402T010000Z;BYMONTH=4;BYDAY=1MO
END:DAYLIGHT
BEGIN:DAYLIGHT
TZNAME:CEMT
TZOFFSETFROM:+0200
TZOFFSETTO:+0300
DTSTART:19450524T020000
RDATE:19470511T030000
END:DAYLIGHT
BEGIN:DAYLIGHT
TZNAME:CEST
TZOFFSETFROM:+0300
TZOFFSETTO:+0200
DTSTART:19450924T030000
RDATE:19470629T030000
END:DAYLIGHT
BEGIN:STANDARD
TZNAME:CET
TZOFFSETFROM:+0100
TZOFFSETTO:+0100
DTSTART:19460101T000000
RDATE:19800101T000000
END:STANDARD
BEGIN:STANDARD
TZNAME:CET
TZOFFSETFROM:+0200
TZOFFSETTO:+0100
DTSTART:19471005T030000
RRULE:FREQ=YEARLY;UNTIL=19491002T010000Z;BYMONTH=10;BYDAY=1SU
END:STANDARD
BEGIN:STANDARD
TZNAME:CET
TZOFFSETFROM:+0200
TZOFFSETTO:+0100
DTSTART:19800928T030000
RRULE:FREQ=YEARLY;UNTIL=19950924T010000Z;BYMONTH=9;BYDAY=-1SU
END:STANDARD
BEGIN:DAYLIGHT
TZNAME:CEST
TZOFFSETFROM:+0100
TZOFFSETTO:+0200
DTSTART:19810329T020000
RRULE:FREQ=YEARLY;BYMONTH=3;BYDAY=-1SU
END:DAYLIGHT
BEGIN:STANDARD
TZNAME:CET
TZOFFSETFROM:+0200
TZOFFSETTO:+0100
DTSTART:19961027T030000
RRULE:FREQ=YEARLY;BYMONTH=10;BYDAY=-1SU
END:STANDARD
END:VTIMEZONE
BEGIN:VEVENT
DTSTAMP:20260425T112451Z
DTSTART;TZID=Europe/Berlin:20220326T120000
DTEND;TZID=Europe/Berlin:20220326T130000
SUMMARY:Kreisliga Mittelsachsen Rotation Weißenborn II vs Grün-Weiß Niederwiesa (114)
UID:0a5e6c2e-6d2b-4a44-969e-0486549463f4
STATUS:CONFIRMED
LAST-MODIFIED:20220414T101043Z
DESCRIPTION:Kreisliga Mittelsachsen männlich C\nBegegnungs-Nr: 114\nHeim: Rotation Weißenborn II\nGast: Grün-Weiß Niederwiesa\nHalle: SH Gymnasium \"Bernhard von Cotta\" Brand-Erbisdorf (32403)\nAdresse: Hasenweg 2a\, 09618 Brand-Erbisdorf\n
LOCATION:SH Gymnasium \"Bernhard von Cotta\" Brand-Erbisdorf (32403): Hasenweg 2a\, 09618 Brand-Erbisdorf
CATEGORIES:Saison 2021/22
END:VEVENT
BEGIN:VEVENT
DTSTAMP:20260425T112451Z
DTSTART;TZID=Europe/Berlin:20211010T130000
DTEND;TZID=Europe/Berlin:20211010T140000
SUMMARY:Kreisliga Mittelsachsen Rotation Weißenborn II vs SV Beierfeld (106)
UID:1df04c35-7035-4caa-95dd-64189847fb5b
STATUS:CONFIRMED
LAST-MODIFIED:20220508T195027Z
DESCRIPTION:Kreisliga Mittelsachsen männlich C\nBegegnungs-Nr: 106\nHeim: Rotation Weißenborn II\nGast: SV Beierfeld\nHalle: SH Schoeller Weißenborn (32415)\nAdresse: Lichtenberger Straße 8\, 09600 Weißenborn\n
LOCATION:SH Schoeller Weißenborn (32415): Lichtenberger Straße 8\, 09600 Weißenborn
CATEGORIES:Saison 2021/22
END:VEVENT
BEGIN:VEVENT
DTSTAMP:20260425T112451Z
DTSTART;TZID=Europe/Berlin:20220709T103000
DTEND;TZID=Europe/Berlin:20220709T113000
SUMMARY:KKJS mC Rotation Weißenborn II vs HSG Freiberg II (45)
UID:0e2f78ae-6f19-4268-9380-1369410fc406
STATUS:CONFIRMED
LAST-MODIFIED:20220709T113441Z
DESCRIPTION:KKJS Mittelsachsen männl. C\nBegegnungs-Nr: 45\nHeim: Rotation Weißenborn II\nGast: HSG Freiberg II\nHalle: SH Schoeller Weißenborn (32415)\nAdresse: Lichtenberger Straße 8\, 09600 Weißenborn\n
LOCATION:SH Schoeller Weißenborn (32415): Lichtenberger Straße 8\, 09600 Weißenborn
CATEGORIES:Saison 2021/22
END:VEVENT
BEGIN:VEVENT
DTSTAMP:20260425T112451Z
DTSTART;TZID=Europe/Berlin:20210926T101500
DTEND;TZID=Europe/Berlin:20210926T111500
SUMMARY:Kreisliga Mittelsachsen Rotation Weißenborn II vs SG Handball Oberland (102)
UID:84d3261e-8d1e-46d6-97f8-0aba5f4b6aa2
STATUS:CONFIRMED
LAST-MODIFIED:20210928T184202Z
DESCRIPTION:Kreisliga Mittelsachsen männlich C\nBegegnungs-Nr: 102\nHeim: Rotation Weißenborn II\nGast: SG Handball Oberland\nHalle: SH Schoeller Weißenborn (32415)\nAdresse: Lichtenberger Straße 8\, 09600 Weißenborn\n
LOCATION:SH Schoeller Weißenborn (32415): Lichtenberger Straße 8\, 09600 Weißenborn
CATEGORIES:Saison 2021/22
END:VEVENT
BEGIN:VEVENT
DTSTAMP:20260425T112451Z
DTSTART;TZID=Europe/Berlin:20220403T160000
DTEND;TZID=Europe/Berlin:20220403T170000
SUMMARY:Kreisliga Mittelsachsen Rotation Weißenborn II vs Roßweiner SV (134)
UID:cf067818-e590-4502-b385-1d19602a89f6
STATUS:CONFIRMED
LAST-MODIFIED:20220425T140523Z
DESCRIPTION:Kreisliga Mittelsachsen männlich C\nBegegnungs-Nr: 134\nHeim: Rotation Weißenborn II\nGast: Roßweiner SV\nHalle: SH Schoeller Weißenborn (32415)\nAdresse: Lichtenberger Straße 8\, 09600 Weißenborn\n
LOCATION:SH Schoeller Weißenborn (32415): Lichtenberger Straße 8\, 09600 Weißenborn
CATEGORIES:Saison 2021/22
END:VEVENT
BEGIN:VEVENT
DTSTAMP:20260425T112451Z
DTSTART;TZID=Europe/Berlin:20220514T140000
DTEND;TZID=Europe/Berlin:20220514T150000
SUMMARY:Kreisliga Mittelsachsen Rotation Weißenborn II vs HV Grüna (142)
UID:682f4861-c06e-42c4-a4f0-7fc523e8b324
STATUS:CONFIRMED
LAST-MODIFIED:20220616T104237Z
DESCRIPTION:Kreisliga Mittelsachsen männlich C\nBegegnungs-Nr: 142\nHeim: Rotation Weißenborn II\nGast: HV Grüna\nHalle: SH Schoeller Weißenborn (32415)\nAdresse: Lichtenberger Straße 8\, 09600 Weißenborn\n
LOCATION:SH Schoeller Weißenborn (32415): Lichtenberger Straße 8\, 09600 Weißenborn
CATEGORIES:Saison 2021/22
END:VEVENT
BEGIN:VEVENT
DTSTAMP:20260425T112451Z
DTSTART;TZID=Europe/Berlin:20220424T121500
DTEND;TZID=Europe/Berlin:20220424T131500
SUMMARY:Kreisliga Mittelsachsen HV Grüna vs Rotation Weißenborn II (121)
UID:59f96627-0977-42f8-ac73-4fde7c411197
STATUS:CONFIRMED
LAST-MODIFIED:20220616T093904Z
DESCRIPTION:Kreisliga Mittelsachsen männlich C\nBegegnungs-Nr: 121\nHeim: HV Grüna\nGast: Rotation Weißenborn II\nHalle: SH Oberlungwitz (32203)\nAdresse: Erlbacher Str. 19\, 09353 Oberlungwitz\n
LOCATION:SH Oberlungwitz (32203): Erlbacher Str. 19\, 09353 Oberlungwitz
CATEGORIES:Saison 2021/22
END:VEVENT
BEGIN:VEVENT
DTSTAMP:20260425T112451Z
DTSTART;TZID=Europe/Berlin:20220319T140000
DTEND;TZID=Europe/Berlin:20220319T150000
SUMMARY:Kreisliga Mittelsachsen Roßweiner SV vs Rotation Weißenborn II (110)
UID:7cfdcf1b-a8ee-44e3-a2d3-bb2c5d1dabb5
STATUS:CONFIRMED
LAST-MODIFIED:20220325T101938Z
DESCRIPTION:Kreisliga Mittelsachsen männlich C\nBegegnungs-Nr: 110\nHeim: Roßweiner SV\nGast: Rotation Weißenborn II\nHalle: Stadt-SH Roßwein (31203)\nAdresse: Grafestraße 1\, 04741 Roßwein\n
LOCATION:Stadt-SH Roßwein (31203): Grafestraße 1\, 04741 Roßwein
CATEGORIES:Saison 2021/22
END:VEVENT
BEGIN:VEVENT
DTSTAMP:20260425T112451Z
DTSTART;TZID=Europe/Berlin:20220410T140000
DTEND;TZID=Europe/Berlin:20220410T150000
SUMMARY:Kreisliga Mittelsachsen Grün-Weiß Niederwiesa vs Rotation Weißenborn II (135)
UID:4c393696-e8ee-4969-b4b2-a2f6ae032b24
STATUS:CONFIRMED
LAST-MODIFIED:20220414T105857Z
DESCRIPTION:Kreisliga Mittelsachsen männlich C\nBegegnungs-Nr: 135\nHeim: Grün-Weiß Niederwiesa\nGast: Rotation Weißenborn II\nHalle: SH S.-v.-Pufendorf-Gymnasium Flöha (32404)\nAdresse: Turnerstr. 16\, 09557 Flöha\n
LOCATION:SH S.-v.-Pufendorf-Gymnasium Flöha (32404): Turnerstr. 16\, 09557 Flöha
CATEGORIES:Saison 2021/22
END:VEVENT
BEGIN:VEVENT
DTSTAMP:20260425T112451Z
DTSTART;TZID=Europe/Berlin:20220709T120000
DTEND;TZID=Europe/Berlin:20220709T130000
SUMMARY:KKJS mC Roßweiner SV vs Rotation Weißenborn II (47)
UID:810d0ab0-273c-4140-8d40-cf90ad4225fd
STATUS:CONFIRMED
LAST-MODIFIED:20220709T113608Z
DESCRIPTION:KKJS Mittelsachsen männl. C\nBegegnungs-Nr: 47\nHeim: Roßweiner SV\nGast: Rotation Weißenborn II\nHalle: SH Schoeller Weißenborn (32415)\nAdresse: Lichtenberger Straße 8\, 09600 Weißenborn\n
LOCATION:SH Schoeller Weißenborn (32415): Lichtenberger Straße 8\, 09600 Weißenborn
CATEGORIES:Saison 2021/22
END:VEVENT
BEGIN:VEVENT
DTSTAMP:20260425T112451Z
DTSTART;TZID=Europe/Berlin:20220430T150000
DTEND;TZID=Europe/Berlin:20220430T160000
SUMMARY:Kreisliga Mittelsachsen SG Handball Oberland vs Rotation Weißenborn II (131)
UID:f337c3c4-35fd-41d1-868c-760ce56e20f6
STATUS:CONFIRMED
LAST-MODIFIED:20220616T095528Z
DESCRIPTION:Kreisliga Mittelsachsen männlich C\nBegegnungs-Nr: 131\nHeim: SG Handball Oberland\nGast: Rotation Weißenborn II\nHalle: SH Klingenthal (32712)\nAdresse: Amtsberg 20\, 08248 Klingenthal\n
LOCATION:SH Klingenthal (32712): Amtsberg 20\, 08248 Klingenthal
CATEGORIES:Saison 2021/22
END:VEVENT
BEGIN:VEVENT
DTSTAMP:20260425T112451Z
DTSTART;TZID=Europe/Berlin:20220507T110000
DTEND;TZID=Europe/Berlin:20220507T120000
SUMMARY:Kreisliga Mittelsachsen TSV Einheit Claußnitz vs Rotation Weißenborn II (138)
UID:a2995ef6-98af-4d93-9ae0-fcbdf87e0f5c
STATUS:CONFIRMED
LAST-MODIFIED:20220616T101544Z
DESCRIPTION:Kreisliga Mittelsachsen männlich C\nBegegnungs-Nr: 138\nHeim: TSV Einheit Claußnitz\nGast: Rotation Weißenborn II\nHalle: Zweifeldhalle Claußnitz (32218)\nAdresse: Daniel-Gottlob-Türk-Str. 3\, 09236 Claußnitz\n
LOCATION:Zweifeldhalle Claußnitz (32218): Daniel-Gottlob-Türk-Str. 3\, 09236 Claußnitz
CATEGORIES:Saison 2021/22
END:VEVENT
END:VCALENDAR
