BEGIN:VCALENDAR
PRODID:-//nuDatenautomaten//framework iCal4j //DE
VERSION:2.0
CALSCALE:GREGORIAN
BEGIN:VTIMEZONE
TZID:Europe/Berlin
LAST-MODIFIED:20260306T231828Z
TZURL:https://www.tzurl.org/zoneinfo/Europe/Berlin
X-LIC-LOCATION:Europe/Berlin
X-PROLEPTIC-TZNAME:LMT
BEGIN:STANDARD
TZNAME:CET
TZOFFSETFROM:+005328
TZOFFSETTO:+0100
DTSTART:18930401T000000
END:STANDARD
BEGIN:DAYLIGHT
TZNAME:CEST
TZOFFSETFROM:+0100
TZOFFSETTO:+0200
DTSTART:19160430T230000
RDATE:19400401T020000
RDATE:19430329T020000
RDATE:19460414T020000
RDATE:19470406T030000
RDATE:19480418T020000
RDATE:19490410T020000
RDATE:19800406T020000
END:DAYLIGHT
BEGIN:STANDARD
TZNAME:CET
TZOFFSETFROM:+0200
TZOFFSETTO:+0100
DTSTART:19161001T010000
RDATE:19421102T030000
RDATE:19431004T030000
RDATE:19441002T030000
RDATE:19451118T030000
RDATE:19461007T030000
END:STANDARD
BEGIN:DAYLIGHT
TZNAME:CEST
TZOFFSETFROM:+0100
TZOFFSETTO:+0200
DTSTART:19170416T020000
RRULE:FREQ=YEARLY;UNTIL=19180415T010000Z;BYMONTH=4;BYDAY=3MO
END:DAYLIGHT
BEGIN:STANDARD
TZNAME:CET
TZOFFSETFROM:+0200
TZOFFSETTO:+0100
DTSTART:19170917T030000
RRULE:FREQ=YEARLY;UNTIL=19180916T010000Z;BYMONTH=9;BYDAY=3MO
END:STANDARD
BEGIN:DAYLIGHT
TZNAME:CEST
TZOFFSETFROM:+0100
TZOFFSETTO:+0200
DTSTART:19440403T020000
RRULE:FREQ=YEARLY;UNTIL=19450402T010000Z;BYMONTH=4;BYDAY=1MO
END:DAYLIGHT
BEGIN:DAYLIGHT
TZNAME:CEMT
TZOFFSETFROM:+0200
TZOFFSETTO:+0300
DTSTART:19450524T020000
RDATE:19470511T030000
END:DAYLIGHT
BEGIN:DAYLIGHT
TZNAME:CEST
TZOFFSETFROM:+0300
TZOFFSETTO:+0200
DTSTART:19450924T030000
RDATE:19470629T030000
END:DAYLIGHT
BEGIN:STANDARD
TZNAME:CET
TZOFFSETFROM:+0100
TZOFFSETTO:+0100
DTSTART:19460101T000000
RDATE:19800101T000000
END:STANDARD
BEGIN:STANDARD
TZNAME:CET
TZOFFSETFROM:+0200
TZOFFSETTO:+0100
DTSTART:19471005T030000
RRULE:FREQ=YEARLY;UNTIL=19491002T010000Z;BYMONTH=10;BYDAY=1SU
END:STANDARD
BEGIN:STANDARD
TZNAME:CET
TZOFFSETFROM:+0200
TZOFFSETTO:+0100
DTSTART:19800928T030000
RRULE:FREQ=YEARLY;UNTIL=19950924T010000Z;BYMONTH=9;BYDAY=-1SU
END:STANDARD
BEGIN:DAYLIGHT
TZNAME:CEST
TZOFFSETFROM:+0100
TZOFFSETTO:+0200
DTSTART:19810329T020000
RRULE:FREQ=YEARLY;BYMONTH=3;BYDAY=-1SU
END:DAYLIGHT
BEGIN:STANDARD
TZNAME:CET
TZOFFSETFROM:+0200
TZOFFSETTO:+0100
DTSTART:19961027T030000
RRULE:FREQ=YEARLY;BYMONTH=10;BYDAY=-1SU
END:STANDARD
END:VTIMEZONE
BEGIN:VEVENT
DTSTAMP:20260419T171104Z
DTSTART;TZID=Europe/Berlin:20220507T140000
DTEND;TZID=Europe/Berlin:20220507T153000
SUMMARY:Kreispokal SG Handball Oberland vs HV Grüna (1012)
UID:bdd9c4f9-ca1c-4c83-a3e3-7f0777491879
STATUS:CONFIRMED
LAST-MODIFIED:20220508T155400Z
DESCRIPTION:Kreispokal\nBegegnungs-Nr: 1012\nHeim: SG Handball Oberland\nGast: HV Grüna\nHalle: SH Gymnasium Markneukirchen (32713)\nAdresse: Alte Wohlhausenerstr. 10\, 08258 Markneukirchen\n
LOCATION:SH Gymnasium Markneukirchen (32713): Alte Wohlhausenerstr. 10\, 08258 Markneukirchen
CATEGORIES:Saison Pokal 2021/22
END:VEVENT
BEGIN:VEVENT
DTSTAMP:20260419T171104Z
DTSTART;TZID=Europe/Berlin:20211120T170000
DTEND;TZID=Europe/Berlin:20211120T183000
SUMMARY:Kreispokal SG Handball Oberland vs VfB Blau-Gelb 21 Flöha (1002)
UID:5567e1c1-3955-41f9-931d-1634082e8633
STATUS:CONFIRMED
LAST-MODIFIED:20220315T202030Z
DESCRIPTION:Kreispokal\nBegegnungs-Nr: 1002\nHeim: SG Handball Oberland\nGast: VfB Blau-Gelb 21 Flöha\nHalle: SH Klingenthal (32712)\nAdresse: Amtsberg 20\, 08248 Klingenthal\n
LOCATION:SH Klingenthal (32712): Amtsberg 20\, 08248 Klingenthal
CATEGORIES:Saison Pokal 2021/22
END:VEVENT
BEGIN:VEVENT
DTSTAMP:20260419T171104Z
DTSTART;TZID=Europe/Berlin:20210918T150000
DTEND;TZID=Europe/Berlin:20210918T163000
SUMMARY:Bezirkspokal Chemnitz SG Handball Oberland vs HSG Rottluff/Lok Chemnitz II (6)
UID:f7a2e7e5-b5aa-4f8a-8d66-5f0e8da79460
STATUS:CONFIRMED
LAST-MODIFIED:20210930T082750Z
DESCRIPTION:Bezirkspokal Männer\nBegegnungs-Nr: 6\nHeim: SG Handball Oberland\nGast: HSG Rottluff/Lok Chemnitz II\nHalle: SH Klingenthal (32712)\nAdresse: Amtsberg 20\, 08248 Klingenthal\n
LOCATION:SH Klingenthal (32712): Amtsberg 20\, 08248 Klingenthal
CATEGORIES:Saison Pokal 2021/22
END:VEVENT
END:VCALENDAR
