BEGIN:VCALENDAR
PRODID:-//nuDatenautomaten//framework iCal4j //DE
VERSION:2.0
CALSCALE:GREGORIAN
BEGIN:VTIMEZONE
TZID:Europe/Berlin
LAST-MODIFIED:20260306T231828Z
TZURL:https://www.tzurl.org/zoneinfo/Europe/Berlin
X-LIC-LOCATION:Europe/Berlin
X-PROLEPTIC-TZNAME:LMT
BEGIN:STANDARD
TZNAME:CET
TZOFFSETFROM:+005328
TZOFFSETTO:+0100
DTSTART:18930401T000000
END:STANDARD
BEGIN:DAYLIGHT
TZNAME:CEST
TZOFFSETFROM:+0100
TZOFFSETTO:+0200
DTSTART:19160430T230000
RDATE:19400401T020000
RDATE:19430329T020000
RDATE:19460414T020000
RDATE:19470406T030000
RDATE:19480418T020000
RDATE:19490410T020000
RDATE:19800406T020000
END:DAYLIGHT
BEGIN:STANDARD
TZNAME:CET
TZOFFSETFROM:+0200
TZOFFSETTO:+0100
DTSTART:19161001T010000
RDATE:19421102T030000
RDATE:19431004T030000
RDATE:19441002T030000
RDATE:19451118T030000
RDATE:19461007T030000
END:STANDARD
BEGIN:DAYLIGHT
TZNAME:CEST
TZOFFSETFROM:+0100
TZOFFSETTO:+0200
DTSTART:19170416T020000
RRULE:FREQ=YEARLY;UNTIL=19180415T010000Z;BYMONTH=4;BYDAY=3MO
END:DAYLIGHT
BEGIN:STANDARD
TZNAME:CET
TZOFFSETFROM:+0200
TZOFFSETTO:+0100
DTSTART:19170917T030000
RRULE:FREQ=YEARLY;UNTIL=19180916T010000Z;BYMONTH=9;BYDAY=3MO
END:STANDARD
BEGIN:DAYLIGHT
TZNAME:CEST
TZOFFSETFROM:+0100
TZOFFSETTO:+0200
DTSTART:19440403T020000
RRULE:FREQ=YEARLY;UNTIL=19450402T010000Z;BYMONTH=4;BYDAY=1MO
END:DAYLIGHT
BEGIN:DAYLIGHT
TZNAME:CEMT
TZOFFSETFROM:+0200
TZOFFSETTO:+0300
DTSTART:19450524T020000
RDATE:19470511T030000
END:DAYLIGHT
BEGIN:DAYLIGHT
TZNAME:CEST
TZOFFSETFROM:+0300
TZOFFSETTO:+0200
DTSTART:19450924T030000
RDATE:19470629T030000
END:DAYLIGHT
BEGIN:STANDARD
TZNAME:CET
TZOFFSETFROM:+0100
TZOFFSETTO:+0100
DTSTART:19460101T000000
RDATE:19800101T000000
END:STANDARD
BEGIN:STANDARD
TZNAME:CET
TZOFFSETFROM:+0200
TZOFFSETTO:+0100
DTSTART:19471005T030000
RRULE:FREQ=YEARLY;UNTIL=19491002T010000Z;BYMONTH=10;BYDAY=1SU
END:STANDARD
BEGIN:STANDARD
TZNAME:CET
TZOFFSETFROM:+0200
TZOFFSETTO:+0100
DTSTART:19800928T030000
RRULE:FREQ=YEARLY;UNTIL=19950924T010000Z;BYMONTH=9;BYDAY=-1SU
END:STANDARD
BEGIN:DAYLIGHT
TZNAME:CEST
TZOFFSETFROM:+0100
TZOFFSETTO:+0200
DTSTART:19810329T020000
RRULE:FREQ=YEARLY;BYMONTH=3;BYDAY=-1SU
END:DAYLIGHT
BEGIN:STANDARD
TZNAME:CET
TZOFFSETFROM:+0200
TZOFFSETTO:+0100
DTSTART:19961027T030000
RRULE:FREQ=YEARLY;BYMONTH=10;BYDAY=-1SU
END:STANDARD
END:VTIMEZONE
BEGIN:VEVENT
DTSTAMP:20260421T234039Z
DTSTART;TZID=Europe/Berlin:20220402T000000
DTEND;TZID=Europe/Berlin:20220402T013000
SUMMARY:Kreisliga Erzgebirge SV Schneeberg III vs spielfrei (87)
UID:824d48a0-6745-408c-b58c-5cb795166af8
STATUS:CONFIRMED
LAST-MODIFIED:20220223T181256Z
DESCRIPTION:Kreisliga Frauen\nBegegnungs-Nr: 87\nHeim: SV Schneeberg III\nGast: spielfrei\nHalle: Silberstrom-Halle Schneeberg (32307)\nAdresse: Keilbergring 20\, 08289 Schneeberg\n
LOCATION:Silberstrom-Halle Schneeberg (32307): Keilbergring 20\, 08289 Schneeberg
CATEGORIES:Saison 2021/22
END:VEVENT
BEGIN:VEVENT
DTSTAMP:20260421T234039Z
DTSTART;TZID=Europe/Berlin:20220515T120000
DTEND;TZID=Europe/Berlin:20220515T133000
SUMMARY:Kreisliga Erzgebirge SV Schneeberg III vs SV \"Tanne\" Thalheim (106)
UID:0ce9de06-7a5f-4318-b559-61adcc9d3a1f
STATUS:CONFIRMED
DESCRIPTION:Kreisliga Frauen\nBegegnungs-Nr: 106\nHeim: SV Schneeberg III\nGast: SV \"Tanne\" Thalheim\nHalle: Silberstrom-Halle Schneeberg (32307)\nAdresse: Keilbergring 20\, 08289 Schneeberg\n
LOCATION:Silberstrom-Halle Schneeberg (32307): Keilbergring 20\, 08289 Schneeberg
CATEGORIES:Saison 2021/22
END:VEVENT
BEGIN:VEVENT
DTSTAMP:20260421T234039Z
DTSTART;TZID=Europe/Berlin:20220430T150000
DTEND;TZID=Europe/Berlin:20220430T163000
SUMMARY:Kreisliga Erzgebirge SV Schneeberg III vs TSV Penig (96)
UID:d3ac57bc-e300-4f75-b81a-1c7e7520675e
STATUS:CONFIRMED
DESCRIPTION:Kreisliga Frauen\nBegegnungs-Nr: 96\nHeim: SV Schneeberg III\nGast: TSV Penig\nHalle: Silberstrom-Halle Schneeberg (32307)\nAdresse: Keilbergring 20\, 08289 Schneeberg\n
LOCATION:Silberstrom-Halle Schneeberg (32307): Keilbergring 20\, 08289 Schneeberg
CATEGORIES:Saison 2021/22
END:VEVENT
BEGIN:VEVENT
DTSTAMP:20260421T234039Z
DTSTART;TZID=Europe/Berlin:20211002T193000
DTEND;TZID=Europe/Berlin:20211002T210000
SUMMARY:Kreisliga Erzgebirge SV Schneeberg III vs SG Raschau-Beierfeld II (6)
UID:d4fcb14f-4de0-4e37-bf2c-c3bc8414d41b
STATUS:CONFIRMED
LAST-MODIFIED:20211008T133923Z
DESCRIPTION:Kreisliga Frauen\nBegegnungs-Nr: 6\nHeim: SV Schneeberg III\nGast: SG Raschau-Beierfeld II\nHalle: Silberstrom-Halle Schneeberg (32307)\nAdresse: Keilbergring 20\, 08289 Schneeberg\n
LOCATION:Silberstrom-Halle Schneeberg (32307): Keilbergring 20\, 08289 Schneeberg
CATEGORIES:Saison 2021/22
END:VEVENT
BEGIN:VEVENT
DTSTAMP:20260421T234039Z
DTSTART;TZID=Europe/Berlin:20210925T161500
DTEND;TZID=Europe/Berlin:20210925T174500
SUMMARY:Kreisliga Erzgebirge Geringswalder HV vs SV Schneeberg III (5)
UID:2e8ebd68-b1ce-4f09-ad8b-888f8cafc77b
STATUS:CONFIRMED
DESCRIPTION:Kreisliga Frauen\nBegegnungs-Nr: 5\nHeim: Geringswalder HV\nGast: SV Schneeberg III\nHalle: Sportarena \"Arche\" Hausdorf (31207)\nAdresse: Hauptstr. 34 c\, 04680 Hausdorf\n
LOCATION:Sportarena \"Arche\" Hausdorf (31207): Hauptstr. 34 c\, 04680 Hausdorf
CATEGORIES:Saison 2021/22
END:VEVENT
BEGIN:VEVENT
DTSTAMP:20260421T234039Z
DTSTART;TZID=Europe/Berlin:20211010T140000
DTEND;TZID=Europe/Berlin:20211010T153000
SUMMARY:Kreisliga Erzgebirge Zwönitzer HSV II vs SV Schneeberg III (14)
UID:3e622298-9bce-4e49-9355-d239540d7c06
STATUS:CONFIRMED
LAST-MODIFIED:20220523T191030Z
DESCRIPTION:Kreisliga Frauen\nBegegnungs-Nr: 14\nHeim: Zwönitzer HSV II\nGast: SV Schneeberg III\nHalle: SH Zwönitz (32301)\nAdresse: Turnhallenweg 5\, 08297 Zwönitz\n
LOCATION:SH Zwönitz (32301): Turnhallenweg 5\, 08297 Zwönitz
CATEGORIES:Saison 2021/22
END:VEVENT
BEGIN:VEVENT
DTSTAMP:20260421T234039Z
DTSTART;TZID=Europe/Berlin:20220521T170000
DTEND;TZID=Europe/Berlin:20220521T183000
SUMMARY:Kreisliga Erzgebirge Fortschritt Mittweida vs SV Schneeberg III (72)
UID:ca776295-a04d-41a0-b489-4169678cf2fb
STATUS:CONFIRMED
LAST-MODIFIED:20220315T085938Z
DESCRIPTION:Kreisliga Frauen\nBegegnungs-Nr: 72\nHeim: Fortschritt Mittweida\nGast: SV Schneeberg III\nHalle: SH \"Am Schwanenteich\" Mittweida (32207)\nAdresse: Leipziger Straße 15\, 09648 Mittweida\n
LOCATION:SH \"Am Schwanenteich\" Mittweida (32207): Leipziger Straße 15\, 09648 Mittweida
CATEGORIES:Saison 2021/22
END:VEVENT
BEGIN:VEVENT
DTSTAMP:20260421T234039Z
DTSTART;TZID=Europe/Berlin:20220319T173000
DTEND;TZID=Europe/Berlin:20220319T190000
SUMMARY:Kreisliga Erzgebirge HSG Zschopau-Annaberg-B. vs SV Schneeberg III (83)
UID:0b65e15c-820b-46a3-baea-267e2eb75484
STATUS:CONFIRMED
LAST-MODIFIED:20220523T191103Z
DESCRIPTION:Kreisliga Frauen\nBegegnungs-Nr: 83\nHeim: HSG Zschopau-Annaberg-B.\nGast: SV Schneeberg III\nHalle: Sporthalle der M.A.N.-Schule Zschopau (32414)\nAdresse: An den Anlagen 19\, 09405 Zschopau\n
LOCATION:Sporthalle der M.A.N.-Schule Zschopau (32414): An den Anlagen 19\, 09405 Zschopau
CATEGORIES:Saison 2021/22
END:VEVENT
BEGIN:VEVENT
DTSTAMP:20260421T234039Z
DTSTART;TZID=Europe/Berlin:20211106T160000
DTEND;TZID=Europe/Berlin:20211106T173000
SUMMARY:Kreisliga Erzgebirge Sachsen 90 Werdau vs SV Schneeberg III (23)
UID:85b285b5-1a60-420b-81c3-88338e71135c
STATUS:CONFIRMED
DESCRIPTION:Kreisliga Frauen\nBegegnungs-Nr: 23\nHeim: Sachsen 90 Werdau\nGast: SV Schneeberg III\nHalle: SH Werdau (32508)\nAdresse: Alexander-von-Humboldt-Str. 4\, 08412 Werdau\n
LOCATION:SH Werdau (32508): Alexander-von-Humboldt-Str. 4\, 08412 Werdau
CATEGORIES:Saison 2021/22
END:VEVENT
END:VCALENDAR
