BEGIN:VCALENDAR
PRODID:-//nuDatenautomaten//framework iCal4j //DE
VERSION:2.0
CALSCALE:GREGORIAN
BEGIN:VTIMEZONE
TZID:Europe/Berlin
LAST-MODIFIED:20260306T231828Z
TZURL:https://www.tzurl.org/zoneinfo/Europe/Berlin
X-LIC-LOCATION:Europe/Berlin
X-PROLEPTIC-TZNAME:LMT
BEGIN:STANDARD
TZNAME:CET
TZOFFSETFROM:+005328
TZOFFSETTO:+0100
DTSTART:18930401T000000
END:STANDARD
BEGIN:DAYLIGHT
TZNAME:CEST
TZOFFSETFROM:+0100
TZOFFSETTO:+0200
DTSTART:19160430T230000
RDATE:19400401T020000
RDATE:19430329T020000
RDATE:19460414T020000
RDATE:19470406T030000
RDATE:19480418T020000
RDATE:19490410T020000
RDATE:19800406T020000
END:DAYLIGHT
BEGIN:STANDARD
TZNAME:CET
TZOFFSETFROM:+0200
TZOFFSETTO:+0100
DTSTART:19161001T010000
RDATE:19421102T030000
RDATE:19431004T030000
RDATE:19441002T030000
RDATE:19451118T030000
RDATE:19461007T030000
END:STANDARD
BEGIN:DAYLIGHT
TZNAME:CEST
TZOFFSETFROM:+0100
TZOFFSETTO:+0200
DTSTART:19170416T020000
RRULE:FREQ=YEARLY;UNTIL=19180415T010000Z;BYMONTH=4;BYDAY=3MO
END:DAYLIGHT
BEGIN:STANDARD
TZNAME:CET
TZOFFSETFROM:+0200
TZOFFSETTO:+0100
DTSTART:19170917T030000
RRULE:FREQ=YEARLY;UNTIL=19180916T010000Z;BYMONTH=9;BYDAY=3MO
END:STANDARD
BEGIN:DAYLIGHT
TZNAME:CEST
TZOFFSETFROM:+0100
TZOFFSETTO:+0200
DTSTART:19440403T020000
RRULE:FREQ=YEARLY;UNTIL=19450402T010000Z;BYMONTH=4;BYDAY=1MO
END:DAYLIGHT
BEGIN:DAYLIGHT
TZNAME:CEMT
TZOFFSETFROM:+0200
TZOFFSETTO:+0300
DTSTART:19450524T020000
RDATE:19470511T030000
END:DAYLIGHT
BEGIN:DAYLIGHT
TZNAME:CEST
TZOFFSETFROM:+0300
TZOFFSETTO:+0200
DTSTART:19450924T030000
RDATE:19470629T030000
END:DAYLIGHT
BEGIN:STANDARD
TZNAME:CET
TZOFFSETFROM:+0100
TZOFFSETTO:+0100
DTSTART:19460101T000000
RDATE:19800101T000000
END:STANDARD
BEGIN:STANDARD
TZNAME:CET
TZOFFSETFROM:+0200
TZOFFSETTO:+0100
DTSTART:19471005T030000
RRULE:FREQ=YEARLY;UNTIL=19491002T010000Z;BYMONTH=10;BYDAY=1SU
END:STANDARD
BEGIN:STANDARD
TZNAME:CET
TZOFFSETFROM:+0200
TZOFFSETTO:+0100
DTSTART:19800928T030000
RRULE:FREQ=YEARLY;UNTIL=19950924T010000Z;BYMONTH=9;BYDAY=-1SU
END:STANDARD
BEGIN:DAYLIGHT
TZNAME:CEST
TZOFFSETFROM:+0100
TZOFFSETTO:+0200
DTSTART:19810329T020000
RRULE:FREQ=YEARLY;BYMONTH=3;BYDAY=-1SU
END:DAYLIGHT
BEGIN:STANDARD
TZNAME:CET
TZOFFSETFROM:+0200
TZOFFSETTO:+0100
DTSTART:19961027T030000
RRULE:FREQ=YEARLY;BYMONTH=10;BYDAY=-1SU
END:STANDARD
END:VTIMEZONE
BEGIN:VEVENT
DTSTAMP:20260420T132533Z
DTSTART;TZID=Europe/Berlin:20220514T110000
DTEND;TZID=Europe/Berlin:20220514T120000
SUMMARY:KlmJD NSG Dresden NordWest II vs Kurort Hartha (20)
UID:47bc4aa1-94ee-432a-9129-6fd50524b491
STATUS:CONFIRMED
LAST-MODIFIED:20220514T161632Z
DESCRIPTION:KreisLiga DD mJD\nBegegnungs-Nr: 20\nHeim: NSG Dresden NordWest II\nGast: Kurort Hartha\nHalle: Saubach-SH Wilsdruff (33208)\nAdresse: Nossener Str. 21b\, 01723 Wilsdruff\n
LOCATION:Saubach-SH Wilsdruff (33208): Nossener Str. 21b\, 01723 Wilsdruff
CATEGORIES:Saison 2021/22
END:VEVENT
BEGIN:VEVENT
DTSTAMP:20260420T132533Z
DTSTART;TZID=Europe/Berlin:20220320T140000
DTEND;TZID=Europe/Berlin:20220320T150000
SUMMARY:KlmJD NSG Dresden NordWest II vs KJS-Club Dresden (42)
UID:61e3d67e-cabb-4966-bdfa-0e0545f2e9d7
STATUS:CONFIRMED
LAST-MODIFIED:20220321T142001Z
DESCRIPTION:KreisLiga DD mJD\nBegegnungs-Nr: 42\nHeim: NSG Dresden NordWest II\nGast: KJS-Club Dresden\nHalle: Lok-SH Dresden (33106)\nAdresse: Emmerich-Ambros-Ufer 74\, 01159 Dresden\n
LOCATION:Lok-SH Dresden (33106): Emmerich-Ambros-Ufer 74\, 01159 Dresden
CATEGORIES:Saison 2021/22
END:VEVENT
BEGIN:VEVENT
DTSTAMP:20260420T132533Z
DTSTART;TZID=Europe/Berlin:20220320T160000
DTEND;TZID=Europe/Berlin:20220320T170000
SUMMARY:KlmJD NSG Dresden NordWest II vs SG Klotzsche (44)
UID:bd5e6a54-3013-4ced-80bb-2a6aa56d25ff
STATUS:CONFIRMED
LAST-MODIFIED:20220321T142301Z
DESCRIPTION:KreisLiga DD mJD\nBegegnungs-Nr: 44\nHeim: NSG Dresden NordWest II\nGast: SG Klotzsche\nHalle: Lok-SH Dresden (33106)\nAdresse: Emmerich-Ambros-Ufer 74\, 01159 Dresden\n
LOCATION:Lok-SH Dresden (33106): Emmerich-Ambros-Ufer 74\, 01159 Dresden
CATEGORIES:Saison 2021/22
END:VEVENT
BEGIN:VEVENT
DTSTAMP:20260420T132533Z
DTSTART;TZID=Europe/Berlin:20220402T100000
DTEND;TZID=Europe/Berlin:20220402T110000
SUMMARY:KlmJD NSG Dresden NordWest II vs SG Weixdorf (45)
UID:a4b9fda8-70eb-46f0-9384-98c45a78d6aa
STATUS:CONFIRMED
LAST-MODIFIED:20220403T191507Z
DESCRIPTION:KreisLiga DD mJD\nBegegnungs-Nr: 45\nHeim: NSG Dresden NordWest II\nGast: SG Weixdorf\nHalle: Gerhard-Grafe-SH Weixdorf (33116)\nAdresse: Weixdorfer Rathausplatz 2a\, 01108 Dresden\n
LOCATION:Gerhard-Grafe-SH Weixdorf (33116): Weixdorfer Rathausplatz 2a\, 01108 Dresden
CATEGORIES:Saison 2021/22
END:VEVENT
BEGIN:VEVENT
DTSTAMP:20260420T132533Z
DTSTART;TZID=Europe/Berlin:20220402T110000
DTEND;TZID=Europe/Berlin:20220402T120000
SUMMARY:KlmJD NSG Dresden NordWest II vs Medizin Bad Gottleuba (46)
UID:2ec4a255-7317-4297-9af7-3c67e2e94315
STATUS:CONFIRMED
LAST-MODIFIED:20220403T191547Z
DESCRIPTION:KreisLiga DD mJD\nBegegnungs-Nr: 46\nHeim: NSG Dresden NordWest II\nGast: Medizin Bad Gottleuba\nHalle: Gerhard-Grafe-SH Weixdorf (33116)\nAdresse: Weixdorfer Rathausplatz 2a\, 01108 Dresden\n
LOCATION:Gerhard-Grafe-SH Weixdorf (33116): Weixdorfer Rathausplatz 2a\, 01108 Dresden
CATEGORIES:Saison 2021/22
END:VEVENT
BEGIN:VEVENT
DTSTAMP:20260420T132533Z
DTSTART;TZID=Europe/Berlin:20220305T105000
DTEND;TZID=Europe/Berlin:20220305T115000
SUMMARY:KlmJD NSG Dresden NordWest II vs Motor Dippoldiswalde (36)
UID:da5b311c-f521-4e4a-bb5c-bd94193b9ab6
STATUS:CONFIRMED
LAST-MODIFIED:20220305T203020Z
DESCRIPTION:KreisLiga DD mJD\nBegegnungs-Nr: 36\nHeim: NSG Dresden NordWest II\nGast: Motor Dippoldiswalde\nHalle: Saubach-SH Wilsdruff (33208)\nAdresse: Nossener Str. 21b\, 01723 Wilsdruff\n
LOCATION:Saubach-SH Wilsdruff (33208): Nossener Str. 21b\, 01723 Wilsdruff
CATEGORIES:Saison 2021/22
END:VEVENT
BEGIN:VEVENT
DTSTAMP:20260420T132533Z
DTSTART;TZID=Europe/Berlin:20220305T124000
DTEND;TZID=Europe/Berlin:20220305T134000
SUMMARY:KlmJD NSG Dresden NordWest II vs Motor Wilsdruff  (38)
UID:dacabda9-5305-471d-942e-d8c3cfad3027
STATUS:CONFIRMED
LAST-MODIFIED:20220305T203128Z
DESCRIPTION:KreisLiga DD mJD\nBegegnungs-Nr: 38\nHeim: NSG Dresden NordWest II\nGast: Motor Wilsdruff \nHalle: Saubach-SH Wilsdruff (33208)\nAdresse: Nossener Str. 21b\, 01723 Wilsdruff\n
LOCATION:Saubach-SH Wilsdruff (33208): Nossener Str. 21b\, 01723 Wilsdruff
CATEGORIES:Saison 2021/22
END:VEVENT
BEGIN:VEVENT
DTSTAMP:20260420T132533Z
DTSTART;TZID=Europe/Berlin:20220514T120000
DTEND;TZID=Europe/Berlin:20220514T130000
SUMMARY:KlmJD KJS-Club Dresden vs NSG Dresden NordWest II (16)
UID:0411adc9-1556-4e90-a5ce-64bf289749d0
STATUS:CONFIRMED
LAST-MODIFIED:20220514T161711Z
DESCRIPTION:KreisLiga DD mJD\nBegegnungs-Nr: 16\nHeim: KJS-Club Dresden\nGast: NSG Dresden NordWest II\nHalle: Saubach-SH Wilsdruff (33208)\nAdresse: Nossener Str. 21b\, 01723 Wilsdruff\n
LOCATION:Saubach-SH Wilsdruff (33208): Nossener Str. 21b\, 01723 Wilsdruff
CATEGORIES:Saison 2021/22
END:VEVENT
BEGIN:VEVENT
DTSTAMP:20260420T132533Z
DTSTART;TZID=Europe/Berlin:20220507T120000
DTEND;TZID=Europe/Berlin:20220507T130000
SUMMARY:KlmJD Medizin Bad Gottleuba vs NSG Dresden NordWest II (55)
UID:46fc5b89-bafe-4e06-9e53-f7f1693dcfbd
STATUS:CONFIRMED
LAST-MODIFIED:20220509T100806Z
DESCRIPTION:KreisLiga DD mJD\nBegegnungs-Nr: 55\nHeim: Medizin Bad Gottleuba\nGast: NSG Dresden NordWest II\nHalle: Lok-SH Dresden (33106)\nAdresse: Emmerich-Ambros-Ufer 74\, 01159 Dresden\n
LOCATION:Lok-SH Dresden (33106): Emmerich-Ambros-Ufer 74\, 01159 Dresden
CATEGORIES:Saison 2021/22
END:VEVENT
BEGIN:VEVENT
DTSTAMP:20260420T132533Z
DTSTART;TZID=Europe/Berlin:20211009T110000
DTEND;TZID=Europe/Berlin:20211009T120000
SUMMARY:KlmJD Motor Dippoldiswalde vs NSG Dresden NordWest II (6)
UID:61806b17-3c73-4505-8d3b-0ac4bd6d7779
STATUS:CONFIRMED
LAST-MODIFIED:20211010T075537Z
DESCRIPTION:KreisLiga DD mJD\nBegegnungs-Nr: 6\nHeim: Motor Dippoldiswalde\nGast: NSG Dresden NordWest II\nHalle: Sportpark Dippoldiswalde (33229)\nAdresse: Nikolai-Ostrowski-Straße 2\, 01744 Dippoldiswalde\n
LOCATION:Sportpark Dippoldiswalde (33229): Nikolai-Ostrowski-Straße 2\, 01744 Dippoldiswalde
CATEGORIES:Saison 2021/22
END:VEVENT
BEGIN:VEVENT
DTSTAMP:20260420T132533Z
DTSTART;TZID=Europe/Berlin:20220522T134500
DTEND;TZID=Europe/Berlin:20220522T144500
SUMMARY:KlmJD Kurort Hartha vs NSG Dresden NordWest II (30)
UID:7bdee121-ac04-4df6-a318-f2897dc4f80b
STATUS:CONFIRMED
LAST-MODIFIED:20220528T062041Z
DESCRIPTION:KreisLiga DD mJD\nBegegnungs-Nr: 30\nHeim: Kurort Hartha\nGast: NSG Dresden NordWest II\nHalle: Saubach-SH Wilsdruff (33208)\nAdresse: Nossener Str. 21b\, 01723 Wilsdruff\n
LOCATION:Saubach-SH Wilsdruff (33208): Nossener Str. 21b\, 01723 Wilsdruff
CATEGORIES:Saison 2021/22
END:VEVENT
BEGIN:VEVENT
DTSTAMP:20260420T132533Z
DTSTART;TZID=Europe/Berlin:20211009T100000
DTEND;TZID=Europe/Berlin:20211009T110000
SUMMARY:KlmJD Motor Wilsdruff  vs NSG Dresden NordWest II (5)
UID:a4630b2f-5c30-4989-8308-861c509bdca8
STATUS:CONFIRMED
LAST-MODIFIED:20211010T075040Z
DESCRIPTION:KreisLiga DD mJD\nBegegnungs-Nr: 5\nHeim: Motor Wilsdruff \nGast: NSG Dresden NordWest II\nHalle: Sportpark Dippoldiswalde (33229)\nAdresse: Nikolai-Ostrowski-Straße 2\, 01744 Dippoldiswalde\n
LOCATION:Sportpark Dippoldiswalde (33229): Nikolai-Ostrowski-Straße 2\, 01744 Dippoldiswalde
CATEGORIES:Saison 2021/22
END:VEVENT
BEGIN:VEVENT
DTSTAMP:20260420T132533Z
DTSTART;TZID=Europe/Berlin:20211114T110000
DTEND;TZID=Europe/Berlin:20211114T120000
SUMMARY:KlmJD SG Klotzsche vs NSG Dresden NordWest II (15)
UID:deedffdf-ae8b-41f4-8649-6482f19f47f5
STATUS:CONFIRMED
LAST-MODIFIED:20211118T053809Z
DESCRIPTION:KreisLiga DD mJD\nBegegnungs-Nr: 15\nHeim: SG Klotzsche\nGast: NSG Dresden NordWest II\nHalle: SH Gymnasium Klotzsche (33126)\nAdresse: Karl-Marx-Straße 44\, 01109 Dresden\n
LOCATION:SH Gymnasium Klotzsche (33126): Karl-Marx-Straße 44\, 01109 Dresden
CATEGORIES:Saison 2021/22
END:VEVENT
BEGIN:VEVENT
DTSTAMP:20260420T132533Z
DTSTART;TZID=Europe/Berlin:20220507T100000
DTEND;TZID=Europe/Berlin:20220507T110000
SUMMARY:KlmJD SG Weixdorf vs NSG Dresden NordWest II (53)
UID:82d82cbc-39ff-4d9a-9091-4605c7a11772
STATUS:CONFIRMED
LAST-MODIFIED:20220509T100623Z
DESCRIPTION:KreisLiga DD mJD\nBegegnungs-Nr: 53\nHeim: SG Weixdorf\nGast: NSG Dresden NordWest II\nHalle: Lok-SH Dresden (33106)\nAdresse: Emmerich-Ambros-Ufer 74\, 01159 Dresden\n
LOCATION:Lok-SH Dresden (33106): Emmerich-Ambros-Ufer 74\, 01159 Dresden
CATEGORIES:Saison 2021/22
END:VEVENT
END:VCALENDAR
