BEGIN:VCALENDAR
PRODID:-//nuDatenautomaten//framework iCal4j //DE
VERSION:2.0
CALSCALE:GREGORIAN
BEGIN:VTIMEZONE
TZID:Europe/Berlin
LAST-MODIFIED:20260306T231828Z
TZURL:https://www.tzurl.org/zoneinfo/Europe/Berlin
X-LIC-LOCATION:Europe/Berlin
X-PROLEPTIC-TZNAME:LMT
BEGIN:STANDARD
TZNAME:CET
TZOFFSETFROM:+005328
TZOFFSETTO:+0100
DTSTART:18930401T000000
END:STANDARD
BEGIN:DAYLIGHT
TZNAME:CEST
TZOFFSETFROM:+0100
TZOFFSETTO:+0200
DTSTART:19160430T230000
RDATE:19400401T020000
RDATE:19430329T020000
RDATE:19460414T020000
RDATE:19470406T030000
RDATE:19480418T020000
RDATE:19490410T020000
RDATE:19800406T020000
END:DAYLIGHT
BEGIN:STANDARD
TZNAME:CET
TZOFFSETFROM:+0200
TZOFFSETTO:+0100
DTSTART:19161001T010000
RDATE:19421102T030000
RDATE:19431004T030000
RDATE:19441002T030000
RDATE:19451118T030000
RDATE:19461007T030000
END:STANDARD
BEGIN:DAYLIGHT
TZNAME:CEST
TZOFFSETFROM:+0100
TZOFFSETTO:+0200
DTSTART:19170416T020000
RRULE:FREQ=YEARLY;UNTIL=19180415T010000Z;BYMONTH=4;BYDAY=3MO
END:DAYLIGHT
BEGIN:STANDARD
TZNAME:CET
TZOFFSETFROM:+0200
TZOFFSETTO:+0100
DTSTART:19170917T030000
RRULE:FREQ=YEARLY;UNTIL=19180916T010000Z;BYMONTH=9;BYDAY=3MO
END:STANDARD
BEGIN:DAYLIGHT
TZNAME:CEST
TZOFFSETFROM:+0100
TZOFFSETTO:+0200
DTSTART:19440403T020000
RRULE:FREQ=YEARLY;UNTIL=19450402T010000Z;BYMONTH=4;BYDAY=1MO
END:DAYLIGHT
BEGIN:DAYLIGHT
TZNAME:CEMT
TZOFFSETFROM:+0200
TZOFFSETTO:+0300
DTSTART:19450524T020000
RDATE:19470511T030000
END:DAYLIGHT
BEGIN:DAYLIGHT
TZNAME:CEST
TZOFFSETFROM:+0300
TZOFFSETTO:+0200
DTSTART:19450924T030000
RDATE:19470629T030000
END:DAYLIGHT
BEGIN:STANDARD
TZNAME:CET
TZOFFSETFROM:+0100
TZOFFSETTO:+0100
DTSTART:19460101T000000
RDATE:19800101T000000
END:STANDARD
BEGIN:STANDARD
TZNAME:CET
TZOFFSETFROM:+0200
TZOFFSETTO:+0100
DTSTART:19471005T030000
RRULE:FREQ=YEARLY;UNTIL=19491002T010000Z;BYMONTH=10;BYDAY=1SU
END:STANDARD
BEGIN:STANDARD
TZNAME:CET
TZOFFSETFROM:+0200
TZOFFSETTO:+0100
DTSTART:19800928T030000
RRULE:FREQ=YEARLY;UNTIL=19950924T010000Z;BYMONTH=9;BYDAY=-1SU
END:STANDARD
BEGIN:DAYLIGHT
TZNAME:CEST
TZOFFSETFROM:+0100
TZOFFSETTO:+0200
DTSTART:19810329T020000
RRULE:FREQ=YEARLY;BYMONTH=3;BYDAY=-1SU
END:DAYLIGHT
BEGIN:STANDARD
TZNAME:CET
TZOFFSETFROM:+0200
TZOFFSETTO:+0100
DTSTART:19961027T030000
RRULE:FREQ=YEARLY;BYMONTH=10;BYDAY=-1SU
END:STANDARD
END:VTIMEZONE
BEGIN:VEVENT
DTSTAMP:20260421T093334Z
DTSTART;TZID=Europe/Berlin:20220515T160000
DTEND;TZID=Europe/Berlin:20220515T173000
SUMMARY:Leipziger Handball Pokal HSV Mölkau - Die Haie  II vs SG LVB (13)
UID:922dc231-eb0e-4d17-9a93-1aca8a230960
STATUS:CONFIRMED
LAST-MODIFIED:20220515T165425Z
DESCRIPTION:Leipziger Handball Pokal\nBegegnungs-Nr: 13\nHeim: HSV Mölkau - Die Haie  II\nGast: SG LVB\nHalle: SH Oberschule Leipzig-Mölkau (31106)\nAdresse: Schulstr. 6\, 04316 Leipzig\n
LOCATION:SH Oberschule Leipzig-Mölkau (31106): Schulstr. 6\, 04316 Leipzig
CATEGORIES:Saison Pokal 2021/22
END:VEVENT
BEGIN:VEVENT
DTSTAMP:20260421T093334Z
DTSTART;TZID=Europe/Berlin:20220226T000000
DTEND;TZID=Europe/Berlin:20220226T013000
SUMMARY:Leipziger Handball Pokal HSV Mölkau - Die Haie  II vs spielfrei (11)
UID:bc95b246-1da5-4017-bd2e-1ad1a8e7e953
STATUS:CONFIRMED
DESCRIPTION:Leipziger Handball Pokal\nBegegnungs-Nr: 11\nHeim: HSV Mölkau - Die Haie  II\nGast: spielfrei\n
LOCATION:
CATEGORIES:Saison Pokal 2021/22
END:VEVENT
BEGIN:VEVENT
DTSTAMP:20260421T093334Z
DTSTART;TZID=Europe/Berlin:20220507T120000
DTEND;TZID=Europe/Berlin:20220507T133000
SUMMARY:Leipziger Handball Pokal HSV Mölkau - Die Haie  II vs NHV Concordia Delitzsch (12)
UID:e990b099-8e2e-47bd-9c9c-1e317dd58b65
STATUS:CONFIRMED
LAST-MODIFIED:20220507T182935Z
DESCRIPTION:Leipziger Handball Pokal\nBegegnungs-Nr: 12\nHeim: HSV Mölkau - Die Haie  II\nGast: NHV Concordia Delitzsch\nHalle: SH Oberschule Leipzig-Mölkau (31106)\nAdresse: Schulstr. 6\, 04316 Leipzig\n
LOCATION:SH Oberschule Leipzig-Mölkau (31106): Schulstr. 6\, 04316 Leipzig
CATEGORIES:Saison Pokal 2021/22
END:VEVENT
BEGIN:VEVENT
DTSTAMP:20260421T093334Z
DTSTART;TZID=Europe/Berlin:20210919T160000
DTEND;TZID=Europe/Berlin:20210919T173000
SUMMARY:Leipziger Handball Pokal HSV Mölkau - Die Haie  II vs SG MoGoNo Leipzig (7)
UID:00046a54-6bce-406c-bc3d-dd61c732e249
STATUS:CONFIRMED
LAST-MODIFIED:20211128T185709Z
DESCRIPTION:Leipziger Handball Pokal\nBegegnungs-Nr: 7\nHeim: HSV Mölkau - Die Haie  II\nGast: SG MoGoNo Leipzig\nHalle: SH Oberschule Leipzig-Mölkau (31106)\nAdresse: Schulstr. 6\, 04316 Leipzig\n
LOCATION:SH Oberschule Leipzig-Mölkau (31106): Schulstr. 6\, 04316 Leipzig
CATEGORIES:Saison Pokal 2021/22
END:VEVENT
BEGIN:VEVENT
DTSTAMP:20260421T093334Z
DTSTART;TZID=Europe/Berlin:20220522T110000
DTEND;TZID=Europe/Berlin:20220522T123000
SUMMARY:Leipziger Handball Pokal SG LVB vs HSV Mölkau - Die Haie  II (14)
UID:9e5e3b74-40c9-405f-801c-64937c0edbcd
STATUS:CONFIRMED
LAST-MODIFIED:20220522T114020Z
DESCRIPTION:Leipziger Handball Pokal\nBegegnungs-Nr: 14\nHeim: SG LVB\nGast: HSV Mölkau - Die Haie  II\nHalle: SH An der Radrennbahn Leipzig (31128)\nAdresse: Windorfer Straße 63\, 04229 Leipzig\n
LOCATION:SH An der Radrennbahn Leipzig (31128): Windorfer Straße 63\, 04229 Leipzig
CATEGORIES:Saison Pokal 2021/22
END:VEVENT
END:VCALENDAR
