BEGIN:VCALENDAR
PRODID:-//nuDatenautomaten//framework iCal4j //DE
VERSION:2.0
CALSCALE:GREGORIAN
BEGIN:VTIMEZONE
TZID:Europe/Berlin
LAST-MODIFIED:20260306T231828Z
TZURL:https://www.tzurl.org/zoneinfo/Europe/Berlin
X-LIC-LOCATION:Europe/Berlin
X-PROLEPTIC-TZNAME:LMT
BEGIN:STANDARD
TZNAME:CET
TZOFFSETFROM:+005328
TZOFFSETTO:+0100
DTSTART:18930401T000000
END:STANDARD
BEGIN:DAYLIGHT
TZNAME:CEST
TZOFFSETFROM:+0100
TZOFFSETTO:+0200
DTSTART:19160430T230000
RDATE:19400401T020000
RDATE:19430329T020000
RDATE:19460414T020000
RDATE:19470406T030000
RDATE:19480418T020000
RDATE:19490410T020000
RDATE:19800406T020000
END:DAYLIGHT
BEGIN:STANDARD
TZNAME:CET
TZOFFSETFROM:+0200
TZOFFSETTO:+0100
DTSTART:19161001T010000
RDATE:19421102T030000
RDATE:19431004T030000
RDATE:19441002T030000
RDATE:19451118T030000
RDATE:19461007T030000
END:STANDARD
BEGIN:DAYLIGHT
TZNAME:CEST
TZOFFSETFROM:+0100
TZOFFSETTO:+0200
DTSTART:19170416T020000
RRULE:FREQ=YEARLY;UNTIL=19180415T010000Z;BYMONTH=4;BYDAY=3MO
END:DAYLIGHT
BEGIN:STANDARD
TZNAME:CET
TZOFFSETFROM:+0200
TZOFFSETTO:+0100
DTSTART:19170917T030000
RRULE:FREQ=YEARLY;UNTIL=19180916T010000Z;BYMONTH=9;BYDAY=3MO
END:STANDARD
BEGIN:DAYLIGHT
TZNAME:CEST
TZOFFSETFROM:+0100
TZOFFSETTO:+0200
DTSTART:19440403T020000
RRULE:FREQ=YEARLY;UNTIL=19450402T010000Z;BYMONTH=4;BYDAY=1MO
END:DAYLIGHT
BEGIN:DAYLIGHT
TZNAME:CEMT
TZOFFSETFROM:+0200
TZOFFSETTO:+0300
DTSTART:19450524T020000
RDATE:19470511T030000
END:DAYLIGHT
BEGIN:DAYLIGHT
TZNAME:CEST
TZOFFSETFROM:+0300
TZOFFSETTO:+0200
DTSTART:19450924T030000
RDATE:19470629T030000
END:DAYLIGHT
BEGIN:STANDARD
TZNAME:CET
TZOFFSETFROM:+0100
TZOFFSETTO:+0100
DTSTART:19460101T000000
RDATE:19800101T000000
END:STANDARD
BEGIN:STANDARD
TZNAME:CET
TZOFFSETFROM:+0200
TZOFFSETTO:+0100
DTSTART:19471005T030000
RRULE:FREQ=YEARLY;UNTIL=19491002T010000Z;BYMONTH=10;BYDAY=1SU
END:STANDARD
BEGIN:STANDARD
TZNAME:CET
TZOFFSETFROM:+0200
TZOFFSETTO:+0100
DTSTART:19800928T030000
RRULE:FREQ=YEARLY;UNTIL=19950924T010000Z;BYMONTH=9;BYDAY=-1SU
END:STANDARD
BEGIN:DAYLIGHT
TZNAME:CEST
TZOFFSETFROM:+0100
TZOFFSETTO:+0200
DTSTART:19810329T020000
RRULE:FREQ=YEARLY;BYMONTH=3;BYDAY=-1SU
END:DAYLIGHT
BEGIN:STANDARD
TZNAME:CET
TZOFFSETFROM:+0200
TZOFFSETTO:+0100
DTSTART:19961027T030000
RRULE:FREQ=YEARLY;BYMONTH=10;BYDAY=-1SU
END:STANDARD
END:VTIMEZONE
BEGIN:VEVENT
DTSTAMP:20260423T125517Z
DTSTART;TZID=Europe/Berlin:20230211T180000
DTEND;TZID=Europe/Berlin:20230211T193000
SUMMARY:BLM SSV Lommatzsch vs ESV Dresden II (1146)
UID:fd9fd2f8-8e31-4ca4-9b1b-2a7bd72ee642
STATUS:CONFIRMED
LAST-MODIFIED:20230213T132956Z
DESCRIPTION:BezLiga SM Männer\nBegegnungs-Nr: 1146\nHeim: SSV Lommatzsch\nGast: ESV Dresden II\nHalle: Lothar-Krauße-SH Lommatzsch (33211)\nAdresse: Domselwitzer Str. 21\, 01623 Lommatzsch\n
LOCATION:Lothar-Krauße-SH Lommatzsch (33211): Domselwitzer Str. 21\, 01623 Lommatzsch
CATEGORIES:Saison 2022/23
END:VEVENT
BEGIN:VEVENT
DTSTAMP:20260423T125517Z
DTSTART;TZID=Europe/Berlin:20230218T180000
DTEND;TZID=Europe/Berlin:20230218T193000
SUMMARY:BLM SSV Lommatzsch vs USV TU Dresden (1149)
UID:241cd342-1f7b-4e95-a5cf-e7c5c43d2aa8
STATUS:CONFIRMED
LAST-MODIFIED:20230227T085126Z
DESCRIPTION:BezLiga SM Männer\nBegegnungs-Nr: 1149\nHeim: SSV Lommatzsch\nGast: USV TU Dresden\nHalle: Lothar-Krauße-SH Lommatzsch (33211)\nAdresse: Domselwitzer Str. 21\, 01623 Lommatzsch\n
LOCATION:Lothar-Krauße-SH Lommatzsch (33211): Domselwitzer Str. 21\, 01623 Lommatzsch
CATEGORIES:Saison 2022/23
END:VEVENT
BEGIN:VEVENT
DTSTAMP:20260423T125517Z
DTSTART;TZID=Europe/Berlin:20221112T180000
DTEND;TZID=Europe/Berlin:20221112T193000
SUMMARY:BLM SSV Lommatzsch vs Radebeuler HV (1041)
UID:770c216e-fc49-4981-b9e4-7a10b53a6c1a
STATUS:CONFIRMED
LAST-MODIFIED:20221114T105616Z
DESCRIPTION:BezLiga SM Männer\nBegegnungs-Nr: 1041\nHeim: SSV Lommatzsch\nGast: Radebeuler HV\nHalle: Lothar-Krauße-SH Lommatzsch (33211)\nAdresse: Domselwitzer Str. 21\, 01623 Lommatzsch\n
LOCATION:Lothar-Krauße-SH Lommatzsch (33211): Domselwitzer Str. 21\, 01623 Lommatzsch
CATEGORIES:Saison 2022/23
END:VEVENT
BEGIN:VEVENT
DTSTAMP:20260423T125517Z
DTSTART;TZID=Europe/Berlin:20230204T180000
DTEND;TZID=Europe/Berlin:20230204T193000
SUMMARY:BLM SSV Lommatzsch vs SG Klotzsche (1086)
UID:f0e1c070-0242-4e59-b24e-724238bc6027
STATUS:CONFIRMED
LAST-MODIFIED:20230205T143703Z
DESCRIPTION:BezLiga SM Männer\nBegegnungs-Nr: 1086\nHeim: SSV Lommatzsch\nGast: SG Klotzsche\nHalle: Lothar-Krauße-SH Lommatzsch (33211)\nAdresse: Domselwitzer Str. 21\, 01623 Lommatzsch\n
LOCATION:Lothar-Krauße-SH Lommatzsch (33211): Domselwitzer Str. 21\, 01623 Lommatzsch
CATEGORIES:Saison 2022/23
END:VEVENT
BEGIN:VEVENT
DTSTAMP:20260423T125517Z
DTSTART;TZID=Europe/Berlin:20230422T180000
DTEND;TZID=Europe/Berlin:20230422T193000
SUMMARY:BLM SSV Lommatzsch vs HSV Weinböhla II (1118)
UID:b5c06014-4fba-44a2-a342-a100fde0aa52
STATUS:CONFIRMED
LAST-MODIFIED:20230423T155624Z
DESCRIPTION:BezLiga SM Männer\nBegegnungs-Nr: 1118\nHeim: SSV Lommatzsch\nGast: HSV Weinböhla II\nHalle: Lothar-Krauße-SH Lommatzsch (33211)\nAdresse: Domselwitzer Str. 21\, 01623 Lommatzsch\n
LOCATION:Lothar-Krauße-SH Lommatzsch (33211): Domselwitzer Str. 21\, 01623 Lommatzsch
CATEGORIES:Saison 2022/23
END:VEVENT
BEGIN:VEVENT
DTSTAMP:20260423T125517Z
DTSTART;TZID=Europe/Berlin:20230311T180000
DTEND;TZID=Europe/Berlin:20230311T193000
SUMMARY:BLM SSV Lommatzsch vs SF 01 Dresden II (1097)
UID:6a52867c-ef8e-4a43-a163-66521d63b079
STATUS:CONFIRMED
LAST-MODIFIED:20230313T063226Z
DESCRIPTION:BezLiga SM Männer\nBegegnungs-Nr: 1097\nHeim: SSV Lommatzsch\nGast: SF 01 Dresden II\nHalle: Lothar-Krauße-SH Lommatzsch (33211)\nAdresse: Domselwitzer Str. 21\, 01623 Lommatzsch\n
LOCATION:Lothar-Krauße-SH Lommatzsch (33211): Domselwitzer Str. 21\, 01623 Lommatzsch
CATEGORIES:Saison 2022/23
END:VEVENT
BEGIN:VEVENT
DTSTAMP:20260423T125517Z
DTSTART;TZID=Europe/Berlin:20221022T180000
DTEND;TZID=Europe/Berlin:20221022T193000
SUMMARY:BLM SSV Lommatzsch vs HSV Dresden III (1133)
UID:38a7abe4-d54c-405d-be77-75c9c7769375
STATUS:CONFIRMED
LAST-MODIFIED:20221023T144213Z
DESCRIPTION:BezLiga SM Männer\nBegegnungs-Nr: 1133\nHeim: SSV Lommatzsch\nGast: HSV Dresden III\nHalle: Lothar-Krauße-SH Lommatzsch (33211)\nAdresse: Domselwitzer Str. 21\, 01623 Lommatzsch\n
LOCATION:Lothar-Krauße-SH Lommatzsch (33211): Domselwitzer Str. 21\, 01623 Lommatzsch
CATEGORIES:Saison 2022/23
END:VEVENT
BEGIN:VEVENT
DTSTAMP:20260423T125517Z
DTSTART;TZID=Europe/Berlin:20221210T180000
DTEND;TZID=Europe/Berlin:20221210T193000
SUMMARY:BLM SSV Lommatzsch vs TSV 1862 Radeburg (1056)
UID:2c32a01f-3923-4340-a75f-bc181e6d9b5e
STATUS:CONFIRMED
LAST-MODIFIED:20221215T221749Z
DESCRIPTION:BezLiga SM Männer\nBegegnungs-Nr: 1056\nHeim: SSV Lommatzsch\nGast: TSV 1862 Radeburg\nHalle: Lothar-Krauße-SH Lommatzsch (33211)\nAdresse: Domselwitzer Str. 21\, 01623 Lommatzsch\n
LOCATION:Lothar-Krauße-SH Lommatzsch (33211): Domselwitzer Str. 21\, 01623 Lommatzsch
CATEGORIES:Saison 2022/23
END:VEVENT
BEGIN:VEVENT
DTSTAMP:20260423T125517Z
DTSTART;TZID=Europe/Berlin:20230121T180000
DTEND;TZID=Europe/Berlin:20230121T193000
SUMMARY:BLM SSV Lommatzsch vs Kurort Hartha (1075)
UID:be177f5b-5b7a-4abe-af09-d6b347e1211e
STATUS:CONFIRMED
LAST-MODIFIED:20230122T125353Z
DESCRIPTION:BezLiga SM Männer\nBegegnungs-Nr: 1075\nHeim: SSV Lommatzsch\nGast: Kurort Hartha\nHalle: Lothar-Krauße-SH Lommatzsch (33211)\nAdresse: Domselwitzer Str. 21\, 01623 Lommatzsch\n
LOCATION:Lothar-Krauße-SH Lommatzsch (33211): Domselwitzer Str. 21\, 01623 Lommatzsch
CATEGORIES:Saison 2022/23
END:VEVENT
BEGIN:VEVENT
DTSTAMP:20260423T125517Z
DTSTART;TZID=Europe/Berlin:20220917T180000
DTEND;TZID=Europe/Berlin:20220917T193000
SUMMARY:BLM SSV Lommatzsch vs SV Niederau II (1003)
UID:7dd7ecab-3982-405b-9c1d-f0588d44d4ed
STATUS:CONFIRMED
LAST-MODIFIED:20220917T195705Z
DESCRIPTION:BezLiga SM Männer\nBegegnungs-Nr: 1003\nHeim: SSV Lommatzsch\nGast: SV Niederau II\nHalle: Lothar-Krauße-SH Lommatzsch (33211)\nAdresse: Domselwitzer Str. 21\, 01623 Lommatzsch\n
LOCATION:Lothar-Krauße-SH Lommatzsch (33211): Domselwitzer Str. 21\, 01623 Lommatzsch
CATEGORIES:Saison 2022/23
END:VEVENT
BEGIN:VEVENT
DTSTAMP:20260423T125517Z
DTSTART;TZID=Europe/Berlin:20221001T180000
DTEND;TZID=Europe/Berlin:20221001T193000
SUMMARY:BLM SSV Lommatzsch vs SC Riesa II (1015)
UID:73ec11de-1f85-4403-ab6a-0f98a410545e
STATUS:CONFIRMED
LAST-MODIFIED:20221004T121724Z
DESCRIPTION:BezLiga SM Männer\nBegegnungs-Nr: 1015\nHeim: SSV Lommatzsch\nGast: SC Riesa II\nHalle: Lothar-Krauße-SH Lommatzsch (33211)\nAdresse: Domselwitzer Str. 21\, 01623 Lommatzsch\n
LOCATION:Lothar-Krauße-SH Lommatzsch (33211): Domselwitzer Str. 21\, 01623 Lommatzsch
CATEGORIES:Saison 2022/23
END:VEVENT
BEGIN:VEVENT
DTSTAMP:20260423T125517Z
DTSTART;TZID=Europe/Berlin:20221119T180000
DTEND;TZID=Europe/Berlin:20221119T193000
SUMMARY:BLM SSV Lommatzsch vs HC Elbflorenz 2006 III (1043)
UID:042368d6-4dc4-4bf7-bbc8-8d4d8d47a6cf
STATUS:CONFIRMED
LAST-MODIFIED:20221123T085129Z
DESCRIPTION:BezLiga SM Männer\nBegegnungs-Nr: 1043\nHeim: SSV Lommatzsch\nGast: HC Elbflorenz 2006 III\nHalle: Lothar-Krauße-SH Lommatzsch (33211)\nAdresse: Domselwitzer Str. 21\, 01623 Lommatzsch\n
LOCATION:Lothar-Krauße-SH Lommatzsch (33211): Domselwitzer Str. 21\, 01623 Lommatzsch
CATEGORIES:Saison 2022/23
END:VEVENT
BEGIN:VEVENT
DTSTAMP:20260423T125517Z
DTSTART;TZID=Europe/Berlin:20230506T131500
DTEND;TZID=Europe/Berlin:20230506T144500
SUMMARY:BLM HC Elbflorenz 2006 III vs SSV Lommatzsch (1132)
UID:88a4b72d-c9ec-4e20-b677-380a21144839
STATUS:CONFIRMED
LAST-MODIFIED:20230504T170358Z
DESCRIPTION:BezLiga SM Männer\nBegegnungs-Nr: 1132\nHeim: HC Elbflorenz 2006 III\nGast: SSV Lommatzsch\nHalle: BallsportARENA Dresden (33133)\nAdresse: Weißeritzstraße 4\, 01067 Dresden\n
LOCATION:BallsportARENA Dresden (33133): Weißeritzstraße 4\, 01067 Dresden
CATEGORIES:Saison 2022/23
END:VEVENT
BEGIN:VEVENT
DTSTAMP:20260423T125517Z
DTSTART;TZID=Europe/Berlin:20221126T140000
DTEND;TZID=Europe/Berlin:20221126T153000
SUMMARY:BLM SG Klotzsche vs SSV Lommatzsch (1155)
UID:be58e14c-77ce-4b65-9ee9-8a712efda356
STATUS:CONFIRMED
LAST-MODIFIED:20221128T163948Z
DESCRIPTION:BezLiga SM Männer\nBegegnungs-Nr: 1155\nHeim: SG Klotzsche\nGast: SSV Lommatzsch\nHalle: SH Gymnasium Klotzsche (33126)\nAdresse: Karl-Marx-Straße 44\, 01109 Dresden\n
LOCATION:SH Gymnasium Klotzsche (33126): Karl-Marx-Straße 44\, 01109 Dresden
CATEGORIES:Saison 2022/23
END:VEVENT
BEGIN:VEVENT
DTSTAMP:20260423T125517Z
DTSTART;TZID=Europe/Berlin:20221105T180000
DTEND;TZID=Europe/Berlin:20221105T193000
SUMMARY:BLM SF 01 Dresden II vs SSV Lommatzsch (1031)
UID:ece5cf88-18ac-4045-b6ae-9111090f9a9c
STATUS:CONFIRMED
LAST-MODIFIED:20221107T124256Z
DESCRIPTION:BezLiga SM Männer\nBegegnungs-Nr: 1031\nHeim: SF 01 Dresden II\nGast: SSV Lommatzsch\nHalle: SH 56. Oberschule Dresden Am Trachenberg (33131)\nAdresse: Aachener Straße 10\, 01129 Dresden\n
LOCATION:SH 56. Oberschule Dresden Am Trachenberg (33131): Aachener Straße 10\, 01129 Dresden
CATEGORIES:Saison 2022/23
END:VEVENT
BEGIN:VEVENT
DTSTAMP:20260423T125517Z
DTSTART;TZID=Europe/Berlin:20230304T140000
DTEND;TZID=Europe/Berlin:20230304T153000
SUMMARY:BLM USV TU Dresden vs SSV Lommatzsch (1094)
UID:537f5d73-bafc-477f-94e0-3ac360c96551
STATUS:CONFIRMED
LAST-MODIFIED:20230307T075304Z
DESCRIPTION:BezLiga SM Männer\nBegegnungs-Nr: 1094\nHeim: USV TU Dresden\nGast: SSV Lommatzsch\nHalle: JOYNEXT Arena Dresden (Spielfeld 1) (33112a)\nAdresse: Magdeburger Straße 10\, 01067 Dresden\n
LOCATION:JOYNEXT Arena Dresden (Spielfeld 1) (33112a): Magdeburger Straße 10\, 01067 Dresden
CATEGORIES:Saison 2022/23
END:VEVENT
BEGIN:VEVENT
DTSTAMP:20260423T125517Z
DTSTART;TZID=Europe/Berlin:20230429T180000
DTEND;TZID=Europe/Berlin:20230429T193000
SUMMARY:BLM TSV 1862 Radeburg vs SSV Lommatzsch (1122)
UID:a3079ee0-9508-4e0d-8534-47ff11dd28a4
STATUS:CONFIRMED
LAST-MODIFIED:20230504T170729Z
DESCRIPTION:BezLiga SM Männer\nBegegnungs-Nr: 1122\nHeim: TSV 1862 Radeburg\nGast: SSV Lommatzsch\nHalle: Paul-Tiedemann-SH Radeburg (33214)\nAdresse: Meißner Berg 83c\, 01471 Radeburg\n
LOCATION:Paul-Tiedemann-SH Radeburg (33214): Meißner Berg 83c\, 01471 Radeburg
CATEGORIES:Saison 2022/23
END:VEVENT
BEGIN:VEVENT
DTSTAMP:20260423T125517Z
DTSTART;TZID=Europe/Berlin:20230325T180000
DTEND;TZID=Europe/Berlin:20230325T193000
SUMMARY:BLM Radebeuler HV vs SSV Lommatzsch (1107)
UID:979af64c-28b9-4ff5-8b83-d7333b562b15
STATUS:CONFIRMED
LAST-MODIFIED:20230327T081346Z
DESCRIPTION:BezLiga SM Männer\nBegegnungs-Nr: 1107\nHeim: Radebeuler HV\nGast: SSV Lommatzsch\nHalle: Lößnitz-SH Radebeul (33204)\nAdresse: Steinbachstr. 13\, 01445 Radebeul\n
LOCATION:Lößnitz-SH Radebeul (33204): Steinbachstr. 13\, 01445 Radebeul
CATEGORIES:Saison 2022/23
END:VEVENT
BEGIN:VEVENT
DTSTAMP:20260423T125517Z
DTSTART;TZID=Europe/Berlin:20230401T143000
DTEND;TZID=Europe/Berlin:20230401T160000
SUMMARY:BLM HSV Dresden III vs SSV Lommatzsch (1109)
UID:775de050-a150-4cf9-9039-64ec9f32a0f0
STATUS:CONFIRMED
LAST-MODIFIED:20230404T074427Z
DESCRIPTION:BezLiga SM Männer\nBegegnungs-Nr: 1109\nHeim: HSV Dresden III\nGast: SSV Lommatzsch\nHalle: SH 121. Oberschule Dresden (33102)\nAdresse: Gamigstraße 28/30\, 01239 Dresden\n
LOCATION:SH 121. Oberschule Dresden (33102): Gamigstraße 28/30\, 01239 Dresden
CATEGORIES:Saison 2022/23
END:VEVENT
BEGIN:VEVENT
DTSTAMP:20260423T125517Z
DTSTART;TZID=Europe/Berlin:20221203T170000
DTEND;TZID=Europe/Berlin:20221203T183000
SUMMARY:BLM HSV Weinböhla II vs SSV Lommatzsch (1052)
UID:bc818771-8755-4fe9-9a03-2e54bfa2a06b
STATUS:CONFIRMED
LAST-MODIFIED:20221208T180942Z
DESCRIPTION:BezLiga SM Männer\nBegegnungs-Nr: 1052\nHeim: HSV Weinböhla II\nGast: SSV Lommatzsch\nHalle: Nassau-SH Weinböhla (33224)\nAdresse: Meißner Str. 1\, 01689 Weinböhla\n
LOCATION:Nassau-SH Weinböhla (33224): Meißner Str. 1\, 01689 Weinböhla
CATEGORIES:Saison 2022/23
END:VEVENT
BEGIN:VEVENT
DTSTAMP:20260423T125517Z
DTSTART;TZID=Europe/Berlin:20230107T170000
DTEND;TZID=Europe/Berlin:20230107T183000
SUMMARY:BLM ESV Dresden II vs SSV Lommatzsch (1064)
UID:f43a2334-1ac3-4c52-b93a-45986f9aa29e
STATUS:CONFIRMED
LAST-MODIFIED:20230107T204941Z
DESCRIPTION:BezLiga SM Männer\nBegegnungs-Nr: 1064\nHeim: ESV Dresden II\nGast: SSV Lommatzsch\nHalle: SH 121. Oberschule Dresden (33102)\nAdresse: Gamigstraße 28/30\, 01239 Dresden\n
LOCATION:SH 121. Oberschule Dresden (33102): Gamigstraße 28/30\, 01239 Dresden
CATEGORIES:Saison 2022/23
END:VEVENT
BEGIN:VEVENT
DTSTAMP:20260423T125517Z
DTSTART;TZID=Europe/Berlin:20230115T150000
DTEND;TZID=Europe/Berlin:20230115T163000
SUMMARY:BLM SV Niederau II vs SSV Lommatzsch (1069)
UID:600fcfe0-aee3-4588-91de-97cc54c11018
STATUS:CONFIRMED
LAST-MODIFIED:20230117T122227Z
DESCRIPTION:BezLiga SM Männer\nBegegnungs-Nr: 1069\nHeim: SV Niederau II\nGast: SSV Lommatzsch\nHalle: SH Priestewitz (33210)\nAdresse: Strießener Str. 3\, 01561 Priestewitz\n
LOCATION:SH Priestewitz (33210): Strießener Str. 3\, 01561 Priestewitz
CATEGORIES:Saison 2022/23
END:VEVENT
BEGIN:VEVENT
DTSTAMP:20260423T125517Z
DTSTART;TZID=Europe/Berlin:20230127T200000
DTEND;TZID=Europe/Berlin:20230127T213000
SUMMARY:BLM SC Riesa II vs SSV Lommatzsch (1082)
UID:be2eb3d8-86c7-4915-a501-b4bf81fb3924
STATUS:CONFIRMED
LAST-MODIFIED:20230129T183951Z
DESCRIPTION:BezLiga SM Männer\nBegegnungs-Nr: 1082\nHeim: SC Riesa II\nGast: SSV Lommatzsch\nHalle: WM-Sporthalle Riesa (33213)\nAdresse: Am Sportzentrum 1\, 01587 Riesa\n
LOCATION:WM-Sporthalle Riesa (33213): Am Sportzentrum 1\, 01587 Riesa
CATEGORIES:Saison 2022/23
END:VEVENT
BEGIN:VEVENT
DTSTAMP:20260423T125517Z
DTSTART;TZID=Europe/Berlin:20220925T170000
DTEND;TZID=Europe/Berlin:20220925T183000
SUMMARY:BLM Kurort Hartha vs SSV Lommatzsch (1009)
UID:272b6c6e-f5f1-4778-b22e-6659453286aa
STATUS:CONFIRMED
LAST-MODIFIED:20221004T121430Z
DESCRIPTION:BezLiga SM Männer\nBegegnungs-Nr: 1009\nHeim: Kurort Hartha\nGast: SSV Lommatzsch\nHalle: Saubach-SH Wilsdruff (33208)\nAdresse: Nossener Str. 21b\, 01723 Wilsdruff\n
LOCATION:Saubach-SH Wilsdruff (33208): Nossener Str. 21b\, 01723 Wilsdruff
CATEGORIES:Saison 2022/23
END:VEVENT
END:VCALENDAR
