BEGIN:VCALENDAR
PRODID:-//nuDatenautomaten//framework iCal4j //DE
VERSION:2.0
CALSCALE:GREGORIAN
BEGIN:VTIMEZONE
TZID:Europe/Berlin
LAST-MODIFIED:20260306T231828Z
TZURL:https://www.tzurl.org/zoneinfo/Europe/Berlin
X-LIC-LOCATION:Europe/Berlin
X-PROLEPTIC-TZNAME:LMT
BEGIN:STANDARD
TZNAME:CET
TZOFFSETFROM:+005328
TZOFFSETTO:+0100
DTSTART:18930401T000000
END:STANDARD
BEGIN:DAYLIGHT
TZNAME:CEST
TZOFFSETFROM:+0100
TZOFFSETTO:+0200
DTSTART:19160430T230000
RDATE:19400401T020000
RDATE:19430329T020000
RDATE:19460414T020000
RDATE:19470406T030000
RDATE:19480418T020000
RDATE:19490410T020000
RDATE:19800406T020000
END:DAYLIGHT
BEGIN:STANDARD
TZNAME:CET
TZOFFSETFROM:+0200
TZOFFSETTO:+0100
DTSTART:19161001T010000
RDATE:19421102T030000
RDATE:19431004T030000
RDATE:19441002T030000
RDATE:19451118T030000
RDATE:19461007T030000
END:STANDARD
BEGIN:DAYLIGHT
TZNAME:CEST
TZOFFSETFROM:+0100
TZOFFSETTO:+0200
DTSTART:19170416T020000
RRULE:FREQ=YEARLY;UNTIL=19180415T010000Z;BYMONTH=4;BYDAY=3MO
END:DAYLIGHT
BEGIN:STANDARD
TZNAME:CET
TZOFFSETFROM:+0200
TZOFFSETTO:+0100
DTSTART:19170917T030000
RRULE:FREQ=YEARLY;UNTIL=19180916T010000Z;BYMONTH=9;BYDAY=3MO
END:STANDARD
BEGIN:DAYLIGHT
TZNAME:CEST
TZOFFSETFROM:+0100
TZOFFSETTO:+0200
DTSTART:19440403T020000
RRULE:FREQ=YEARLY;UNTIL=19450402T010000Z;BYMONTH=4;BYDAY=1MO
END:DAYLIGHT
BEGIN:DAYLIGHT
TZNAME:CEMT
TZOFFSETFROM:+0200
TZOFFSETTO:+0300
DTSTART:19450524T020000
RDATE:19470511T030000
END:DAYLIGHT
BEGIN:DAYLIGHT
TZNAME:CEST
TZOFFSETFROM:+0300
TZOFFSETTO:+0200
DTSTART:19450924T030000
RDATE:19470629T030000
END:DAYLIGHT
BEGIN:STANDARD
TZNAME:CET
TZOFFSETFROM:+0100
TZOFFSETTO:+0100
DTSTART:19460101T000000
RDATE:19800101T000000
END:STANDARD
BEGIN:STANDARD
TZNAME:CET
TZOFFSETFROM:+0200
TZOFFSETTO:+0100
DTSTART:19471005T030000
RRULE:FREQ=YEARLY;UNTIL=19491002T010000Z;BYMONTH=10;BYDAY=1SU
END:STANDARD
BEGIN:STANDARD
TZNAME:CET
TZOFFSETFROM:+0200
TZOFFSETTO:+0100
DTSTART:19800928T030000
RRULE:FREQ=YEARLY;UNTIL=19950924T010000Z;BYMONTH=9;BYDAY=-1SU
END:STANDARD
BEGIN:DAYLIGHT
TZNAME:CEST
TZOFFSETFROM:+0100
TZOFFSETTO:+0200
DTSTART:19810329T020000
RRULE:FREQ=YEARLY;BYMONTH=3;BYDAY=-1SU
END:DAYLIGHT
BEGIN:STANDARD
TZNAME:CET
TZOFFSETFROM:+0200
TZOFFSETTO:+0100
DTSTART:19961027T030000
RRULE:FREQ=YEARLY;BYMONTH=10;BYDAY=-1SU
END:STANDARD
END:VTIMEZONE
BEGIN:VEVENT
DTSTAMP:20260423T150653Z
DTSTART;TZID=Europe/Berlin:20221023T150000
DTEND;TZID=Europe/Berlin:20221023T163000
SUMMARY:BLM SV Niederau II vs SC Riesa II (1136)
UID:3fccf2be-445e-4565-ad76-2067ef52c07d
STATUS:CONFIRMED
LAST-MODIFIED:20221030T205112Z
DESCRIPTION:BezLiga SM Männer\nBegegnungs-Nr: 1136\nHeim: SV Niederau II\nGast: SC Riesa II\nHalle: SH \"Heiliger Grund\" Meißen (33212)\nAdresse: Goethestraße 27\, 01662 Meißen\n
LOCATION:SH \"Heiliger Grund\" Meißen (33212): Goethestraße 27\, 01662 Meißen
CATEGORIES:Saison 2022/23
END:VEVENT
BEGIN:VEVENT
DTSTAMP:20260423T150653Z
DTSTART;TZID=Europe/Berlin:20221105T150000
DTEND;TZID=Europe/Berlin:20221105T163000
SUMMARY:BLM SV Niederau II vs Radebeuler HV (1036)
UID:48103e29-052e-4137-baca-29c950d3f3ca
STATUS:CONFIRMED
LAST-MODIFIED:20221107T175340Z
DESCRIPTION:BezLiga SM Männer\nBegegnungs-Nr: 1036\nHeim: SV Niederau II\nGast: Radebeuler HV\nHalle: SH \"Heiliger Grund\" Meißen (33212)\nAdresse: Goethestraße 27\, 01662 Meißen\n
LOCATION:SH \"Heiliger Grund\" Meißen (33212): Goethestraße 27\, 01662 Meißen
CATEGORIES:Saison 2022/23
END:VEVENT
BEGIN:VEVENT
DTSTAMP:20260423T150653Z
DTSTART;TZID=Europe/Berlin:20230305T150000
DTEND;TZID=Europe/Berlin:20230305T163000
SUMMARY:BLM SV Niederau II vs ESV Dresden II (1091)
UID:1247b92f-42aa-40eb-9409-3040c114d003
STATUS:CONFIRMED
LAST-MODIFIED:20230307T080211Z
DESCRIPTION:BezLiga SM Männer\nBegegnungs-Nr: 1091\nHeim: SV Niederau II\nGast: ESV Dresden II\nHalle: SH \"Heiliger Grund\" Meißen (33212)\nAdresse: Goethestraße 27\, 01662 Meißen\n
LOCATION:SH \"Heiliger Grund\" Meißen (33212): Goethestraße 27\, 01662 Meißen
CATEGORIES:Saison 2022/23
END:VEVENT
BEGIN:VEVENT
DTSTAMP:20260423T150653Z
DTSTART;TZID=Europe/Berlin:20221009T150000
DTEND;TZID=Europe/Berlin:20221009T163000
SUMMARY:BLM SV Niederau II vs TSV 1862 Radeburg (1023)
UID:1293a5d9-34fb-4689-8bfb-92489b235f53
STATUS:CONFIRMED
LAST-MODIFIED:20221010T105312Z
DESCRIPTION:BezLiga SM Männer\nBegegnungs-Nr: 1023\nHeim: SV Niederau II\nGast: TSV 1862 Radeburg\nHalle: SH \"Heiliger Grund\" Meißen (33212)\nAdresse: Goethestraße 27\, 01662 Meißen\n
LOCATION:SH \"Heiliger Grund\" Meißen (33212): Goethestraße 27\, 01662 Meißen
CATEGORIES:Saison 2022/23
END:VEVENT
BEGIN:VEVENT
DTSTAMP:20260423T150653Z
DTSTART;TZID=Europe/Berlin:20220925T160000
DTEND;TZID=Europe/Berlin:20220925T173000
SUMMARY:BLM SV Niederau II vs HSV Dresden III (1010)
UID:66e28397-abdd-401e-8e68-c26551663e46
STATUS:CONFIRMED
LAST-MODIFIED:20220925T161333Z
DESCRIPTION:BezLiga SM Männer\nBegegnungs-Nr: 1010\nHeim: SV Niederau II\nGast: HSV Dresden III\nHalle: SH \"Heiliger Grund\" Meißen (33212)\nAdresse: Goethestraße 27\, 01662 Meißen\n
LOCATION:SH \"Heiliger Grund\" Meißen (33212): Goethestraße 27\, 01662 Meißen
CATEGORIES:Saison 2022/23
END:VEVENT
BEGIN:VEVENT
DTSTAMP:20260423T150653Z
DTSTART;TZID=Europe/Berlin:20221204T150000
DTEND;TZID=Europe/Berlin:20221204T163000
SUMMARY:BLM SV Niederau II vs SG Klotzsche (1049)
UID:7b4482ee-1a12-459b-8abd-0021cc1b5efc
STATUS:CONFIRMED
LAST-MODIFIED:20221215T221355Z
DESCRIPTION:BezLiga SM Männer\nBegegnungs-Nr: 1049\nHeim: SV Niederau II\nGast: SG Klotzsche\nHalle: SH \"Heiliger Grund\" Meißen (33212)\nAdresse: Goethestraße 27\, 01662 Meißen\n
LOCATION:SH \"Heiliger Grund\" Meißen (33212): Goethestraße 27\, 01662 Meißen
CATEGORIES:Saison 2022/23
END:VEVENT
BEGIN:VEVENT
DTSTAMP:20260423T150653Z
DTSTART;TZID=Europe/Berlin:20230108T150000
DTEND;TZID=Europe/Berlin:20230108T163000
SUMMARY:BLM SV Niederau II vs SF 01 Dresden II (1063)
UID:0fab2f7e-37d1-45f1-89f4-f9fffc7b2104
STATUS:CONFIRMED
LAST-MODIFIED:20230117T121614Z
DESCRIPTION:BezLiga SM Männer\nBegegnungs-Nr: 1063\nHeim: SV Niederau II\nGast: SF 01 Dresden II\nHalle: SH Priestewitz (33210)\nAdresse: Strießener Str. 3\, 01561 Priestewitz\n
LOCATION:SH Priestewitz (33210): Strießener Str. 3\, 01561 Priestewitz
CATEGORIES:Saison 2022/23
END:VEVENT
BEGIN:VEVENT
DTSTAMP:20260423T150653Z
DTSTART;TZID=Europe/Berlin:20230115T150000
DTEND;TZID=Europe/Berlin:20230115T163000
SUMMARY:BLM SV Niederau II vs SSV Lommatzsch (1069)
UID:600fcfe0-aee3-4588-91de-97cc54c11018
STATUS:CONFIRMED
LAST-MODIFIED:20230117T122227Z
DESCRIPTION:BezLiga SM Männer\nBegegnungs-Nr: 1069\nHeim: SV Niederau II\nGast: SSV Lommatzsch\nHalle: SH Priestewitz (33210)\nAdresse: Strießener Str. 3\, 01561 Priestewitz\n
LOCATION:SH Priestewitz (33210): Strießener Str. 3\, 01561 Priestewitz
CATEGORIES:Saison 2022/23
END:VEVENT
BEGIN:VEVENT
DTSTAMP:20260423T150653Z
DTSTART;TZID=Europe/Berlin:20230129T150000
DTEND;TZID=Europe/Berlin:20230129T163000
SUMMARY:BLM SV Niederau II vs HSV Weinböhla II (1080)
UID:6bdc7e6e-224b-4803-b976-b51bbe298bd1
STATUS:CONFIRMED
LAST-MODIFIED:20230129T184928Z
DESCRIPTION:BezLiga SM Männer\nBegegnungs-Nr: 1080\nHeim: SV Niederau II\nGast: HSV Weinböhla II\nHalle: SH Priestewitz (33210)\nAdresse: Strießener Str. 3\, 01561 Priestewitz\n
LOCATION:SH Priestewitz (33210): Strießener Str. 3\, 01561 Priestewitz
CATEGORIES:Saison 2022/23
END:VEVENT
BEGIN:VEVENT
DTSTAMP:20260423T150653Z
DTSTART;TZID=Europe/Berlin:20230402T180000
DTEND;TZID=Europe/Berlin:20230402T193000
SUMMARY:BLM SV Niederau II vs HC Elbflorenz 2006 III (1113)
UID:f3522b7a-0e96-43ea-9af9-1e269bb61df4
STATUS:CONFIRMED
LAST-MODIFIED:20230413T101147Z
DESCRIPTION:BezLiga SM Männer\nBegegnungs-Nr: 1113\nHeim: SV Niederau II\nGast: HC Elbflorenz 2006 III\nHalle: SH \"Heiliger Grund\" Meißen (33212)\nAdresse: Goethestraße 27\, 01662 Meißen\n
LOCATION:SH \"Heiliger Grund\" Meißen (33212): Goethestraße 27\, 01662 Meißen
CATEGORIES:Saison 2022/23
END:VEVENT
BEGIN:VEVENT
DTSTAMP:20260423T150653Z
DTSTART;TZID=Europe/Berlin:20230429T150000
DTEND;TZID=Europe/Berlin:20230429T163000
SUMMARY:BLM SV Niederau II vs USV TU Dresden (1124)
UID:22824a0b-4b15-432d-a03b-e33b61433314
STATUS:CONFIRMED
LAST-MODIFIED:20230504T170653Z
DESCRIPTION:BezLiga SM Männer\nBegegnungs-Nr: 1124\nHeim: SV Niederau II\nGast: USV TU Dresden\nHalle: SH BSZ Meißen (33220)\nAdresse: Goethestraße 21\, 01662 Meißen\n
LOCATION:SH BSZ Meißen (33220): Goethestraße 21\, 01662 Meißen
CATEGORIES:Saison 2022/23
END:VEVENT
BEGIN:VEVENT
DTSTAMP:20260423T150653Z
DTSTART;TZID=Europe/Berlin:20221127T170000
DTEND;TZID=Europe/Berlin:20221127T183000
SUMMARY:BLM SV Niederau II vs Kurort Hartha (1141)
UID:f4c05ba5-c406-4fff-aac5-c17b0bad4aa2
STATUS:CONFIRMED
LAST-MODIFIED:20221128T165057Z
DESCRIPTION:BezLiga SM Männer\nBegegnungs-Nr: 1141\nHeim: SV Niederau II\nGast: Kurort Hartha\nHalle: SH \"Heiliger Grund\" Meißen (33212)\nAdresse: Goethestraße 27\, 01662 Meißen\n
LOCATION:SH \"Heiliger Grund\" Meißen (33212): Goethestraße 27\, 01662 Meißen
CATEGORIES:Saison 2022/23
END:VEVENT
BEGIN:VEVENT
DTSTAMP:20260423T150653Z
DTSTART;TZID=Europe/Berlin:20230211T160000
DTEND;TZID=Europe/Berlin:20230211T173000
SUMMARY:BLM TSV 1862 Radeburg vs SV Niederau II (1145)
UID:37b5db47-8772-4358-8533-25fa2c83ab52
STATUS:CONFIRMED
LAST-MODIFIED:20230213T132900Z
DESCRIPTION:BezLiga SM Männer\nBegegnungs-Nr: 1145\nHeim: TSV 1862 Radeburg\nGast: SV Niederau II\nHalle: Paul-Tiedemann-SH Radeburg (33214)\nAdresse: Meißner Berg 83c\, 01471 Radeburg\n
LOCATION:Paul-Tiedemann-SH Radeburg (33214): Meißner Berg 83c\, 01471 Radeburg
CATEGORIES:Saison 2022/23
END:VEVENT
BEGIN:VEVENT
DTSTAMP:20260423T150653Z
DTSTART;TZID=Europe/Berlin:20221016T140000
DTEND;TZID=Europe/Berlin:20221016T153000
SUMMARY:BLM ESV Dresden II vs SV Niederau II (1025)
UID:edb99dd5-3139-4377-9a51-2e6106ae70b4
STATUS:CONFIRMED
LAST-MODIFIED:20221018T181016Z
DESCRIPTION:BezLiga SM Männer\nBegegnungs-Nr: 1025\nHeim: ESV Dresden II\nGast: SV Niederau II\nHalle: Lok-SH Dresden (33106)\nAdresse: Emmerich-Ambros-Ufer 74\, 01159 Dresden\n
LOCATION:Lok-SH Dresden (33106): Emmerich-Ambros-Ufer 74\, 01159 Dresden
CATEGORIES:Saison 2022/23
END:VEVENT
BEGIN:VEVENT
DTSTAMP:20260423T150653Z
DTSTART;TZID=Europe/Berlin:20230311T180000
DTEND;TZID=Europe/Berlin:20230311T193000
SUMMARY:BLM Radebeuler HV vs SV Niederau II (1102)
UID:7004462c-a959-4762-8cfb-11c27ab6a943
STATUS:CONFIRMED
LAST-MODIFIED:20230313T063321Z
DESCRIPTION:BezLiga SM Männer\nBegegnungs-Nr: 1102\nHeim: Radebeuler HV\nGast: SV Niederau II\nHalle: Lößnitz-SH Radebeul (33204)\nAdresse: Steinbachstr. 13\, 01445 Radebeul\n
LOCATION:Lößnitz-SH Radebeul (33204): Steinbachstr. 13\, 01445 Radebeul
CATEGORIES:Saison 2022/23
END:VEVENT
BEGIN:VEVENT
DTSTAMP:20260423T150653Z
DTSTART;TZID=Europe/Berlin:20230326T170000
DTEND;TZID=Europe/Berlin:20230326T183000
SUMMARY:BLM Kurort Hartha vs SV Niederau II (1103)
UID:343a35bd-5000-47d5-a197-353498901aab
STATUS:CONFIRMED
LAST-MODIFIED:20230327T081431Z
DESCRIPTION:BezLiga SM Männer\nBegegnungs-Nr: 1103\nHeim: Kurort Hartha\nGast: SV Niederau II\nHalle: Saubach-SH Wilsdruff (33208)\nAdresse: Nossener Str. 21b\, 01723 Wilsdruff\n
LOCATION:Saubach-SH Wilsdruff (33208): Nossener Str. 21b\, 01723 Wilsdruff
CATEGORIES:Saison 2022/23
END:VEVENT
BEGIN:VEVENT
DTSTAMP:20260423T150653Z
DTSTART;TZID=Europe/Berlin:20230506T140000
DTEND;TZID=Europe/Berlin:20230506T153000
SUMMARY:BLM SF 01 Dresden II vs SV Niederau II (1129)
UID:b27f513d-c0f8-4365-8198-77f772d9ee55
STATUS:CONFIRMED
LAST-MODIFIED:20220816T170309Z
DESCRIPTION:BezLiga SM Männer\nBegegnungs-Nr: 1129\nHeim: SF 01 Dresden II\nGast: SV Niederau II\nHalle: SH 117. Grundschule Dresden (33132)\nAdresse: Reichenbachstr. 12\, 01069 Dresden\n
LOCATION:SH 117. Grundschule Dresden (33132): Reichenbachstr. 12\, 01069 Dresden
CATEGORIES:Saison 2022/23
END:VEVENT
BEGIN:VEVENT
DTSTAMP:20260423T150653Z
DTSTART;TZID=Europe/Berlin:20221001T150000
DTEND;TZID=Europe/Berlin:20221001T163000
SUMMARY:BLM HSV Weinböhla II vs SV Niederau II (1013)
UID:4ffc9a52-0ce2-4d48-bbed-f252cc82c84a
STATUS:CONFIRMED
LAST-MODIFIED:20221004T121609Z
DESCRIPTION:BezLiga SM Männer\nBegegnungs-Nr: 1013\nHeim: HSV Weinböhla II\nGast: SV Niederau II\nHalle: Nassau-SH Weinböhla (33224)\nAdresse: Meißner Str. 1\, 01689 Weinböhla\n
LOCATION:Nassau-SH Weinböhla (33224): Meißner Str. 1\, 01689 Weinböhla
CATEGORIES:Saison 2022/23
END:VEVENT
BEGIN:VEVENT
DTSTAMP:20260423T150653Z
DTSTART;TZID=Europe/Berlin:20221119T190000
DTEND;TZID=Europe/Berlin:20221119T203000
SUMMARY:BLM SC Riesa II vs SV Niederau II (1047)
UID:2eb8bab7-1a2f-48e5-bb33-8a2d1339d0f9
STATUS:CONFIRMED
LAST-MODIFIED:20221123T090033Z
DESCRIPTION:BezLiga SM Männer\nBegegnungs-Nr: 1047\nHeim: SC Riesa II\nGast: SV Niederau II\nHalle: WM-Sporthalle Riesa (33213)\nAdresse: Am Sportzentrum 1\, 01587 Riesa\n
LOCATION:WM-Sporthalle Riesa (33213): Am Sportzentrum 1\, 01587 Riesa
CATEGORIES:Saison 2022/23
END:VEVENT
BEGIN:VEVENT
DTSTAMP:20260423T150653Z
DTSTART;TZID=Europe/Berlin:20221210T140000
DTEND;TZID=Europe/Berlin:20221210T153000
SUMMARY:BLM USV TU Dresden vs SV Niederau II (1058)
UID:1bb0a1f2-53bd-4196-80c1-5b0cd90b9dab
STATUS:CONFIRMED
LAST-MODIFIED:20221230T222758Z
DESCRIPTION:BezLiga SM Männer\nBegegnungs-Nr: 1058\nHeim: USV TU Dresden\nGast: SV Niederau II\nHalle: JOYNEXT Arena Dresden (Spielfeld 2) (33112b)\nAdresse: Magdeburger Straße 10\, 01067 Dresden\n
LOCATION:JOYNEXT Arena Dresden (Spielfeld 2) (33112b): Magdeburger Straße 10\, 01067 Dresden
CATEGORIES:Saison 2022/23
END:VEVENT
BEGIN:VEVENT
DTSTAMP:20260423T150653Z
DTSTART;TZID=Europe/Berlin:20230121T143000
DTEND;TZID=Europe/Berlin:20230121T160000
SUMMARY:BLM HSV Dresden III vs SV Niederau II (1076)
UID:13fe8fa5-70a9-4b6e-bf70-9ba3d6cd3bf0
STATUS:CONFIRMED
LAST-MODIFIED:20230122T125159Z
DESCRIPTION:BezLiga SM Männer\nBegegnungs-Nr: 1076\nHeim: HSV Dresden III\nGast: SV Niederau II\nHalle: SH 121. Oberschule Dresden (33102)\nAdresse: Gamigstraße 28/30\, 01239 Dresden\n
LOCATION:SH 121. Oberschule Dresden (33102): Gamigstraße 28/30\, 01239 Dresden
CATEGORIES:Saison 2022/23
END:VEVENT
BEGIN:VEVENT
DTSTAMP:20260423T150653Z
DTSTART;TZID=Europe/Berlin:20220917T180000
DTEND;TZID=Europe/Berlin:20220917T193000
SUMMARY:BLM SSV Lommatzsch vs SV Niederau II (1003)
UID:7dd7ecab-3982-405b-9c1d-f0588d44d4ed
STATUS:CONFIRMED
LAST-MODIFIED:20220917T195705Z
DESCRIPTION:BezLiga SM Männer\nBegegnungs-Nr: 1003\nHeim: SSV Lommatzsch\nGast: SV Niederau II\nHalle: Lothar-Krauße-SH Lommatzsch (33211)\nAdresse: Domselwitzer Str. 21\, 01623 Lommatzsch\n
LOCATION:Lothar-Krauße-SH Lommatzsch (33211): Domselwitzer Str. 21\, 01623 Lommatzsch
CATEGORIES:Saison 2022/23
END:VEVENT
BEGIN:VEVENT
DTSTAMP:20260423T150653Z
DTSTART;TZID=Europe/Berlin:20230415T170000
DTEND;TZID=Europe/Berlin:20230415T183000
SUMMARY:BLM SG Klotzsche vs SV Niederau II (1153)
UID:164b996a-b161-4d7b-8726-38eb18e9eb3a
STATUS:CONFIRMED
LAST-MODIFIED:20230423T153740Z
DESCRIPTION:BezLiga SM Männer\nBegegnungs-Nr: 1153\nHeim: SG Klotzsche\nGast: SV Niederau II\nHalle: SH Gymnasium Klotzsche (33126)\nAdresse: Karl-Marx-Straße 44\, 01109 Dresden\n
LOCATION:SH Gymnasium Klotzsche (33126): Karl-Marx-Straße 44\, 01109 Dresden
CATEGORIES:Saison 2022/23
END:VEVENT
BEGIN:VEVENT
DTSTAMP:20260423T150653Z
DTSTART;TZID=Europe/Berlin:20230422T100000
DTEND;TZID=Europe/Berlin:20230422T113000
SUMMARY:BLM HC Elbflorenz 2006 III vs SV Niederau II (1120)
UID:7b357208-24be-4dc3-9150-abc1992ef4b9
STATUS:CONFIRMED
LAST-MODIFIED:20230423T161157Z
DESCRIPTION:BezLiga SM Männer\nBegegnungs-Nr: 1120\nHeim: HC Elbflorenz 2006 III\nGast: SV Niederau II\nHalle: BallsportARENA Dresden (33133)\nAdresse: Weißeritzstraße 4\, 01067 Dresden\n
LOCATION:BallsportARENA Dresden (33133): Weißeritzstraße 4\, 01067 Dresden
CATEGORIES:Saison 2022/23
END:VEVENT
END:VCALENDAR
