BEGIN:VCALENDAR
PRODID:-//nuDatenautomaten//framework iCal4j //DE
VERSION:2.0
CALSCALE:GREGORIAN
BEGIN:VTIMEZONE
TZID:Europe/Berlin
LAST-MODIFIED:20260306T231828Z
TZURL:https://www.tzurl.org/zoneinfo/Europe/Berlin
X-LIC-LOCATION:Europe/Berlin
X-PROLEPTIC-TZNAME:LMT
BEGIN:STANDARD
TZNAME:CET
TZOFFSETFROM:+005328
TZOFFSETTO:+0100
DTSTART:18930401T000000
END:STANDARD
BEGIN:DAYLIGHT
TZNAME:CEST
TZOFFSETFROM:+0100
TZOFFSETTO:+0200
DTSTART:19160430T230000
RDATE:19400401T020000
RDATE:19430329T020000
RDATE:19460414T020000
RDATE:19470406T030000
RDATE:19480418T020000
RDATE:19490410T020000
RDATE:19800406T020000
END:DAYLIGHT
BEGIN:STANDARD
TZNAME:CET
TZOFFSETFROM:+0200
TZOFFSETTO:+0100
DTSTART:19161001T010000
RDATE:19421102T030000
RDATE:19431004T030000
RDATE:19441002T030000
RDATE:19451118T030000
RDATE:19461007T030000
END:STANDARD
BEGIN:DAYLIGHT
TZNAME:CEST
TZOFFSETFROM:+0100
TZOFFSETTO:+0200
DTSTART:19170416T020000
RRULE:FREQ=YEARLY;UNTIL=19180415T010000Z;BYMONTH=4;BYDAY=3MO
END:DAYLIGHT
BEGIN:STANDARD
TZNAME:CET
TZOFFSETFROM:+0200
TZOFFSETTO:+0100
DTSTART:19170917T030000
RRULE:FREQ=YEARLY;UNTIL=19180916T010000Z;BYMONTH=9;BYDAY=3MO
END:STANDARD
BEGIN:DAYLIGHT
TZNAME:CEST
TZOFFSETFROM:+0100
TZOFFSETTO:+0200
DTSTART:19440403T020000
RRULE:FREQ=YEARLY;UNTIL=19450402T010000Z;BYMONTH=4;BYDAY=1MO
END:DAYLIGHT
BEGIN:DAYLIGHT
TZNAME:CEMT
TZOFFSETFROM:+0200
TZOFFSETTO:+0300
DTSTART:19450524T020000
RDATE:19470511T030000
END:DAYLIGHT
BEGIN:DAYLIGHT
TZNAME:CEST
TZOFFSETFROM:+0300
TZOFFSETTO:+0200
DTSTART:19450924T030000
RDATE:19470629T030000
END:DAYLIGHT
BEGIN:STANDARD
TZNAME:CET
TZOFFSETFROM:+0100
TZOFFSETTO:+0100
DTSTART:19460101T000000
RDATE:19800101T000000
END:STANDARD
BEGIN:STANDARD
TZNAME:CET
TZOFFSETFROM:+0200
TZOFFSETTO:+0100
DTSTART:19471005T030000
RRULE:FREQ=YEARLY;UNTIL=19491002T010000Z;BYMONTH=10;BYDAY=1SU
END:STANDARD
BEGIN:STANDARD
TZNAME:CET
TZOFFSETFROM:+0200
TZOFFSETTO:+0100
DTSTART:19800928T030000
RRULE:FREQ=YEARLY;UNTIL=19950924T010000Z;BYMONTH=9;BYDAY=-1SU
END:STANDARD
BEGIN:DAYLIGHT
TZNAME:CEST
TZOFFSETFROM:+0100
TZOFFSETTO:+0200
DTSTART:19810329T020000
RRULE:FREQ=YEARLY;BYMONTH=3;BYDAY=-1SU
END:DAYLIGHT
BEGIN:STANDARD
TZNAME:CET
TZOFFSETFROM:+0200
TZOFFSETTO:+0100
DTSTART:19961027T030000
RRULE:FREQ=YEARLY;BYMONTH=10;BYDAY=-1SU
END:STANDARD
END:VTIMEZONE
BEGIN:VEVENT
DTSTAMP:20260420T012850Z
DTSTART;TZID=Europe/Berlin:20230122T150000
DTEND;TZID=Europe/Berlin:20230122T163000
SUMMARY:WLLMä1 SG Oberlichtenau II vs Radeberger SV III (1017)
UID:0c9d9ecf-074e-4bfe-bc09-c31612a5fa36
STATUS:CONFIRMED
LAST-MODIFIED:20230124T095959Z
DESCRIPTION:Westlausitzliga Männer Gruppe 1\nBegegnungs-Nr: 1017\nHeim: SG Oberlichtenau II\nGast: Radeberger SV III\nHalle: Sportkomplex Pulsnitz (34208)\nAdresse: Hempelstr. 8\, 01896 Pulsnitz\n
LOCATION:Sportkomplex Pulsnitz (34208): Hempelstr. 8\, 01896 Pulsnitz
CATEGORIES:Saison 2022/23
END:VEVENT
BEGIN:VEVENT
DTSTAMP:20260420T012850Z
DTSTART;TZID=Europe/Berlin:20221211T150000
DTEND;TZID=Europe/Berlin:20221211T163000
SUMMARY:WLLMä1 SG Oberlichtenau II vs TSG Bretnig-Hauswalde (1010)
UID:8dd8b8d8-d40f-4795-bddf-4e6715f1e2f3
STATUS:CONFIRMED
LAST-MODIFIED:20230120T160310Z
DESCRIPTION:Westlausitzliga Männer Gruppe 1\nBegegnungs-Nr: 1010\nHeim: SG Oberlichtenau II\nGast: TSG Bretnig-Hauswalde\nHalle: Sportkomplex Pulsnitz (34208)\nAdresse: Hempelstr. 8\, 01896 Pulsnitz\n
LOCATION:Sportkomplex Pulsnitz (34208): Hempelstr. 8\, 01896 Pulsnitz
CATEGORIES:Saison 2022/23
END:VEVENT
BEGIN:VEVENT
DTSTAMP:20260420T012850Z
DTSTART;TZID=Europe/Berlin:20221002T120000
DTEND;TZID=Europe/Berlin:20221002T133000
SUMMARY:WLLMä1 SG Oberlichtenau II vs SV Lok Königsbrück  (1002)
UID:2f645489-3e61-4b7a-aa46-c53a37d8ea15
STATUS:CONFIRMED
LAST-MODIFIED:20221004T164337Z
DESCRIPTION:Westlausitzliga Männer Gruppe 1\nBegegnungs-Nr: 1002\nHeim: SG Oberlichtenau II\nGast: SV Lok Königsbrück \nHalle: Sportkomplex Pulsnitz (34208)\nAdresse: Hempelstr. 8\, 01896 Pulsnitz\n
LOCATION:Sportkomplex Pulsnitz (34208): Hempelstr. 8\, 01896 Pulsnitz
CATEGORIES:Saison 2022/23
END:VEVENT
BEGIN:VEVENT
DTSTAMP:20260420T012850Z
DTSTART;TZID=Europe/Berlin:20221009T150000
DTEND;TZID=Europe/Berlin:20221009T163000
SUMMARY:WLLMä1 SG Oberlichtenau II vs HSV 1923 Pulsnitz III (1003)
UID:fa19749b-8a1e-4023-b346-dba917ccb2c2
STATUS:CONFIRMED
LAST-MODIFIED:20221010T152743Z
DESCRIPTION:Westlausitzliga Männer Gruppe 1\nBegegnungs-Nr: 1003\nHeim: SG Oberlichtenau II\nGast: HSV 1923 Pulsnitz III\nHalle: Sportkomplex Pulsnitz (34208)\nAdresse: Hempelstr. 8\, 01896 Pulsnitz\n
LOCATION:Sportkomplex Pulsnitz (34208): Hempelstr. 8\, 01896 Pulsnitz
CATEGORIES:Saison 2022/23
END:VEVENT
BEGIN:VEVENT
DTSTAMP:20260420T012850Z
DTSTART;TZID=Europe/Berlin:20230312T100000
DTEND;TZID=Europe/Berlin:20230312T113000
SUMMARY:Platzierung_7 SG Oberlichtenau II vs Stahl Rietschen III (7)
UID:c85a7d8c-1d69-484a-8b84-7fa3b56bb3f7
STATUS:CONFIRMED
LAST-MODIFIED:20230312T120652Z
DESCRIPTION:Platz_7\nBegegnungs-Nr: 7\nHeim: SG Oberlichtenau II\nGast: Stahl Rietschen III\nHalle: Sportkomplex Pulsnitz (34208)\nAdresse: Hempelstr. 8\, 01896 Pulsnitz\n
LOCATION:Sportkomplex Pulsnitz (34208): Hempelstr. 8\, 01896 Pulsnitz
CATEGORIES:Saison 2022/23
END:VEVENT
BEGIN:VEVENT
DTSTAMP:20260420T012850Z
DTSTART;TZID=Europe/Berlin:20230205T100000
DTEND;TZID=Europe/Berlin:20230205T113000
SUMMARY:WLLMä1 spielfrei vs SG Oberlichtenau II (1020)
UID:7b5ab7d3-db13-4731-849f-0c301347d5af
STATUS:CONFIRMED
LAST-MODIFIED:20230120T160310Z
DESCRIPTION:Westlausitzliga Männer Gruppe 1\nBegegnungs-Nr: 1020\nHeim: spielfrei\nGast: SG Oberlichtenau II\nHalle: 3-Feld-Halle-GY Großröhrsdorf (34514)\nAdresse: Melanchthonstraße 21\, 01900  Großröhrsdorf\n
LOCATION:3-Feld-Halle-GY Großröhrsdorf (34514): Melanchthonstraße 21\, 01900  Großröhrsdorf
CATEGORIES:Saison 2022/23
END:VEVENT
BEGIN:VEVENT
DTSTAMP:20260420T012850Z
DTSTART;TZID=Europe/Berlin:20221203T160000
DTEND;TZID=Europe/Berlin:20221203T173000
SUMMARY:WLLMä1 SV Lok Königsbrück  vs SG Oberlichtenau II (1012)
UID:61b4878f-9619-41b6-95a5-649074cb428d
STATUS:CONFIRMED
LAST-MODIFIED:20221203T182257Z
DESCRIPTION:Westlausitzliga Männer Gruppe 1\nBegegnungs-Nr: 1012\nHeim: SV Lok Königsbrück \nGast: SG Oberlichtenau II\nHalle: 2-Feld-Halle- OS Königsbrück (34513)\nAdresse: An der Schule 3\, 01936 Königsbrück\n
LOCATION:2-Feld-Halle- OS Königsbrück (34513): An der Schule 3\, 01936 Königsbrück
CATEGORIES:Saison 2022/23
END:VEVENT
BEGIN:VEVENT
DTSTAMP:20260420T012850Z
DTSTART;TZID=Europe/Berlin:20221217T160000
DTEND;TZID=Europe/Berlin:20221217T173000
SUMMARY:WLLMä1 HSV 1923 Pulsnitz III vs SG Oberlichtenau II (1013)
UID:fd0cb3af-bed6-4630-8cd2-0c5f1a50bfd1
STATUS:CONFIRMED
LAST-MODIFIED:20230112T054733Z
DESCRIPTION:Westlausitzliga Männer Gruppe 1\nBegegnungs-Nr: 1013\nHeim: HSV 1923 Pulsnitz III\nGast: SG Oberlichtenau II\nHalle: Sportkomplex Pulsnitz (34208)\nAdresse: Hempelstr. 8\, 01896 Pulsnitz\n
LOCATION:Sportkomplex Pulsnitz (34208): Hempelstr. 8\, 01896 Pulsnitz
CATEGORIES:Saison 2022/23
END:VEVENT
BEGIN:VEVENT
DTSTAMP:20260420T012850Z
DTSTART;TZID=Europe/Berlin:20221106T130000
DTEND;TZID=Europe/Berlin:20221106T143000
SUMMARY:WLLMä1 Radeberger SV III vs SG Oberlichtenau II (1007)
UID:eb06fc7d-a4da-4474-93f0-d6f17cb58019
STATUS:CONFIRMED
LAST-MODIFIED:20221107T231616Z
DESCRIPTION:Westlausitzliga Männer Gruppe 1\nBegegnungs-Nr: 1007\nHeim: Radeberger SV III\nGast: SG Oberlichtenau II\nHalle: 3-Feld-Halle-BSZ Radeberg (34209)\nAdresse: Robert-Blum-Weg 5\, 01454 Radeberg\n
LOCATION:3-Feld-Halle-BSZ Radeberg (34209): Robert-Blum-Weg 5\, 01454 Radeberg
CATEGORIES:Saison 2022/23
END:VEVENT
BEGIN:VEVENT
DTSTAMP:20260420T012850Z
DTSTART;TZID=Europe/Berlin:20230402T110000
DTEND;TZID=Europe/Berlin:20230402T123000
SUMMARY:Platzierung_7 Stahl Rietschen III vs SG Oberlichtenau II (8)
UID:a949cb4e-2e73-483f-9d4e-db84d8ad87a9
STATUS:CONFIRMED
LAST-MODIFIED:20230403T073605Z
DESCRIPTION:Platz_7\nBegegnungs-Nr: 8\nHeim: Stahl Rietschen III\nGast: SG Oberlichtenau II\nHalle: Oberlausitz-SH Rietschen (34403)\nAdresse: Am Festplatz 1\, 02956 Rietschen\n
LOCATION:Oberlausitz-SH Rietschen (34403): Am Festplatz 1\, 02956 Rietschen
CATEGORIES:Saison 2022/23
END:VEVENT
END:VCALENDAR
