BEGIN:VCALENDAR
PRODID:-//nuDatenautomaten//framework iCal4j //DE
VERSION:2.0
CALSCALE:GREGORIAN
BEGIN:VTIMEZONE
TZID:Europe/Berlin
LAST-MODIFIED:20260306T231828Z
TZURL:https://www.tzurl.org/zoneinfo/Europe/Berlin
X-LIC-LOCATION:Europe/Berlin
X-PROLEPTIC-TZNAME:LMT
BEGIN:STANDARD
TZNAME:CET
TZOFFSETFROM:+005328
TZOFFSETTO:+0100
DTSTART:18930401T000000
END:STANDARD
BEGIN:DAYLIGHT
TZNAME:CEST
TZOFFSETFROM:+0100
TZOFFSETTO:+0200
DTSTART:19160430T230000
RDATE:19400401T020000
RDATE:19430329T020000
RDATE:19460414T020000
RDATE:19470406T030000
RDATE:19480418T020000
RDATE:19490410T020000
RDATE:19800406T020000
END:DAYLIGHT
BEGIN:STANDARD
TZNAME:CET
TZOFFSETFROM:+0200
TZOFFSETTO:+0100
DTSTART:19161001T010000
RDATE:19421102T030000
RDATE:19431004T030000
RDATE:19441002T030000
RDATE:19451118T030000
RDATE:19461007T030000
END:STANDARD
BEGIN:DAYLIGHT
TZNAME:CEST
TZOFFSETFROM:+0100
TZOFFSETTO:+0200
DTSTART:19170416T020000
RRULE:FREQ=YEARLY;UNTIL=19180415T010000Z;BYMONTH=4;BYDAY=3MO
END:DAYLIGHT
BEGIN:STANDARD
TZNAME:CET
TZOFFSETFROM:+0200
TZOFFSETTO:+0100
DTSTART:19170917T030000
RRULE:FREQ=YEARLY;UNTIL=19180916T010000Z;BYMONTH=9;BYDAY=3MO
END:STANDARD
BEGIN:DAYLIGHT
TZNAME:CEST
TZOFFSETFROM:+0100
TZOFFSETTO:+0200
DTSTART:19440403T020000
RRULE:FREQ=YEARLY;UNTIL=19450402T010000Z;BYMONTH=4;BYDAY=1MO
END:DAYLIGHT
BEGIN:DAYLIGHT
TZNAME:CEMT
TZOFFSETFROM:+0200
TZOFFSETTO:+0300
DTSTART:19450524T020000
RDATE:19470511T030000
END:DAYLIGHT
BEGIN:DAYLIGHT
TZNAME:CEST
TZOFFSETFROM:+0300
TZOFFSETTO:+0200
DTSTART:19450924T030000
RDATE:19470629T030000
END:DAYLIGHT
BEGIN:STANDARD
TZNAME:CET
TZOFFSETFROM:+0100
TZOFFSETTO:+0100
DTSTART:19460101T000000
RDATE:19800101T000000
END:STANDARD
BEGIN:STANDARD
TZNAME:CET
TZOFFSETFROM:+0200
TZOFFSETTO:+0100
DTSTART:19471005T030000
RRULE:FREQ=YEARLY;UNTIL=19491002T010000Z;BYMONTH=10;BYDAY=1SU
END:STANDARD
BEGIN:STANDARD
TZNAME:CET
TZOFFSETFROM:+0200
TZOFFSETTO:+0100
DTSTART:19800928T030000
RRULE:FREQ=YEARLY;UNTIL=19950924T010000Z;BYMONTH=9;BYDAY=-1SU
END:STANDARD
BEGIN:DAYLIGHT
TZNAME:CEST
TZOFFSETFROM:+0100
TZOFFSETTO:+0200
DTSTART:19810329T020000
RRULE:FREQ=YEARLY;BYMONTH=3;BYDAY=-1SU
END:DAYLIGHT
BEGIN:STANDARD
TZNAME:CET
TZOFFSETFROM:+0200
TZOFFSETTO:+0100
DTSTART:19961027T030000
RRULE:FREQ=YEARLY;BYMONTH=10;BYDAY=-1SU
END:STANDARD
END:VTIMEZONE
BEGIN:VEVENT
DTSTAMP:20260419T205905Z
DTSTART;TZID=Europe/Berlin:20221217T160000
DTEND;TZID=Europe/Berlin:20221217T173000
SUMMARY:WLLMä1 HSV 1923 Pulsnitz III vs SG Oberlichtenau II (1013)
UID:fd0cb3af-bed6-4630-8cd2-0c5f1a50bfd1
STATUS:CONFIRMED
LAST-MODIFIED:20230112T054733Z
DESCRIPTION:Westlausitzliga Männer Gruppe 1\nBegegnungs-Nr: 1013\nHeim: HSV 1923 Pulsnitz III\nGast: SG Oberlichtenau II\nHalle: Sportkomplex Pulsnitz (34208)\nAdresse: Hempelstr. 8\, 01896 Pulsnitz\n
LOCATION:Sportkomplex Pulsnitz (34208): Hempelstr. 8\, 01896 Pulsnitz
CATEGORIES:Saison 2022/23
END:VEVENT
BEGIN:VEVENT
DTSTAMP:20260419T205905Z
DTSTART;TZID=Europe/Berlin:20230305T150000
DTEND;TZID=Europe/Berlin:20230305T163000
SUMMARY:WLLMä1 HSV 1923 Pulsnitz III vs spielfrei (1015)
UID:7f00e0a6-3c4c-4e25-ab61-3525515d423a
STATUS:CONFIRMED
LAST-MODIFIED:20230120T160310Z
DESCRIPTION:Westlausitzliga Männer Gruppe 1\nBegegnungs-Nr: 1015\nHeim: HSV 1923 Pulsnitz III\nGast: spielfrei\nHalle: Sportkomplex Pulsnitz (34208)\nAdresse: Hempelstr. 8\, 01896 Pulsnitz\n
LOCATION:Sportkomplex Pulsnitz (34208): Hempelstr. 8\, 01896 Pulsnitz
CATEGORIES:Saison 2022/23
END:VEVENT
BEGIN:VEVENT
DTSTAMP:20260419T205905Z
DTSTART;TZID=Europe/Berlin:20220925T100000
DTEND;TZID=Europe/Berlin:20220925T113000
SUMMARY:WLLMä1 HSV 1923 Pulsnitz III vs Radeberger SV III (1001)
UID:0cc9c312-e59a-4389-912e-d5005c2e37a3
STATUS:CONFIRMED
LAST-MODIFIED:20220926T085041Z
DESCRIPTION:Westlausitzliga Männer Gruppe 1\nBegegnungs-Nr: 1001\nHeim: HSV 1923 Pulsnitz III\nGast: Radeberger SV III\nHalle: Sportkomplex Pulsnitz (34208)\nAdresse: Hempelstr. 8\, 01896 Pulsnitz\n
LOCATION:Sportkomplex Pulsnitz (34208): Hempelstr. 8\, 01896 Pulsnitz
CATEGORIES:Saison 2022/23
END:VEVENT
BEGIN:VEVENT
DTSTAMP:20260419T205905Z
DTSTART;TZID=Europe/Berlin:20230205T100000
DTEND;TZID=Europe/Berlin:20230205T113000
SUMMARY:WLLMä1 HSV 1923 Pulsnitz III vs SV Lok Königsbrück  (1019)
UID:9f44a426-318b-4ae3-ae6a-bcca5b4d335a
STATUS:CONFIRMED
LAST-MODIFIED:20230206T193140Z
DESCRIPTION:Westlausitzliga Männer Gruppe 1\nBegegnungs-Nr: 1019\nHeim: HSV 1923 Pulsnitz III\nGast: SV Lok Königsbrück \nHalle: Sportkomplex Pulsnitz (34208)\nAdresse: Hempelstr. 8\, 01896 Pulsnitz\n
LOCATION:Sportkomplex Pulsnitz (34208): Hempelstr. 8\, 01896 Pulsnitz
CATEGORIES:Saison 2022/23
END:VEVENT
BEGIN:VEVENT
DTSTAMP:20260419T205905Z
DTSTART;TZID=Europe/Berlin:20230312T120000
DTEND;TZID=Europe/Berlin:20230312T133000
SUMMARY:Platzierung_1 HSV 1923 Pulsnitz III vs TBSV Neugersdorf III (1)
UID:833b0dac-3eeb-42a6-9735-a4d429a77073
STATUS:CONFIRMED
LAST-MODIFIED:20230313T092917Z
DESCRIPTION:Platz_1\nBegegnungs-Nr: 1\nHeim: HSV 1923 Pulsnitz III\nGast: TBSV Neugersdorf III\nHalle: Sportkomplex Pulsnitz (34208)\nAdresse: Hempelstr. 8\, 01896 Pulsnitz\n
LOCATION:Sportkomplex Pulsnitz (34208): Hempelstr. 8\, 01896 Pulsnitz
CATEGORIES:Saison 2022/23
END:VEVENT
BEGIN:VEVENT
DTSTAMP:20260419T205905Z
DTSTART;TZID=Europe/Berlin:20230305T130000
DTEND;TZID=Europe/Berlin:20230305T143000
SUMMARY:WLLMä1 Radeberger SV III vs HSV 1923 Pulsnitz III (1011)
UID:d3962678-5be7-4410-92ae-053f2b7e95a3
STATUS:CONFIRMED
LAST-MODIFIED:20230306T062942Z
DESCRIPTION:Westlausitzliga Männer Gruppe 1\nBegegnungs-Nr: 1011\nHeim: Radeberger SV III\nGast: HSV 1923 Pulsnitz III\nHalle: 3-Feld-Halle-BSZ Radeberg (34209)\nAdresse: Robert-Blum-Weg 5\, 01454 Radeberg\n
LOCATION:3-Feld-Halle-BSZ Radeberg (34209): Robert-Blum-Weg 5\, 01454 Radeberg
CATEGORIES:Saison 2022/23
END:VEVENT
BEGIN:VEVENT
DTSTAMP:20260419T205905Z
DTSTART;TZID=Europe/Berlin:20221113T100000
DTEND;TZID=Europe/Berlin:20221113T113000
SUMMARY:WLLMä1 TSG Bretnig-Hauswalde vs HSV 1923 Pulsnitz III (1005)
UID:0a340997-3ca4-4ccb-b483-78b703882965
STATUS:CONFIRMED
LAST-MODIFIED:20230120T160310Z
DESCRIPTION:Westlausitzliga Männer Gruppe 1\nBegegnungs-Nr: 1005\nHeim: TSG Bretnig-Hauswalde\nGast: HSV 1923 Pulsnitz III\nHalle: 3-Feld-Halle-GY Großröhrsdorf (34514)\nAdresse: Melanchthonstraße 21\, 01900  Großröhrsdorf\n
LOCATION:3-Feld-Halle-GY Großröhrsdorf (34514): Melanchthonstraße 21\, 01900  Großröhrsdorf
CATEGORIES:Saison 2022/23
END:VEVENT
BEGIN:VEVENT
DTSTAMP:20260419T205905Z
DTSTART;TZID=Europe/Berlin:20221009T150000
DTEND;TZID=Europe/Berlin:20221009T163000
SUMMARY:WLLMä1 SG Oberlichtenau II vs HSV 1923 Pulsnitz III (1003)
UID:fa19749b-8a1e-4023-b346-dba917ccb2c2
STATUS:CONFIRMED
LAST-MODIFIED:20221010T152743Z
DESCRIPTION:Westlausitzliga Männer Gruppe 1\nBegegnungs-Nr: 1003\nHeim: SG Oberlichtenau II\nGast: HSV 1923 Pulsnitz III\nHalle: Sportkomplex Pulsnitz (34208)\nAdresse: Hempelstr. 8\, 01896 Pulsnitz\n
LOCATION:Sportkomplex Pulsnitz (34208): Hempelstr. 8\, 01896 Pulsnitz
CATEGORIES:Saison 2022/23
END:VEVENT
BEGIN:VEVENT
DTSTAMP:20260419T205905Z
DTSTART;TZID=Europe/Berlin:20230326T150000
DTEND;TZID=Europe/Berlin:20230326T163000
SUMMARY:Platzierung_1 TBSV Neugersdorf III vs HSV 1923 Pulsnitz III (2)
UID:2cf44071-6e95-45a2-ba8e-fc42f07dfa01
STATUS:CONFIRMED
LAST-MODIFIED:20230326T165956Z
DESCRIPTION:Platz_1\nBegegnungs-Nr: 2\nHeim: TBSV Neugersdorf III\nGast: HSV 1923 Pulsnitz III\nHalle: FSZ Oberland \"Albert Schweitzer\" (34112)\nAdresse: Friedrich-Ebert-Str.27\, 02730 Ebersbach-Neugersdorf\n
LOCATION:FSZ Oberland \"Albert Schweitzer\" (34112): Friedrich-Ebert-Str.27\, 02730 Ebersbach-Neugersdorf
CATEGORIES:Saison 2022/23
END:VEVENT
BEGIN:VEVENT
DTSTAMP:20260419T205905Z
DTSTART;TZID=Europe/Berlin:20221119T160000
DTEND;TZID=Europe/Berlin:20221119T173000
SUMMARY:WLLMä1 SV Lok Königsbrück  vs HSV 1923 Pulsnitz III (1009)
UID:c39e1369-93a7-4e3f-9cc4-c20268fd8a46
STATUS:CONFIRMED
LAST-MODIFIED:20221121T073907Z
DESCRIPTION:Westlausitzliga Männer Gruppe 1\nBegegnungs-Nr: 1009\nHeim: SV Lok Königsbrück \nGast: HSV 1923 Pulsnitz III\nHalle: 2-Feld-Halle- OS Königsbrück (34513)\nAdresse: An der Schule 3\, 01936 Königsbrück\n
LOCATION:2-Feld-Halle- OS Königsbrück (34513): An der Schule 3\, 01936 Königsbrück
CATEGORIES:Saison 2022/23
END:VEVENT
END:VCALENDAR
