BEGIN:VCALENDAR
PRODID:-//nuDatenautomaten//framework iCal4j //DE
VERSION:2.0
CALSCALE:GREGORIAN
BEGIN:VTIMEZONE
TZID:Europe/Berlin
LAST-MODIFIED:20260306T231828Z
TZURL:https://www.tzurl.org/zoneinfo/Europe/Berlin
X-LIC-LOCATION:Europe/Berlin
X-PROLEPTIC-TZNAME:LMT
BEGIN:STANDARD
TZNAME:CET
TZOFFSETFROM:+005328
TZOFFSETTO:+0100
DTSTART:18930401T000000
END:STANDARD
BEGIN:DAYLIGHT
TZNAME:CEST
TZOFFSETFROM:+0100
TZOFFSETTO:+0200
DTSTART:19160430T230000
RDATE:19400401T020000
RDATE:19430329T020000
RDATE:19460414T020000
RDATE:19470406T030000
RDATE:19480418T020000
RDATE:19490410T020000
RDATE:19800406T020000
END:DAYLIGHT
BEGIN:STANDARD
TZNAME:CET
TZOFFSETFROM:+0200
TZOFFSETTO:+0100
DTSTART:19161001T010000
RDATE:19421102T030000
RDATE:19431004T030000
RDATE:19441002T030000
RDATE:19451118T030000
RDATE:19461007T030000
END:STANDARD
BEGIN:DAYLIGHT
TZNAME:CEST
TZOFFSETFROM:+0100
TZOFFSETTO:+0200
DTSTART:19170416T020000
RRULE:FREQ=YEARLY;UNTIL=19180415T010000Z;BYMONTH=4;BYDAY=3MO
END:DAYLIGHT
BEGIN:STANDARD
TZNAME:CET
TZOFFSETFROM:+0200
TZOFFSETTO:+0100
DTSTART:19170917T030000
RRULE:FREQ=YEARLY;UNTIL=19180916T010000Z;BYMONTH=9;BYDAY=3MO
END:STANDARD
BEGIN:DAYLIGHT
TZNAME:CEST
TZOFFSETFROM:+0100
TZOFFSETTO:+0200
DTSTART:19440403T020000
RRULE:FREQ=YEARLY;UNTIL=19450402T010000Z;BYMONTH=4;BYDAY=1MO
END:DAYLIGHT
BEGIN:DAYLIGHT
TZNAME:CEMT
TZOFFSETFROM:+0200
TZOFFSETTO:+0300
DTSTART:19450524T020000
RDATE:19470511T030000
END:DAYLIGHT
BEGIN:DAYLIGHT
TZNAME:CEST
TZOFFSETFROM:+0300
TZOFFSETTO:+0200
DTSTART:19450924T030000
RDATE:19470629T030000
END:DAYLIGHT
BEGIN:STANDARD
TZNAME:CET
TZOFFSETFROM:+0100
TZOFFSETTO:+0100
DTSTART:19460101T000000
RDATE:19800101T000000
END:STANDARD
BEGIN:STANDARD
TZNAME:CET
TZOFFSETFROM:+0200
TZOFFSETTO:+0100
DTSTART:19471005T030000
RRULE:FREQ=YEARLY;UNTIL=19491002T010000Z;BYMONTH=10;BYDAY=1SU
END:STANDARD
BEGIN:STANDARD
TZNAME:CET
TZOFFSETFROM:+0200
TZOFFSETTO:+0100
DTSTART:19800928T030000
RRULE:FREQ=YEARLY;UNTIL=19950924T010000Z;BYMONTH=9;BYDAY=-1SU
END:STANDARD
BEGIN:DAYLIGHT
TZNAME:CEST
TZOFFSETFROM:+0100
TZOFFSETTO:+0200
DTSTART:19810329T020000
RRULE:FREQ=YEARLY;BYMONTH=3;BYDAY=-1SU
END:DAYLIGHT
BEGIN:STANDARD
TZNAME:CET
TZOFFSETFROM:+0200
TZOFFSETTO:+0100
DTSTART:19961027T030000
RRULE:FREQ=YEARLY;BYMONTH=10;BYDAY=-1SU
END:STANDARD
END:VTIMEZONE
BEGIN:VEVENT
DTSTAMP:20260425T214545Z
DTSTART;TZID=Europe/Berlin:20221112T183000
DTEND;TZID=Europe/Berlin:20221112T200000
SUMMARY:Sachsenliga (SLF) SV Schneeberg vs SC Markranstädt II (11040)
UID:082726e0-459e-42dc-a476-4ded7edf172d
STATUS:CONFIRMED
LAST-MODIFIED:20221209T142435Z
DESCRIPTION:Sachsenliga Frauen\nBegegnungs-Nr: 11040\nHeim: SV Schneeberg\nGast: SC Markranstädt II\nHalle: Silberstrom-Halle Schneeberg (32307)\nAdresse: Keilbergring 20\, 08289 Schneeberg\n
LOCATION:Silberstrom-Halle Schneeberg (32307): Keilbergring 20\, 08289 Schneeberg
CATEGORIES:Saison 2022/23
END:VEVENT
BEGIN:VEVENT
DTSTAMP:20260425T214545Z
DTSTART;TZID=Europe/Berlin:20220917T193000
DTEND;TZID=Europe/Berlin:20220917T210000
SUMMARY:Sachsenliga (SLF) SV Schneeberg vs VfB Bischofswerda (11001)
UID:a05ae914-936d-44c4-85df-b2c383b470b7
STATUS:CONFIRMED
LAST-MODIFIED:20230309T074321Z
DESCRIPTION:Sachsenliga Frauen\nBegegnungs-Nr: 11001\nHeim: SV Schneeberg\nGast: VfB Bischofswerda\nHalle: Silberstrom-Halle Schneeberg (32307)\nAdresse: Keilbergring 20\, 08289 Schneeberg\n
LOCATION:Silberstrom-Halle Schneeberg (32307): Keilbergring 20\, 08289 Schneeberg
CATEGORIES:Saison 2022/23
END:VEVENT
BEGIN:VEVENT
DTSTAMP:20260425T214545Z
DTSTART;TZID=Europe/Berlin:20230429T183000
DTEND;TZID=Europe/Berlin:20230429T200000
SUMMARY:Sachsenliga (SLF) SV Schneeberg vs HV Chemnitz II (11121)
UID:9624921f-91e0-46b1-a92f-6c928a3284fb
STATUS:CONFIRMED
LAST-MODIFIED:20230504T061452Z
DESCRIPTION:Sachsenliga Frauen\nBegegnungs-Nr: 11121\nHeim: SV Schneeberg\nGast: HV Chemnitz II\nHalle: Silberstrom-Halle Schneeberg (32307)\nAdresse: Keilbergring 20\, 08289 Schneeberg\n
LOCATION:Silberstrom-Halle Schneeberg (32307): Keilbergring 20\, 08289 Schneeberg
CATEGORIES:Saison 2022/23
END:VEVENT
BEGIN:VEVENT
DTSTAMP:20260425T214545Z
DTSTART;TZID=Europe/Berlin:20230401T193000
DTEND;TZID=Europe/Berlin:20230401T210000
SUMMARY:Sachsenliga (SLF) SV Schneeberg vs HSG Neudorf/Döbeln (11110)
UID:902944f7-5c8f-48ff-8067-1dbd326cdf76
STATUS:CONFIRMED
LAST-MODIFIED:20230404T190222Z
DESCRIPTION:Sachsenliga Frauen\nBegegnungs-Nr: 11110\nHeim: SV Schneeberg\nGast: HSG Neudorf/Döbeln\nHalle: Silberstrom-Halle Schneeberg (32307)\nAdresse: Keilbergring 20\, 08289 Schneeberg\n
LOCATION:Silberstrom-Halle Schneeberg (32307): Keilbergring 20\, 08289 Schneeberg
CATEGORIES:Saison 2022/23
END:VEVENT
BEGIN:VEVENT
DTSTAMP:20260425T214545Z
DTSTART;TZID=Europe/Berlin:20230204T193000
DTEND;TZID=Europe/Berlin:20230204T210000
SUMMARY:Sachsenliga (SLF) SV Schneeberg vs SC Hoyerswerda  (11088)
UID:8ffa618f-305a-45cc-80b3-2f505d9401d0
STATUS:CONFIRMED
LAST-MODIFIED:20230306T151721Z
DESCRIPTION:Sachsenliga Frauen\nBegegnungs-Nr: 11088\nHeim: SV Schneeberg\nGast: SC Hoyerswerda \nHalle: Silberstrom-Halle Schneeberg (32307)\nAdresse: Keilbergring 20\, 08289 Schneeberg\n
LOCATION:Silberstrom-Halle Schneeberg (32307): Keilbergring 20\, 08289 Schneeberg
CATEGORIES:Saison 2022/23
END:VEVENT
BEGIN:VEVENT
DTSTAMP:20260425T214545Z
DTSTART;TZID=Europe/Berlin:20230121T183000
DTEND;TZID=Europe/Berlin:20230121T200000
SUMMARY:Sachsenliga (SLF) SV Schneeberg vs TuS Leipzig-Mockau (11077)
UID:3509a731-4f42-4d1c-b7c5-5f5ff5d39da6
STATUS:CONFIRMED
LAST-MODIFIED:20230306T151417Z
DESCRIPTION:Sachsenliga Frauen\nBegegnungs-Nr: 11077\nHeim: SV Schneeberg\nGast: TuS Leipzig-Mockau\nHalle: Silberstrom-Halle Schneeberg (32307)\nAdresse: Keilbergring 20\, 08289 Schneeberg\n
LOCATION:Silberstrom-Halle Schneeberg (32307): Keilbergring 20\, 08289 Schneeberg
CATEGORIES:Saison 2022/23
END:VEVENT
BEGIN:VEVENT
DTSTAMP:20260425T214545Z
DTSTART;TZID=Europe/Berlin:20230107T193000
DTEND;TZID=Europe/Berlin:20230107T210000
SUMMARY:Sachsenliga (SLF) SV Schneeberg vs AAC Amazonen (11066)
UID:164960d1-6fba-4c92-b2f4-8710d957f2c1
STATUS:CONFIRMED
LAST-MODIFIED:20230110T095752Z
DESCRIPTION:Sachsenliga Frauen\nBegegnungs-Nr: 11066\nHeim: SV Schneeberg\nGast: AAC Amazonen\nHalle: Silberstrom-Halle Schneeberg (32307)\nAdresse: Keilbergring 20\, 08289 Schneeberg\n
LOCATION:Silberstrom-Halle Schneeberg (32307): Keilbergring 20\, 08289 Schneeberg
CATEGORIES:Saison 2022/23
END:VEVENT
BEGIN:VEVENT
DTSTAMP:20260425T214545Z
DTSTART;TZID=Europe/Berlin:20221203T183000
DTEND;TZID=Europe/Berlin:20221203T200000
SUMMARY:Sachsenliga (SLF) SV Schneeberg vs HSG Rückmarsdorf (11053)
UID:9d0643dd-8fe3-484d-a455-7c88458cad6a
STATUS:CONFIRMED
LAST-MODIFIED:20221209T141348Z
DESCRIPTION:Sachsenliga Frauen\nBegegnungs-Nr: 11053\nHeim: SV Schneeberg\nGast: HSG Rückmarsdorf\nHalle: Silberstrom-Halle Schneeberg (32307)\nAdresse: Keilbergring 20\, 08289 Schneeberg\n
LOCATION:Silberstrom-Halle Schneeberg (32307): Keilbergring 20\, 08289 Schneeberg
CATEGORIES:Saison 2022/23
END:VEVENT
BEGIN:VEVENT
DTSTAMP:20260425T214545Z
DTSTART;TZID=Europe/Berlin:20221015T193000
DTEND;TZID=Europe/Berlin:20221015T210000
SUMMARY:Sachsenliga (SLF) SV Schneeberg vs HSV Marienberg (11027)
UID:1ba3a71e-e8e1-4dce-a77f-ff3f31df6f13
STATUS:CONFIRMED
LAST-MODIFIED:20221209T143018Z
DESCRIPTION:Sachsenliga Frauen\nBegegnungs-Nr: 11027\nHeim: SV Schneeberg\nGast: HSV Marienberg\nHalle: Silberstrom-Halle Schneeberg (32307)\nAdresse: Keilbergring 20\, 08289 Schneeberg\n
LOCATION:Silberstrom-Halle Schneeberg (32307): Keilbergring 20\, 08289 Schneeberg
CATEGORIES:Saison 2022/23
END:VEVENT
BEGIN:VEVENT
DTSTAMP:20260425T214545Z
DTSTART;TZID=Europe/Berlin:20221126T193000
DTEND;TZID=Europe/Berlin:20221126T210000
SUMMARY:Sachsenliga (SLF) SV Schneeberg vs HC Rödertal  II (11014)
UID:02b72eeb-eae9-4148-b81e-682e7868f0d9
STATUS:CONFIRMED
LAST-MODIFIED:20221209T141954Z
DESCRIPTION:Sachsenliga Frauen\nBegegnungs-Nr: 11014\nHeim: SV Schneeberg\nGast: HC Rödertal  II\nHalle: Silberstrom-Halle Schneeberg (32307)\nAdresse: Keilbergring 20\, 08289 Schneeberg\n
LOCATION:Silberstrom-Halle Schneeberg (32307): Keilbergring 20\, 08289 Schneeberg
CATEGORIES:Saison 2022/23
END:VEVENT
BEGIN:VEVENT
DTSTAMP:20260425T214545Z
DTSTART;TZID=Europe/Berlin:20220924T180000
DTEND;TZID=Europe/Berlin:20220924T193000
SUMMARY:Sachsenliga (SLF) TuS Leipzig-Mockau vs SV Schneeberg (11011)
UID:7768ba74-5c78-4ffd-a42b-495798b3b0e2
STATUS:CONFIRMED
LAST-MODIFIED:20220926T132455Z
DESCRIPTION:Sachsenliga Frauen\nBegegnungs-Nr: 11011\nHeim: TuS Leipzig-Mockau\nGast: SV Schneeberg\nHalle: SH Leipzig-Wiederitzsch (31135)\nAdresse: Messeallee 21\, 04158 Leipzig\n
LOCATION:SH Leipzig-Wiederitzsch (31135): Messeallee 21\, 04158 Leipzig
CATEGORIES:Saison 2022/23
END:VEVENT
BEGIN:VEVENT
DTSTAMP:20260425T214545Z
DTSTART;TZID=Europe/Berlin:20230422T170000
DTEND;TZID=Europe/Berlin:20230422T183000
SUMMARY:Sachsenliga (SLF) HSG Rückmarsdorf vs SV Schneeberg (11119)
UID:b9082eb7-20e0-442b-ba18-02c8c5b21992
STATUS:CONFIRMED
LAST-MODIFIED:20230504T060359Z
DESCRIPTION:Sachsenliga Frauen\nBegegnungs-Nr: 11119\nHeim: HSG Rückmarsdorf\nGast: SV Schneeberg\nHalle: SH An der Radrennbahn Leipzig (31128)\nAdresse: Windorfer Straße 63\, 04229 Leipzig\n
LOCATION:SH An der Radrennbahn Leipzig (31128): Windorfer Straße 63\, 04229 Leipzig
CATEGORIES:Saison 2022/23
END:VEVENT
BEGIN:VEVENT
DTSTAMP:20260425T214545Z
DTSTART;TZID=Europe/Berlin:20230325T160000
DTEND;TZID=Europe/Berlin:20230325T173000
SUMMARY:Sachsenliga (SLF) SC Markranstädt II vs SV Schneeberg (11106)
UID:760109de-1c61-41a6-9271-10657faff426
STATUS:CONFIRMED
LAST-MODIFIED:20230328T050911Z
DESCRIPTION:Sachsenliga Frauen\nBegegnungs-Nr: 11106\nHeim: SC Markranstädt II\nGast: SV Schneeberg\nHalle: Sportcenter Markranstädt (31127)\nAdresse: Leipziger Str. 47\, 04420 Markranstädt\n
LOCATION:Sportcenter Markranstädt (31127): Leipziger Str. 47\, 04420 Markranstädt
CATEGORIES:Saison 2022/23
END:VEVENT
BEGIN:VEVENT
DTSTAMP:20260425T214545Z
DTSTART;TZID=Europe/Berlin:20230305T170000
DTEND;TZID=Europe/Berlin:20230305T183000
SUMMARY:Sachsenliga (SLF) HSV Marienberg vs SV Schneeberg (11093)
UID:96b92ed4-70d6-4b00-94cf-454178977bac
STATUS:CONFIRMED
LAST-MODIFIED:20230306T152702Z
DESCRIPTION:Sachsenliga Frauen\nBegegnungs-Nr: 11093\nHeim: HSV Marienberg\nGast: SV Schneeberg\nHalle: SH am Goldkindstein Marienberg (32416)\nAdresse: Dr.-Wilhelm-Külz-Allee 23\, 09496 Marienberg\n
LOCATION:SH am Goldkindstein Marienberg (32416): Dr.-Wilhelm-Külz-Allee 23\, 09496 Marienberg
CATEGORIES:Saison 2022/23
END:VEVENT
BEGIN:VEVENT
DTSTAMP:20260425T214545Z
DTSTART;TZID=Europe/Berlin:20230129T160000
DTEND;TZID=Europe/Berlin:20230129T173000
SUMMARY:Sachsenliga (SLF) HC Rödertal  II vs SV Schneeberg (11080)
UID:39e30ab1-74eb-4340-9d5c-e2bab85d6b23
STATUS:CONFIRMED
LAST-MODIFIED:20230202T132226Z
DESCRIPTION:Sachsenliga Frauen\nBegegnungs-Nr: 11080\nHeim: HC Rödertal  II\nGast: SV Schneeberg\nHalle: 3-Feld-Halle-GY Großröhrsdorf (34514)\nAdresse: Melanchthonstraße 21\, 01900  Großröhrsdorf\n
LOCATION:3-Feld-Halle-GY Großröhrsdorf (34514): Melanchthonstraße 21\, 01900  Großröhrsdorf
CATEGORIES:Saison 2022/23
END:VEVENT
BEGIN:VEVENT
DTSTAMP:20260425T214545Z
DTSTART;TZID=Europe/Berlin:20230114T180000
DTEND;TZID=Europe/Berlin:20230114T193000
SUMMARY:Sachsenliga (SLF) VfB Bischofswerda vs SV Schneeberg (11067)
UID:d82a9787-691c-4406-8c02-1c0a28b00f8e
STATUS:CONFIRMED
LAST-MODIFIED:20230116T122510Z
DESCRIPTION:Sachsenliga Frauen\nBegegnungs-Nr: 11067\nHeim: VfB Bischofswerda\nGast: SV Schneeberg\nHalle: SH Albert-Schweitzer-Gymnasium Kamenz (34204)\nAdresse: Am Flugplatz\, 01917 Kamenz\, Parkplatz - Macherstraße 142\n
LOCATION:SH Albert-Schweitzer-Gymnasium Kamenz (34204): Am Flugplatz\, 01917 Kamenz\, Parkplatz - Macherstraße 142
CATEGORIES:Saison 2022/23
END:VEVENT
BEGIN:VEVENT
DTSTAMP:20260425T214545Z
DTSTART;TZID=Europe/Berlin:20221211T160000
DTEND;TZID=Europe/Berlin:20221211T173000
SUMMARY:Sachsenliga (SLF) HV Chemnitz II vs SV Schneeberg (11055)
UID:e6656394-31c9-4459-93a5-4988f9a9b313
STATUS:CONFIRMED
LAST-MODIFIED:20221211T174518Z
DESCRIPTION:Sachsenliga Frauen\nBegegnungs-Nr: 11055\nHeim: HV Chemnitz II\nGast: SV Schneeberg\nHalle: Sachsenhalle Chemnitz (32101)\nAdresse: Straße Usti nad Labem 275\, 09119 Chemnitz\n
LOCATION:Sachsenhalle Chemnitz (32101): Straße Usti nad Labem 275\, 09119 Chemnitz
CATEGORIES:Saison 2022/23
END:VEVENT
BEGIN:VEVENT
DTSTAMP:20260425T214545Z
DTSTART;TZID=Europe/Berlin:20221105T190000
DTEND;TZID=Europe/Berlin:20221105T203000
SUMMARY:Sachsenliga (SLF) SG Klotzsche vs SV Schneeberg (11033)
UID:de02aa03-26a0-4197-a4f2-ff871205d3c5
STATUS:CONFIRMED
LAST-MODIFIED:20221115T111625Z
DESCRIPTION:Sachsenliga Frauen\nBegegnungs-Nr: 11033\nHeim: SG Klotzsche\nGast: SV Schneeberg\nHalle: SH Gymnasium Klotzsche (33126)\nAdresse: Karl-Marx-Straße 44\, 01109 Dresden\n
LOCATION:SH Gymnasium Klotzsche (33126): Karl-Marx-Straße 44\, 01109 Dresden
CATEGORIES:Saison 2022/23
END:VEVENT
BEGIN:VEVENT
DTSTAMP:20260425T214545Z
DTSTART;TZID=Europe/Berlin:20221217T183000
DTEND;TZID=Europe/Berlin:20221217T200000
SUMMARY:Sachsenliga (SLF) SC Hoyerswerda  vs SV Schneeberg (11022)
UID:11a6ec3a-158b-47ae-bb1d-7ea7e0cc0392
STATUS:CONFIRMED
LAST-MODIFIED:20221218T084337Z
DESCRIPTION:Sachsenliga Frauen\nBegegnungs-Nr: 11022\nHeim: SC Hoyerswerda \nGast: SV Schneeberg\nHalle: VBH Arena Hoyerswerda (34202)\nAdresse: Lieselotte-Herrmann-Str. 11\, 02977 Hoyerswerda\n
LOCATION:VBH Arena Hoyerswerda (34202): Lieselotte-Herrmann-Str. 11\, 02977 Hoyerswerda
CATEGORIES:Saison 2022/23
END:VEVENT
BEGIN:VEVENT
DTSTAMP:20260425T214545Z
DTSTART;TZID=Europe/Berlin:20230506T160000
DTEND;TZID=Europe/Berlin:20230506T173000
SUMMARY:Sachsenliga (SLF) AAC Amazonen vs SV Schneeberg (11132)
UID:03f947a0-990b-4b84-937a-e7052f70750c
STATUS:CONFIRMED
DESCRIPTION:Sachsenliga Frauen\nBegegnungs-Nr: 11132\nHeim: AAC Amazonen\nGast: SV Schneeberg\nHalle: SH Sportoberschule (31132)\nAdresse: Max -Planck-Str. 53-55\, 04105 Leipzig\n
LOCATION:SH Sportoberschule (31132): Max -Planck-Str. 53-55\, 04105 Leipzig
CATEGORIES:Saison 2022/23
END:VEVENT
BEGIN:VEVENT
DTSTAMP:20260425T214545Z
DTSTART;TZID=Europe/Berlin:20221120T150000
DTEND;TZID=Europe/Berlin:20221120T163000
SUMMARY:Sachsenliga (SLF) HSG Neudorf/Döbeln vs SV Schneeberg (11044)
UID:045f279a-5826-4398-8ee7-ad608cb9667a
STATUS:CONFIRMED
LAST-MODIFIED:20221125T083306Z
DESCRIPTION:Sachsenliga Frauen\nBegegnungs-Nr: 11044\nHeim: HSG Neudorf/Döbeln\nGast: SV Schneeberg\nHalle: Stadt-SH Döbeln (31202)\nAdresse: Str. des Friedens 9\, 04720 Döbeln\n
LOCATION:Stadt-SH Döbeln (31202): Str. des Friedens 9\, 04720 Döbeln
CATEGORIES:Saison 2022/23
END:VEVENT
END:VCALENDAR
