BEGIN:VCALENDAR
PRODID:-//nuDatenautomaten//framework iCal4j //DE
VERSION:2.0
CALSCALE:GREGORIAN
BEGIN:VTIMEZONE
TZID:Europe/Berlin
LAST-MODIFIED:20260306T231828Z
TZURL:https://www.tzurl.org/zoneinfo/Europe/Berlin
X-LIC-LOCATION:Europe/Berlin
X-PROLEPTIC-TZNAME:LMT
BEGIN:STANDARD
TZNAME:CET
TZOFFSETFROM:+005328
TZOFFSETTO:+0100
DTSTART:18930401T000000
END:STANDARD
BEGIN:DAYLIGHT
TZNAME:CEST
TZOFFSETFROM:+0100
TZOFFSETTO:+0200
DTSTART:19160430T230000
RDATE:19400401T020000
RDATE:19430329T020000
RDATE:19460414T020000
RDATE:19470406T030000
RDATE:19480418T020000
RDATE:19490410T020000
RDATE:19800406T020000
END:DAYLIGHT
BEGIN:STANDARD
TZNAME:CET
TZOFFSETFROM:+0200
TZOFFSETTO:+0100
DTSTART:19161001T010000
RDATE:19421102T030000
RDATE:19431004T030000
RDATE:19441002T030000
RDATE:19451118T030000
RDATE:19461007T030000
END:STANDARD
BEGIN:DAYLIGHT
TZNAME:CEST
TZOFFSETFROM:+0100
TZOFFSETTO:+0200
DTSTART:19170416T020000
RRULE:FREQ=YEARLY;UNTIL=19180415T010000Z;BYMONTH=4;BYDAY=3MO
END:DAYLIGHT
BEGIN:STANDARD
TZNAME:CET
TZOFFSETFROM:+0200
TZOFFSETTO:+0100
DTSTART:19170917T030000
RRULE:FREQ=YEARLY;UNTIL=19180916T010000Z;BYMONTH=9;BYDAY=3MO
END:STANDARD
BEGIN:DAYLIGHT
TZNAME:CEST
TZOFFSETFROM:+0100
TZOFFSETTO:+0200
DTSTART:19440403T020000
RRULE:FREQ=YEARLY;UNTIL=19450402T010000Z;BYMONTH=4;BYDAY=1MO
END:DAYLIGHT
BEGIN:DAYLIGHT
TZNAME:CEMT
TZOFFSETFROM:+0200
TZOFFSETTO:+0300
DTSTART:19450524T020000
RDATE:19470511T030000
END:DAYLIGHT
BEGIN:DAYLIGHT
TZNAME:CEST
TZOFFSETFROM:+0300
TZOFFSETTO:+0200
DTSTART:19450924T030000
RDATE:19470629T030000
END:DAYLIGHT
BEGIN:STANDARD
TZNAME:CET
TZOFFSETFROM:+0100
TZOFFSETTO:+0100
DTSTART:19460101T000000
RDATE:19800101T000000
END:STANDARD
BEGIN:STANDARD
TZNAME:CET
TZOFFSETFROM:+0200
TZOFFSETTO:+0100
DTSTART:19471005T030000
RRULE:FREQ=YEARLY;UNTIL=19491002T010000Z;BYMONTH=10;BYDAY=1SU
END:STANDARD
BEGIN:STANDARD
TZNAME:CET
TZOFFSETFROM:+0200
TZOFFSETTO:+0100
DTSTART:19800928T030000
RRULE:FREQ=YEARLY;UNTIL=19950924T010000Z;BYMONTH=9;BYDAY=-1SU
END:STANDARD
BEGIN:DAYLIGHT
TZNAME:CEST
TZOFFSETFROM:+0100
TZOFFSETTO:+0200
DTSTART:19810329T020000
RRULE:FREQ=YEARLY;BYMONTH=3;BYDAY=-1SU
END:DAYLIGHT
BEGIN:STANDARD
TZNAME:CET
TZOFFSETFROM:+0200
TZOFFSETTO:+0100
DTSTART:19961027T030000
RRULE:FREQ=YEARLY;BYMONTH=10;BYDAY=-1SU
END:STANDARD
END:VTIMEZONE
BEGIN:VEVENT
DTSTAMP:20260424T121452Z
DTSTART;TZID=Europe/Berlin:20230218T160000
DTEND;TZID=Europe/Berlin:20230218T173000
SUMMARY:BLM SC Riesa II vs HSV Weinböhla II (1151)
UID:6b3f1726-7817-4871-9a8d-165a5258481e
STATUS:CONFIRMED
LAST-MODIFIED:20230227T084924Z
DESCRIPTION:BezLiga SM Männer\nBegegnungs-Nr: 1151\nHeim: SC Riesa II\nGast: HSV Weinböhla II\nHalle: WM-Sporthalle Riesa (33213)\nAdresse: Am Sportzentrum 1\, 01587 Riesa\n
LOCATION:WM-Sporthalle Riesa (33213): Am Sportzentrum 1\, 01587 Riesa
CATEGORIES:Saison 2022/23
END:VEVENT
BEGIN:VEVENT
DTSTAMP:20260424T121452Z
DTSTART;TZID=Europe/Berlin:20221105T190000
DTEND;TZID=Europe/Berlin:20221105T203000
SUMMARY:BLM SC Riesa II vs HC Elbflorenz 2006 III (1034)
UID:d7b1cc7b-3831-47b2-86c8-74db7a919495
STATUS:CONFIRMED
LAST-MODIFIED:20221107T124349Z
DESCRIPTION:BezLiga SM Männer\nBegegnungs-Nr: 1034\nHeim: SC Riesa II\nGast: HC Elbflorenz 2006 III\nHalle: WM-Sporthalle Riesa (33213)\nAdresse: Am Sportzentrum 1\, 01587 Riesa\n
LOCATION:WM-Sporthalle Riesa (33213): Am Sportzentrum 1\, 01587 Riesa
CATEGORIES:Saison 2022/23
END:VEVENT
BEGIN:VEVENT
DTSTAMP:20260424T121452Z
DTSTART;TZID=Europe/Berlin:20230422T190000
DTEND;TZID=Europe/Berlin:20230422T203000
SUMMARY:BLM SC Riesa II vs Kurort Hartha (1115)
UID:95371f76-c28f-4be7-9323-39d46cc0583e
STATUS:CONFIRMED
LAST-MODIFIED:20230423T155118Z
DESCRIPTION:BezLiga SM Männer\nBegegnungs-Nr: 1115\nHeim: SC Riesa II\nGast: Kurort Hartha\nHalle: WM-Sporthalle Riesa (33213)\nAdresse: Am Sportzentrum 1\, 01587 Riesa\n
LOCATION:WM-Sporthalle Riesa (33213): Am Sportzentrum 1\, 01587 Riesa
CATEGORIES:Saison 2022/23
END:VEVENT
BEGIN:VEVENT
DTSTAMP:20260424T121452Z
DTSTART;TZID=Europe/Berlin:20230429T190000
DTEND;TZID=Europe/Berlin:20230429T203000
SUMMARY:BLM SC Riesa II vs Radebeuler HV (1126)
UID:f4ed7f9f-a4f7-4cd1-ba7c-a48057306935
STATUS:CONFIRMED
LAST-MODIFIED:20230504T170828Z
DESCRIPTION:BezLiga SM Männer\nBegegnungs-Nr: 1126\nHeim: SC Riesa II\nGast: Radebeuler HV\nHalle: SH BSZ Technik Riesa (33219)\nAdresse: Paul-Greifzu-Straße 51\, 01591 Riesa\n
LOCATION:SH BSZ Technik Riesa (33219): Paul-Greifzu-Straße 51\, 01591 Riesa
CATEGORIES:Saison 2022/23
END:VEVENT
BEGIN:VEVENT
DTSTAMP:20260424T121452Z
DTSTART;TZID=Europe/Berlin:20230415T190000
DTEND;TZID=Europe/Berlin:20230415T203000
SUMMARY:BLM SC Riesa II vs ESV Dresden II (1104)
UID:4627ef8d-4df7-435f-81f1-d76dbab8bbe9
STATUS:CONFIRMED
LAST-MODIFIED:20230423T154123Z
DESCRIPTION:BezLiga SM Männer\nBegegnungs-Nr: 1104\nHeim: SC Riesa II\nGast: ESV Dresden II\nHalle: WM-Sporthalle Riesa (33213)\nAdresse: Am Sportzentrum 1\, 01587 Riesa\n
LOCATION:WM-Sporthalle Riesa (33213): Am Sportzentrum 1\, 01587 Riesa
CATEGORIES:Saison 2022/23
END:VEVENT
BEGIN:VEVENT
DTSTAMP:20260424T121452Z
DTSTART;TZID=Europe/Berlin:20220924T190000
DTEND;TZID=Europe/Berlin:20220924T203000
SUMMARY:BLM SC Riesa II vs SF 01 Dresden II (1008)
UID:9404217e-d8c1-461b-8cd4-d34dafb9428b
STATUS:CONFIRMED
LAST-MODIFIED:20220925T160133Z
DESCRIPTION:BezLiga SM Männer\nBegegnungs-Nr: 1008\nHeim: SC Riesa II\nGast: SF 01 Dresden II\nHalle: WM-Sporthalle Riesa (33213)\nAdresse: Am Sportzentrum 1\, 01587 Riesa\n
LOCATION:WM-Sporthalle Riesa (33213): Am Sportzentrum 1\, 01587 Riesa
CATEGORIES:Saison 2022/23
END:VEVENT
BEGIN:VEVENT
DTSTAMP:20260424T121452Z
DTSTART;TZID=Europe/Berlin:20221119T190000
DTEND;TZID=Europe/Berlin:20221119T203000
SUMMARY:BLM SC Riesa II vs SV Niederau II (1047)
UID:2eb8bab7-1a2f-48e5-bb33-8a2d1339d0f9
STATUS:CONFIRMED
LAST-MODIFIED:20221123T090033Z
DESCRIPTION:BezLiga SM Männer\nBegegnungs-Nr: 1047\nHeim: SC Riesa II\nGast: SV Niederau II\nHalle: WM-Sporthalle Riesa (33213)\nAdresse: Am Sportzentrum 1\, 01587 Riesa\n
LOCATION:WM-Sporthalle Riesa (33213): Am Sportzentrum 1\, 01587 Riesa
CATEGORIES:Saison 2022/23
END:VEVENT
BEGIN:VEVENT
DTSTAMP:20260424T121452Z
DTSTART;TZID=Europe/Berlin:20221218T163000
DTEND;TZID=Europe/Berlin:20221218T180000
SUMMARY:BLM SC Riesa II vs SG Klotzsche (1061)
UID:a2d7d3f9-5fe2-45d5-a499-c1da078433e7
STATUS:CONFIRMED
LAST-MODIFIED:20230107T204652Z
DESCRIPTION:BezLiga SM Männer\nBegegnungs-Nr: 1061\nHeim: SC Riesa II\nGast: SG Klotzsche\nHalle: WM-Sporthalle Riesa (33213)\nAdresse: Am Sportzentrum 1\, 01587 Riesa\n
LOCATION:WM-Sporthalle Riesa (33213): Am Sportzentrum 1\, 01587 Riesa
CATEGORIES:Saison 2022/23
END:VEVENT
BEGIN:VEVENT
DTSTAMP:20260424T121452Z
DTSTART;TZID=Europe/Berlin:20230114T190000
DTEND;TZID=Europe/Berlin:20230114T203000
SUMMARY:BLM SC Riesa II vs USV TU Dresden (1071)
UID:d8861173-0da4-4e68-8e46-28759fa8b099
STATUS:CONFIRMED
LAST-MODIFIED:20230117T122115Z
DESCRIPTION:BezLiga SM Männer\nBegegnungs-Nr: 1071\nHeim: SC Riesa II\nGast: USV TU Dresden\nHalle: WM-Sporthalle Riesa (33213)\nAdresse: Am Sportzentrum 1\, 01587 Riesa\n
LOCATION:WM-Sporthalle Riesa (33213): Am Sportzentrum 1\, 01587 Riesa
CATEGORIES:Saison 2022/23
END:VEVENT
BEGIN:VEVENT
DTSTAMP:20260424T121452Z
DTSTART;TZID=Europe/Berlin:20230127T200000
DTEND;TZID=Europe/Berlin:20230127T213000
SUMMARY:BLM SC Riesa II vs SSV Lommatzsch (1082)
UID:be2eb3d8-86c7-4915-a501-b4bf81fb3924
STATUS:CONFIRMED
LAST-MODIFIED:20230129T183951Z
DESCRIPTION:BezLiga SM Männer\nBegegnungs-Nr: 1082\nHeim: SC Riesa II\nGast: SSV Lommatzsch\nHalle: WM-Sporthalle Riesa (33213)\nAdresse: Am Sportzentrum 1\, 01587 Riesa\n
LOCATION:WM-Sporthalle Riesa (33213): Am Sportzentrum 1\, 01587 Riesa
CATEGORIES:Saison 2022/23
END:VEVENT
BEGIN:VEVENT
DTSTAMP:20260424T121452Z
DTSTART;TZID=Europe/Berlin:20221008T190000
DTEND;TZID=Europe/Berlin:20221008T203000
SUMMARY:BLM SC Riesa II vs HSV Dresden III (1021)
UID:c2998577-74c0-4490-bd8f-3db2cb967f19
STATUS:CONFIRMED
LAST-MODIFIED:20221018T073104Z
DESCRIPTION:BezLiga SM Männer\nBegegnungs-Nr: 1021\nHeim: SC Riesa II\nGast: HSV Dresden III\nHalle: WM-Sporthalle Riesa (33213)\nAdresse: Am Sportzentrum 1\, 01587 Riesa\n
LOCATION:WM-Sporthalle Riesa (33213): Am Sportzentrum 1\, 01587 Riesa
CATEGORIES:Saison 2022/23
END:VEVENT
BEGIN:VEVENT
DTSTAMP:20260424T121452Z
DTSTART;TZID=Europe/Berlin:20221126T170000
DTEND;TZID=Europe/Berlin:20221126T183000
SUMMARY:BLM SC Riesa II vs TSV 1862 Radeburg (1142)
UID:6d408c68-636f-451a-8b16-2d81934b93c9
STATUS:CONFIRMED
LAST-MODIFIED:20221128T164144Z
DESCRIPTION:BezLiga SM Männer\nBegegnungs-Nr: 1142\nHeim: SC Riesa II\nGast: TSV 1862 Radeburg\nHalle: WM-Sporthalle Riesa (33213)\nAdresse: Am Sportzentrum 1\, 01587 Riesa\n
LOCATION:WM-Sporthalle Riesa (33213): Am Sportzentrum 1\, 01587 Riesa
CATEGORIES:Saison 2022/23
END:VEVENT
BEGIN:VEVENT
DTSTAMP:20260424T121452Z
DTSTART;TZID=Europe/Berlin:20230212T170000
DTEND;TZID=Europe/Berlin:20230212T183000
SUMMARY:BLM Kurort Hartha vs SC Riesa II (1147)
UID:7a01826a-1eaf-4fb4-9608-f74d9bc19fb8
STATUS:CONFIRMED
LAST-MODIFIED:20230213T133027Z
DESCRIPTION:BezLiga SM Männer\nBegegnungs-Nr: 1147\nHeim: Kurort Hartha\nGast: SC Riesa II\nHalle: Saubach-SH Wilsdruff (33208)\nAdresse: Nossener Str. 21b\, 01723 Wilsdruff\n
LOCATION:Saubach-SH Wilsdruff (33208): Nossener Str. 21b\, 01723 Wilsdruff
CATEGORIES:Saison 2022/23
END:VEVENT
BEGIN:VEVENT
DTSTAMP:20260424T121452Z
DTSTART;TZID=Europe/Berlin:20221023T150000
DTEND;TZID=Europe/Berlin:20221023T163000
SUMMARY:BLM SV Niederau II vs SC Riesa II (1136)
UID:3fccf2be-445e-4565-ad76-2067ef52c07d
STATUS:CONFIRMED
LAST-MODIFIED:20221030T205112Z
DESCRIPTION:BezLiga SM Männer\nBegegnungs-Nr: 1136\nHeim: SV Niederau II\nGast: SC Riesa II\nHalle: SH \"Heiliger Grund\" Meißen (33212)\nAdresse: Goethestraße 27\, 01662 Meißen\n
LOCATION:SH \"Heiliger Grund\" Meißen (33212): Goethestraße 27\, 01662 Meißen
CATEGORIES:Saison 2022/23
END:VEVENT
BEGIN:VEVENT
DTSTAMP:20260424T121452Z
DTSTART;TZID=Europe/Berlin:20221112T190000
DTEND;TZID=Europe/Berlin:20221112T203000
SUMMARY:BLM ESV Dresden II vs SC Riesa II (1037)
UID:118e83eb-aa08-4634-8f2b-28d8634045ef
STATUS:CONFIRMED
LAST-MODIFIED:20221114T105654Z
DESCRIPTION:BezLiga SM Männer\nBegegnungs-Nr: 1037\nHeim: ESV Dresden II\nGast: SC Riesa II\nHalle: Lok-SH Dresden (33106)\nAdresse: Emmerich-Ambros-Ufer 74\, 01159 Dresden\n
LOCATION:Lok-SH Dresden (33106): Emmerich-Ambros-Ufer 74\, 01159 Dresden
CATEGORIES:Saison 2022/23
END:VEVENT
BEGIN:VEVENT
DTSTAMP:20260424T121452Z
DTSTART;TZID=Europe/Berlin:20230205T140000
DTEND;TZID=Europe/Berlin:20230205T153000
SUMMARY:BLM HSV Dresden III vs SC Riesa II (1087)
UID:0d2117a2-9b49-4382-af19-59831a1b1011
STATUS:CONFIRMED
LAST-MODIFIED:20230205T143826Z
DESCRIPTION:BezLiga SM Männer\nBegegnungs-Nr: 1087\nHeim: HSV Dresden III\nGast: SC Riesa II\nHalle: SH 121. Oberschule Dresden (33102)\nAdresse: Gamigstraße 28/30\, 01239 Dresden\n
LOCATION:SH 121. Oberschule Dresden (33102): Gamigstraße 28/30\, 01239 Dresden
CATEGORIES:Saison 2022/23
END:VEVENT
BEGIN:VEVENT
DTSTAMP:20260424T121452Z
DTSTART;TZID=Europe/Berlin:20230506T140000
DTEND;TZID=Europe/Berlin:20230506T153000
SUMMARY:BLM SG Klotzsche vs SC Riesa II (1127)
UID:173ee8d8-8043-47dd-985f-6a30794e0498
STATUS:CONFIRMED
LAST-MODIFIED:20220816T170309Z
DESCRIPTION:BezLiga SM Männer\nBegegnungs-Nr: 1127\nHeim: SG Klotzsche\nGast: SC Riesa II\nHalle: SH Gymnasium Klotzsche (33126)\nAdresse: Karl-Marx-Straße 44\, 01109 Dresden\n
LOCATION:SH Gymnasium Klotzsche (33126): Karl-Marx-Straße 44\, 01109 Dresden
CATEGORIES:Saison 2022/23
END:VEVENT
BEGIN:VEVENT
DTSTAMP:20260424T121452Z
DTSTART;TZID=Europe/Berlin:20230311T160000
DTEND;TZID=Europe/Berlin:20230311T173000
SUMMARY:BLM TSV 1862 Radeburg vs SC Riesa II (1100)
UID:16c8ff7f-951c-4e48-8836-e16bf528a575
STATUS:CONFIRMED
LAST-MODIFIED:20230313T063115Z
DESCRIPTION:BezLiga SM Männer\nBegegnungs-Nr: 1100\nHeim: TSV 1862 Radeburg\nGast: SC Riesa II\nHalle: Paul-Tiedemann-SH Radeburg (33214)\nAdresse: Meißner Berg 83c\, 01471 Radeburg\n
LOCATION:Paul-Tiedemann-SH Radeburg (33214): Meißner Berg 83c\, 01471 Radeburg
CATEGORIES:Saison 2022/23
END:VEVENT
BEGIN:VEVENT
DTSTAMP:20260424T121452Z
DTSTART;TZID=Europe/Berlin:20221203T120000
DTEND;TZID=Europe/Berlin:20221203T133000
SUMMARY:BLM HC Elbflorenz 2006 III vs SC Riesa II (1054)
UID:334369c3-3021-47a1-99d3-ad5d05249b78
STATUS:CONFIRMED
LAST-MODIFIED:20220715T141322Z
DESCRIPTION:BezLiga SM Männer\nBegegnungs-Nr: 1054\nHeim: HC Elbflorenz 2006 III\nGast: SC Riesa II\nHalle: BallsportARENA Dresden - 2.Spielfeld (33137)\nAdresse: Weißeritzstraße 4\, 01067 Dresden\n
LOCATION:BallsportARENA Dresden - 2.Spielfeld (33137): Weißeritzstraße 4\, 01067 Dresden
CATEGORIES:Saison 2022/23
END:VEVENT
BEGIN:VEVENT
DTSTAMP:20260424T121452Z
DTSTART;TZID=Europe/Berlin:20230124T200000
DTEND;TZID=Europe/Berlin:20230124T213000
SUMMARY:BLM Radebeuler HV vs SC Riesa II (1060)
UID:de5e6432-18cb-434f-b475-169065b6a83d
STATUS:CONFIRMED
LAST-MODIFIED:20230129T183850Z
DESCRIPTION:BezLiga SM Männer\nBegegnungs-Nr: 1060\nHeim: Radebeuler HV\nGast: SC Riesa II\nHalle: Lößnitz-SH Radebeul (33204)\nAdresse: Steinbachstr. 13\, 01445 Radebeul\n
LOCATION:Lößnitz-SH Radebeul (33204): Steinbachstr. 13\, 01445 Radebeul
CATEGORIES:Saison 2022/23
END:VEVENT
BEGIN:VEVENT
DTSTAMP:20260424T121452Z
DTSTART;TZID=Europe/Berlin:20230122T130000
DTEND;TZID=Europe/Berlin:20230122T143000
SUMMARY:BLM SF 01 Dresden II vs SC Riesa II (1074)
UID:8e6bf02b-5430-4dd0-a1d1-7b08a9b09f31
STATUS:CONFIRMED
LAST-MODIFIED:20230129T183757Z
DESCRIPTION:BezLiga SM Männer\nBegegnungs-Nr: 1074\nHeim: SF 01 Dresden II\nGast: SC Riesa II\nHalle: SH Bertolt-Brecht-Gymnasium Dresden (33129)\nAdresse: Thomaestraße 60\, 01307 Dresden\n
LOCATION:SH Bertolt-Brecht-Gymnasium Dresden (33129): Thomaestraße 60\, 01307 Dresden
CATEGORIES:Saison 2022/23
END:VEVENT
BEGIN:VEVENT
DTSTAMP:20260424T121452Z
DTSTART;TZID=Europe/Berlin:20220918T140000
DTEND;TZID=Europe/Berlin:20220918T153000
SUMMARY:BLM USV TU Dresden vs SC Riesa II (1005)
UID:ba86e871-0fd3-4a58-a529-bdb190588612
STATUS:CONFIRMED
LAST-MODIFIED:20220918T201843Z
DESCRIPTION:BezLiga SM Männer\nBegegnungs-Nr: 1005\nHeim: USV TU Dresden\nGast: SC Riesa II\nHalle: JOYNEXT Arena Dresden (Spielfeld 2) (33112b)\nAdresse: Magdeburger Straße 10\, 01067 Dresden\n
LOCATION:JOYNEXT Arena Dresden (Spielfeld 2) (33112b): Magdeburger Straße 10\, 01067 Dresden
CATEGORIES:Saison 2022/23
END:VEVENT
BEGIN:VEVENT
DTSTAMP:20260424T121452Z
DTSTART;TZID=Europe/Berlin:20221030T150000
DTEND;TZID=Europe/Berlin:20221030T163000
SUMMARY:BLM HSV Weinböhla II vs SC Riesa II (1027)
UID:0f25f3ab-e4dd-4c12-b698-39c4593d6a3a
STATUS:CONFIRMED
LAST-MODIFIED:20221030T205622Z
DESCRIPTION:BezLiga SM Männer\nBegegnungs-Nr: 1027\nHeim: HSV Weinböhla II\nGast: SC Riesa II\nHalle: Nassau-SH Weinböhla (33224)\nAdresse: Meißner Str. 1\, 01689 Weinböhla\n
LOCATION:Nassau-SH Weinböhla (33224): Meißner Str. 1\, 01689 Weinböhla
CATEGORIES:Saison 2022/23
END:VEVENT
BEGIN:VEVENT
DTSTAMP:20260424T121452Z
DTSTART;TZID=Europe/Berlin:20221001T180000
DTEND;TZID=Europe/Berlin:20221001T193000
SUMMARY:BLM SSV Lommatzsch vs SC Riesa II (1015)
UID:73ec11de-1f85-4403-ab6a-0f98a410545e
STATUS:CONFIRMED
LAST-MODIFIED:20221004T121724Z
DESCRIPTION:BezLiga SM Männer\nBegegnungs-Nr: 1015\nHeim: SSV Lommatzsch\nGast: SC Riesa II\nHalle: Lothar-Krauße-SH Lommatzsch (33211)\nAdresse: Domselwitzer Str. 21\, 01623 Lommatzsch\n
LOCATION:Lothar-Krauße-SH Lommatzsch (33211): Domselwitzer Str. 21\, 01623 Lommatzsch
CATEGORIES:Saison 2022/23
END:VEVENT
END:VCALENDAR
