BEGIN:VCALENDAR
PRODID:-//nuDatenautomaten//framework iCal4j //DE
VERSION:2.0
CALSCALE:GREGORIAN
BEGIN:VTIMEZONE
TZID:Europe/Berlin
LAST-MODIFIED:20260306T231828Z
TZURL:https://www.tzurl.org/zoneinfo/Europe/Berlin
X-LIC-LOCATION:Europe/Berlin
X-PROLEPTIC-TZNAME:LMT
BEGIN:STANDARD
TZNAME:CET
TZOFFSETFROM:+005328
TZOFFSETTO:+0100
DTSTART:18930401T000000
END:STANDARD
BEGIN:DAYLIGHT
TZNAME:CEST
TZOFFSETFROM:+0100
TZOFFSETTO:+0200
DTSTART:19160430T230000
RDATE:19400401T020000
RDATE:19430329T020000
RDATE:19460414T020000
RDATE:19470406T030000
RDATE:19480418T020000
RDATE:19490410T020000
RDATE:19800406T020000
END:DAYLIGHT
BEGIN:STANDARD
TZNAME:CET
TZOFFSETFROM:+0200
TZOFFSETTO:+0100
DTSTART:19161001T010000
RDATE:19421102T030000
RDATE:19431004T030000
RDATE:19441002T030000
RDATE:19451118T030000
RDATE:19461007T030000
END:STANDARD
BEGIN:DAYLIGHT
TZNAME:CEST
TZOFFSETFROM:+0100
TZOFFSETTO:+0200
DTSTART:19170416T020000
RRULE:FREQ=YEARLY;UNTIL=19180415T010000Z;BYMONTH=4;BYDAY=3MO
END:DAYLIGHT
BEGIN:STANDARD
TZNAME:CET
TZOFFSETFROM:+0200
TZOFFSETTO:+0100
DTSTART:19170917T030000
RRULE:FREQ=YEARLY;UNTIL=19180916T010000Z;BYMONTH=9;BYDAY=3MO
END:STANDARD
BEGIN:DAYLIGHT
TZNAME:CEST
TZOFFSETFROM:+0100
TZOFFSETTO:+0200
DTSTART:19440403T020000
RRULE:FREQ=YEARLY;UNTIL=19450402T010000Z;BYMONTH=4;BYDAY=1MO
END:DAYLIGHT
BEGIN:DAYLIGHT
TZNAME:CEMT
TZOFFSETFROM:+0200
TZOFFSETTO:+0300
DTSTART:19450524T020000
RDATE:19470511T030000
END:DAYLIGHT
BEGIN:DAYLIGHT
TZNAME:CEST
TZOFFSETFROM:+0300
TZOFFSETTO:+0200
DTSTART:19450924T030000
RDATE:19470629T030000
END:DAYLIGHT
BEGIN:STANDARD
TZNAME:CET
TZOFFSETFROM:+0100
TZOFFSETTO:+0100
DTSTART:19460101T000000
RDATE:19800101T000000
END:STANDARD
BEGIN:STANDARD
TZNAME:CET
TZOFFSETFROM:+0200
TZOFFSETTO:+0100
DTSTART:19471005T030000
RRULE:FREQ=YEARLY;UNTIL=19491002T010000Z;BYMONTH=10;BYDAY=1SU
END:STANDARD
BEGIN:STANDARD
TZNAME:CET
TZOFFSETFROM:+0200
TZOFFSETTO:+0100
DTSTART:19800928T030000
RRULE:FREQ=YEARLY;UNTIL=19950924T010000Z;BYMONTH=9;BYDAY=-1SU
END:STANDARD
BEGIN:DAYLIGHT
TZNAME:CEST
TZOFFSETFROM:+0100
TZOFFSETTO:+0200
DTSTART:19810329T020000
RRULE:FREQ=YEARLY;BYMONTH=3;BYDAY=-1SU
END:DAYLIGHT
BEGIN:STANDARD
TZNAME:CET
TZOFFSETFROM:+0200
TZOFFSETTO:+0100
DTSTART:19961027T030000
RRULE:FREQ=YEARLY;BYMONTH=10;BYDAY=-1SU
END:STANDARD
END:VTIMEZONE
BEGIN:VEVENT
DTSTAMP:20260423T132907Z
DTSTART;TZID=Europe/Berlin:20230211T160000
DTEND;TZID=Europe/Berlin:20230211T173000
SUMMARY:BLM TSV 1862 Radeburg vs SV Niederau II (1145)
UID:37b5db47-8772-4358-8533-25fa2c83ab52
STATUS:CONFIRMED
LAST-MODIFIED:20230213T132900Z
DESCRIPTION:BezLiga SM Männer\nBegegnungs-Nr: 1145\nHeim: TSV 1862 Radeburg\nGast: SV Niederau II\nHalle: Paul-Tiedemann-SH Radeburg (33214)\nAdresse: Meißner Berg 83c\, 01471 Radeburg\n
LOCATION:Paul-Tiedemann-SH Radeburg (33214): Meißner Berg 83c\, 01471 Radeburg
CATEGORIES:Saison 2022/23
END:VEVENT
BEGIN:VEVENT
DTSTAMP:20260423T132907Z
DTSTART;TZID=Europe/Berlin:20230204T170000
DTEND;TZID=Europe/Berlin:20230204T183000
SUMMARY:BLM TSV 1862 Radeburg vs HC Elbflorenz 2006 III (1089)
UID:e28123bd-ec0c-466b-adf7-b3bb1514c606
STATUS:CONFIRMED
LAST-MODIFIED:20230205T143635Z
DESCRIPTION:BezLiga SM Männer\nBegegnungs-Nr: 1089\nHeim: TSV 1862 Radeburg\nGast: HC Elbflorenz 2006 III\nHalle: Paul-Tiedemann-SH Radeburg (33214)\nAdresse: Meißner Berg 83c\, 01471 Radeburg\n
LOCATION:Paul-Tiedemann-SH Radeburg (33214): Meißner Berg 83c\, 01471 Radeburg
CATEGORIES:Saison 2022/23
END:VEVENT
BEGIN:VEVENT
DTSTAMP:20260423T132907Z
DTSTART;TZID=Europe/Berlin:20230401T190000
DTEND;TZID=Europe/Berlin:20230401T203000
SUMMARY:BLM TSV 1862 Radeburg vs USV TU Dresden (1111)
UID:7629640e-f059-40fc-8476-62b1e00c417e
STATUS:CONFIRMED
LAST-MODIFIED:20230404T074828Z
DESCRIPTION:BezLiga SM Männer\nBegegnungs-Nr: 1111\nHeim: TSV 1862 Radeburg\nGast: USV TU Dresden\nHalle: Paul-Tiedemann-SH Radeburg (33214)\nAdresse: Meißner Berg 83c\, 01471 Radeburg\n
LOCATION:Paul-Tiedemann-SH Radeburg (33214): Meißner Berg 83c\, 01471 Radeburg
CATEGORIES:Saison 2022/23
END:VEVENT
BEGIN:VEVENT
DTSTAMP:20260423T132907Z
DTSTART;TZID=Europe/Berlin:20230429T180000
DTEND;TZID=Europe/Berlin:20230429T193000
SUMMARY:BLM TSV 1862 Radeburg vs SSV Lommatzsch (1122)
UID:a3079ee0-9508-4e0d-8534-47ff11dd28a4
STATUS:CONFIRMED
LAST-MODIFIED:20230504T170729Z
DESCRIPTION:BezLiga SM Männer\nBegegnungs-Nr: 1122\nHeim: TSV 1862 Radeburg\nGast: SSV Lommatzsch\nHalle: Paul-Tiedemann-SH Radeburg (33214)\nAdresse: Meißner Berg 83c\, 01471 Radeburg\n
LOCATION:Paul-Tiedemann-SH Radeburg (33214): Meißner Berg 83c\, 01471 Radeburg
CATEGORIES:Saison 2022/23
END:VEVENT
BEGIN:VEVENT
DTSTAMP:20260423T132907Z
DTSTART;TZID=Europe/Berlin:20230311T160000
DTEND;TZID=Europe/Berlin:20230311T173000
SUMMARY:BLM TSV 1862 Radeburg vs SC Riesa II (1100)
UID:16c8ff7f-951c-4e48-8836-e16bf528a575
STATUS:CONFIRMED
LAST-MODIFIED:20230313T063115Z
DESCRIPTION:BezLiga SM Männer\nBegegnungs-Nr: 1100\nHeim: TSV 1862 Radeburg\nGast: SC Riesa II\nHalle: Paul-Tiedemann-SH Radeburg (33214)\nAdresse: Meißner Berg 83c\, 01471 Radeburg\n
LOCATION:Paul-Tiedemann-SH Radeburg (33214): Meißner Berg 83c\, 01471 Radeburg
CATEGORIES:Saison 2022/23
END:VEVENT
BEGIN:VEVENT
DTSTAMP:20260423T132907Z
DTSTART;TZID=Europe/Berlin:20221022T160000
DTEND;TZID=Europe/Berlin:20221022T173000
SUMMARY:BLM TSV 1862 Radeburg vs ESV Dresden II (1135)
UID:c5a69527-7f7b-42a1-9f6b-3177c0490048
STATUS:CONFIRMED
LAST-MODIFIED:20221021T152652Z
DESCRIPTION:BezLiga SM Männer\nBegegnungs-Nr: 1135\nHeim: TSV 1862 Radeburg\nGast: ESV Dresden II\nHalle: Paul-Tiedemann-SH Radeburg (33214)\nAdresse: Meißner Berg 83c\, 01471 Radeburg\n
LOCATION:Paul-Tiedemann-SH Radeburg (33214): Meißner Berg 83c\, 01471 Radeburg
CATEGORIES:Saison 2022/23
END:VEVENT
BEGIN:VEVENT
DTSTAMP:20260423T132907Z
DTSTART;TZID=Europe/Berlin:20221112T180000
DTEND;TZID=Europe/Berlin:20221112T193000
SUMMARY:BLM TSV 1862 Radeburg vs SG Klotzsche (1038)
UID:009054dd-c3bf-4068-9f6f-200664a9300b
STATUS:CONFIRMED
LAST-MODIFIED:20221114T105526Z
DESCRIPTION:BezLiga SM Männer\nBegegnungs-Nr: 1038\nHeim: TSV 1862 Radeburg\nGast: SG Klotzsche\nHalle: Paul-Tiedemann-SH Radeburg (33214)\nAdresse: Meißner Berg 83c\, 01471 Radeburg\n
LOCATION:Paul-Tiedemann-SH Radeburg (33214): Meißner Berg 83c\, 01471 Radeburg
CATEGORIES:Saison 2022/23
END:VEVENT
BEGIN:VEVENT
DTSTAMP:20260423T132907Z
DTSTART;TZID=Europe/Berlin:20221203T180000
DTEND;TZID=Europe/Berlin:20221203T193000
SUMMARY:BLM TSV 1862 Radeburg vs SF 01 Dresden II (1051)
UID:363a116b-d33f-40f7-bbc1-e75063ca4c46
STATUS:CONFIRMED
LAST-MODIFIED:20221203T203340Z
DESCRIPTION:BezLiga SM Männer\nBegegnungs-Nr: 1051\nHeim: TSV 1862 Radeburg\nGast: SF 01 Dresden II\nHalle: Paul-Tiedemann-SH Radeburg (33214)\nAdresse: Meißner Berg 83c\, 01471 Radeburg\n
LOCATION:Paul-Tiedemann-SH Radeburg (33214): Meißner Berg 83c\, 01471 Radeburg
CATEGORIES:Saison 2022/23
END:VEVENT
BEGIN:VEVENT
DTSTAMP:20260423T132907Z
DTSTART;TZID=Europe/Berlin:20230107T180000
DTEND;TZID=Europe/Berlin:20230107T193000
SUMMARY:BLM TSV 1862 Radeburg vs HSV Dresden III (1065)
UID:62191eff-f413-47fb-be60-a44cde7f15de
STATUS:CONFIRMED
LAST-MODIFIED:20230107T205136Z
DESCRIPTION:BezLiga SM Männer\nBegegnungs-Nr: 1065\nHeim: TSV 1862 Radeburg\nGast: HSV Dresden III\nHalle: Paul-Tiedemann-SH Radeburg (33214)\nAdresse: Meißner Berg 83c\, 01471 Radeburg\n
LOCATION:Paul-Tiedemann-SH Radeburg (33214): Meißner Berg 83c\, 01471 Radeburg
CATEGORIES:Saison 2022/23
END:VEVENT
BEGIN:VEVENT
DTSTAMP:20260423T132907Z
DTSTART;TZID=Europe/Berlin:20220924T190000
DTEND;TZID=Europe/Berlin:20220924T203000
SUMMARY:BLM TSV 1862 Radeburg vs Radebeuler HV (1012)
UID:a0ccc479-6089-4131-8178-5f5afea10534
STATUS:CONFIRMED
LAST-MODIFIED:20220925T160259Z
DESCRIPTION:BezLiga SM Männer\nBegegnungs-Nr: 1012\nHeim: TSV 1862 Radeburg\nGast: Radebeuler HV\nHalle: Paul-Tiedemann-SH Radeburg (33214)\nAdresse: Meißner Berg 83c\, 01471 Radeburg\n
LOCATION:Paul-Tiedemann-SH Radeburg (33214): Meißner Berg 83c\, 01471 Radeburg
CATEGORIES:Saison 2022/23
END:VEVENT
BEGIN:VEVENT
DTSTAMP:20260423T132907Z
DTSTART;TZID=Europe/Berlin:20221015T180000
DTEND;TZID=Europe/Berlin:20221015T193000
SUMMARY:BLM TSV 1862 Radeburg vs Kurort Hartha (1026)
UID:6e6f138d-e2a3-4979-8054-c2798bd6fa87
STATUS:CONFIRMED
LAST-MODIFIED:20221018T180602Z
DESCRIPTION:BezLiga SM Männer\nBegegnungs-Nr: 1026\nHeim: TSV 1862 Radeburg\nGast: Kurort Hartha\nHalle: Paul-Tiedemann-SH Radeburg (33214)\nAdresse: Meißner Berg 83c\, 01471 Radeburg\n
LOCATION:Paul-Tiedemann-SH Radeburg (33214): Meißner Berg 83c\, 01471 Radeburg
CATEGORIES:Saison 2022/23
END:VEVENT
BEGIN:VEVENT
DTSTAMP:20260423T132907Z
DTSTART;TZID=Europe/Berlin:20230114T180000
DTEND;TZID=Europe/Berlin:20230114T193000
SUMMARY:BLM TSV 1862 Radeburg vs HSV Weinböhla II (1067)
UID:ef754956-cbb7-415d-bb2e-137a7cf95192
STATUS:CONFIRMED
LAST-MODIFIED:20230117T123620Z
DESCRIPTION:BezLiga SM Männer\nBegegnungs-Nr: 1067\nHeim: TSV 1862 Radeburg\nGast: HSV Weinböhla II\nHalle: Paul-Tiedemann-SH Radeburg (33214)\nAdresse: Meißner Berg 83c\, 01471 Radeburg\n
LOCATION:Paul-Tiedemann-SH Radeburg (33214): Meißner Berg 83c\, 01471 Radeburg
CATEGORIES:Saison 2022/23
END:VEVENT
BEGIN:VEVENT
DTSTAMP:20260423T132907Z
DTSTART;TZID=Europe/Berlin:20230305T170000
DTEND;TZID=Europe/Berlin:20230305T183000
SUMMARY:BLM Kurort Hartha vs TSV 1862 Radeburg (1092)
UID:03a3db1a-ef62-46cf-b1ae-27379f9ce9d6
STATUS:CONFIRMED
LAST-MODIFIED:20230307T080258Z
DESCRIPTION:BezLiga SM Männer\nBegegnungs-Nr: 1092\nHeim: Kurort Hartha\nGast: TSV 1862 Radeburg\nHalle: Saubach-SH Wilsdruff (33208)\nAdresse: Nossener Str. 21b\, 01723 Wilsdruff\n
LOCATION:Saubach-SH Wilsdruff (33208): Nossener Str. 21b\, 01723 Wilsdruff
CATEGORIES:Saison 2022/23
END:VEVENT
BEGIN:VEVENT
DTSTAMP:20260423T132907Z
DTSTART;TZID=Europe/Berlin:20230422T160000
DTEND;TZID=Europe/Berlin:20230422T173000
SUMMARY:BLM SF 01 Dresden II vs TSV 1862 Radeburg (1117)
UID:db3869a2-10bf-4c21-a564-be2f0feefe77
STATUS:CONFIRMED
LAST-MODIFIED:20230423T154825Z
DESCRIPTION:BezLiga SM Männer\nBegegnungs-Nr: 1117\nHeim: SF 01 Dresden II\nGast: TSV 1862 Radeburg\nHalle: SH 117. Grundschule Dresden (33132)\nAdresse: Reichenbachstr. 12\, 01069 Dresden\n
LOCATION:SH 117. Grundschule Dresden (33132): Reichenbachstr. 12\, 01069 Dresden
CATEGORIES:Saison 2022/23
END:VEVENT
BEGIN:VEVENT
DTSTAMP:20260423T132907Z
DTSTART;TZID=Europe/Berlin:20230325T170000
DTEND;TZID=Europe/Berlin:20230325T183000
SUMMARY:BLM SG Klotzsche vs TSV 1862 Radeburg (1105)
UID:48ebc563-7f93-4405-b9fb-2cab567c1b7e
STATUS:CONFIRMED
LAST-MODIFIED:20230327T081118Z
DESCRIPTION:BezLiga SM Männer\nBegegnungs-Nr: 1105\nHeim: SG Klotzsche\nGast: TSV 1862 Radeburg\nHalle: SH Gymnasium Klotzsche (33126)\nAdresse: Karl-Marx-Straße 44\, 01109 Dresden\n
LOCATION:SH Gymnasium Klotzsche (33126): Karl-Marx-Straße 44\, 01109 Dresden
CATEGORIES:Saison 2022/23
END:VEVENT
BEGIN:VEVENT
DTSTAMP:20260423T132907Z
DTSTART;TZID=Europe/Berlin:20230506T140000
DTEND;TZID=Europe/Berlin:20230506T153000
SUMMARY:BLM HSV Dresden III vs TSV 1862 Radeburg (1130)
UID:cc235ce2-0fd1-4e82-aafb-0ca5a9b155ec
STATUS:CONFIRMED
LAST-MODIFIED:20220816T170309Z
DESCRIPTION:BezLiga SM Männer\nBegegnungs-Nr: 1130\nHeim: HSV Dresden III\nGast: TSV 1862 Radeburg\nHalle: SH 121. Oberschule Dresden (33102)\nAdresse: Gamigstraße 28/30\, 01239 Dresden\n
LOCATION:SH 121. Oberschule Dresden (33102): Gamigstraße 28/30\, 01239 Dresden
CATEGORIES:Saison 2022/23
END:VEVENT
BEGIN:VEVENT
DTSTAMP:20260423T132907Z
DTSTART;TZID=Europe/Berlin:20221009T150000
DTEND;TZID=Europe/Berlin:20221009T163000
SUMMARY:BLM SV Niederau II vs TSV 1862 Radeburg (1023)
UID:1293a5d9-34fb-4689-8bfb-92489b235f53
STATUS:CONFIRMED
LAST-MODIFIED:20221010T105312Z
DESCRIPTION:BezLiga SM Männer\nBegegnungs-Nr: 1023\nHeim: SV Niederau II\nGast: TSV 1862 Radeburg\nHalle: SH \"Heiliger Grund\" Meißen (33212)\nAdresse: Goethestraße 27\, 01662 Meißen\n
LOCATION:SH \"Heiliger Grund\" Meißen (33212): Goethestraße 27\, 01662 Meißen
CATEGORIES:Saison 2022/23
END:VEVENT
BEGIN:VEVENT
DTSTAMP:20260423T132907Z
DTSTART;TZID=Europe/Berlin:20221210T180000
DTEND;TZID=Europe/Berlin:20221210T193000
SUMMARY:BLM SSV Lommatzsch vs TSV 1862 Radeburg (1056)
UID:2c32a01f-3923-4340-a75f-bc181e6d9b5e
STATUS:CONFIRMED
LAST-MODIFIED:20221215T221749Z
DESCRIPTION:BezLiga SM Männer\nBegegnungs-Nr: 1056\nHeim: SSV Lommatzsch\nGast: TSV 1862 Radeburg\nHalle: Lothar-Krauße-SH Lommatzsch (33211)\nAdresse: Domselwitzer Str. 21\, 01623 Lommatzsch\n
LOCATION:Lothar-Krauße-SH Lommatzsch (33211): Domselwitzer Str. 21\, 01623 Lommatzsch
CATEGORIES:Saison 2022/23
END:VEVENT
BEGIN:VEVENT
DTSTAMP:20260423T132907Z
DTSTART;TZID=Europe/Berlin:20230121T140000
DTEND;TZID=Europe/Berlin:20230121T153000
SUMMARY:BLM HC Elbflorenz 2006 III vs TSV 1862 Radeburg (1078)
UID:4bac2434-8fcd-452f-b4dd-ac6e451d0ac2
STATUS:CONFIRMED
LAST-MODIFIED:20230122T125116Z
DESCRIPTION:BezLiga SM Männer\nBegegnungs-Nr: 1078\nHeim: HC Elbflorenz 2006 III\nGast: TSV 1862 Radeburg\nHalle: BallsportARENA Dresden - 2.Spielfeld (33137)\nAdresse: Weißeritzstraße 4\, 01067 Dresden\n
LOCATION:BallsportARENA Dresden - 2.Spielfeld (33137): Weißeritzstraße 4\, 01067 Dresden
CATEGORIES:Saison 2022/23
END:VEVENT
BEGIN:VEVENT
DTSTAMP:20260423T132907Z
DTSTART;TZID=Europe/Berlin:20230128T150000
DTEND;TZID=Europe/Berlin:20230128T163000
SUMMARY:BLM ESV Dresden II vs TSV 1862 Radeburg (1079)
UID:ebf6700b-e209-431c-b26d-58f472d5704a
STATUS:CONFIRMED
LAST-MODIFIED:20230129T184129Z
DESCRIPTION:BezLiga SM Männer\nBegegnungs-Nr: 1079\nHeim: ESV Dresden II\nGast: TSV 1862 Radeburg\nHalle: Lok-SH Dresden (33106)\nAdresse: Emmerich-Ambros-Ufer 74\, 01159 Dresden\n
LOCATION:Lok-SH Dresden (33106): Emmerich-Ambros-Ufer 74\, 01159 Dresden
CATEGORIES:Saison 2022/23
END:VEVENT
BEGIN:VEVENT
DTSTAMP:20260423T132907Z
DTSTART;TZID=Europe/Berlin:20220917T150000
DTEND;TZID=Europe/Berlin:20220917T163000
SUMMARY:BLM HSV Weinböhla II vs TSV 1862 Radeburg (1001)
UID:84674f3b-a645-42a5-9d00-1308db926bd1
STATUS:CONFIRMED
LAST-MODIFIED:20220918T184130Z
DESCRIPTION:BezLiga SM Männer\nBegegnungs-Nr: 1001\nHeim: HSV Weinböhla II\nGast: TSV 1862 Radeburg\nHalle: Nassau-SH Weinböhla (33224)\nAdresse: Meißner Str. 1\, 01689 Weinböhla\n
LOCATION:Nassau-SH Weinböhla (33224): Meißner Str. 1\, 01689 Weinböhla
CATEGORIES:Saison 2022/23
END:VEVENT
BEGIN:VEVENT
DTSTAMP:20260423T132907Z
DTSTART;TZID=Europe/Berlin:20221126T170000
DTEND;TZID=Europe/Berlin:20221126T183000
SUMMARY:BLM SC Riesa II vs TSV 1862 Radeburg (1142)
UID:6d408c68-636f-451a-8b16-2d81934b93c9
STATUS:CONFIRMED
LAST-MODIFIED:20221128T164144Z
DESCRIPTION:BezLiga SM Männer\nBegegnungs-Nr: 1142\nHeim: SC Riesa II\nGast: TSV 1862 Radeburg\nHalle: WM-Sporthalle Riesa (33213)\nAdresse: Am Sportzentrum 1\, 01587 Riesa\n
LOCATION:WM-Sporthalle Riesa (33213): Am Sportzentrum 1\, 01587 Riesa
CATEGORIES:Saison 2022/23
END:VEVENT
BEGIN:VEVENT
DTSTAMP:20260423T132907Z
DTSTART;TZID=Europe/Berlin:20230218T180000
DTEND;TZID=Europe/Berlin:20230218T193000
SUMMARY:BLM Radebeuler HV vs TSV 1862 Radeburg (1152)
UID:ee91536a-130b-4f18-a5a5-ab1802d2316a
STATUS:CONFIRMED
LAST-MODIFIED:20230227T094853Z
DESCRIPTION:BezLiga SM Männer\nBegegnungs-Nr: 1152\nHeim: Radebeuler HV\nGast: TSV 1862 Radeburg\nHalle: Lößnitz-SH Radebeul (33204)\nAdresse: Steinbachstr. 13\, 01445 Radebeul\n
LOCATION:Lößnitz-SH Radebeul (33204): Steinbachstr. 13\, 01445 Radebeul
CATEGORIES:Saison 2022/23
END:VEVENT
BEGIN:VEVENT
DTSTAMP:20260423T132907Z
DTSTART;TZID=Europe/Berlin:20221119T140000
DTEND;TZID=Europe/Berlin:20221119T153000
SUMMARY:BLM USV TU Dresden vs TSV 1862 Radeburg (1045)
UID:92f25e04-6e90-478f-9c3a-bb54a3946341
STATUS:CONFIRMED
LAST-MODIFIED:20221123T085028Z
DESCRIPTION:BezLiga SM Männer\nBegegnungs-Nr: 1045\nHeim: USV TU Dresden\nGast: TSV 1862 Radeburg\nHalle: JOYNEXT Arena Dresden (Spielfeld 2) (33112b)\nAdresse: Magdeburger Straße 10\, 01067 Dresden\n
LOCATION:JOYNEXT Arena Dresden (Spielfeld 2) (33112b): Magdeburger Straße 10\, 01067 Dresden
CATEGORIES:Saison 2022/23
END:VEVENT
END:VCALENDAR
