BEGIN:VCALENDAR
PRODID:-//nuDatenautomaten//framework iCal4j //DE
VERSION:2.0
CALSCALE:GREGORIAN
BEGIN:VTIMEZONE
TZID:Europe/Berlin
LAST-MODIFIED:20260306T231828Z
TZURL:https://www.tzurl.org/zoneinfo/Europe/Berlin
X-LIC-LOCATION:Europe/Berlin
X-PROLEPTIC-TZNAME:LMT
BEGIN:STANDARD
TZNAME:CET
TZOFFSETFROM:+005328
TZOFFSETTO:+0100
DTSTART:18930401T000000
END:STANDARD
BEGIN:DAYLIGHT
TZNAME:CEST
TZOFFSETFROM:+0100
TZOFFSETTO:+0200
DTSTART:19160430T230000
RDATE:19400401T020000
RDATE:19430329T020000
RDATE:19460414T020000
RDATE:19470406T030000
RDATE:19480418T020000
RDATE:19490410T020000
RDATE:19800406T020000
END:DAYLIGHT
BEGIN:STANDARD
TZNAME:CET
TZOFFSETFROM:+0200
TZOFFSETTO:+0100
DTSTART:19161001T010000
RDATE:19421102T030000
RDATE:19431004T030000
RDATE:19441002T030000
RDATE:19451118T030000
RDATE:19461007T030000
END:STANDARD
BEGIN:DAYLIGHT
TZNAME:CEST
TZOFFSETFROM:+0100
TZOFFSETTO:+0200
DTSTART:19170416T020000
RRULE:FREQ=YEARLY;UNTIL=19180415T010000Z;BYMONTH=4;BYDAY=3MO
END:DAYLIGHT
BEGIN:STANDARD
TZNAME:CET
TZOFFSETFROM:+0200
TZOFFSETTO:+0100
DTSTART:19170917T030000
RRULE:FREQ=YEARLY;UNTIL=19180916T010000Z;BYMONTH=9;BYDAY=3MO
END:STANDARD
BEGIN:DAYLIGHT
TZNAME:CEST
TZOFFSETFROM:+0100
TZOFFSETTO:+0200
DTSTART:19440403T020000
RRULE:FREQ=YEARLY;UNTIL=19450402T010000Z;BYMONTH=4;BYDAY=1MO
END:DAYLIGHT
BEGIN:DAYLIGHT
TZNAME:CEMT
TZOFFSETFROM:+0200
TZOFFSETTO:+0300
DTSTART:19450524T020000
RDATE:19470511T030000
END:DAYLIGHT
BEGIN:DAYLIGHT
TZNAME:CEST
TZOFFSETFROM:+0300
TZOFFSETTO:+0200
DTSTART:19450924T030000
RDATE:19470629T030000
END:DAYLIGHT
BEGIN:STANDARD
TZNAME:CET
TZOFFSETFROM:+0100
TZOFFSETTO:+0100
DTSTART:19460101T000000
RDATE:19800101T000000
END:STANDARD
BEGIN:STANDARD
TZNAME:CET
TZOFFSETFROM:+0200
TZOFFSETTO:+0100
DTSTART:19471005T030000
RRULE:FREQ=YEARLY;UNTIL=19491002T010000Z;BYMONTH=10;BYDAY=1SU
END:STANDARD
BEGIN:STANDARD
TZNAME:CET
TZOFFSETFROM:+0200
TZOFFSETTO:+0100
DTSTART:19800928T030000
RRULE:FREQ=YEARLY;UNTIL=19950924T010000Z;BYMONTH=9;BYDAY=-1SU
END:STANDARD
BEGIN:DAYLIGHT
TZNAME:CEST
TZOFFSETFROM:+0100
TZOFFSETTO:+0200
DTSTART:19810329T020000
RRULE:FREQ=YEARLY;BYMONTH=3;BYDAY=-1SU
END:DAYLIGHT
BEGIN:STANDARD
TZNAME:CET
TZOFFSETFROM:+0200
TZOFFSETTO:+0100
DTSTART:19961027T030000
RRULE:FREQ=YEARLY;BYMONTH=10;BYDAY=-1SU
END:STANDARD
END:VTIMEZONE
BEGIN:VEVENT
DTSTAMP:20260420T045726Z
DTSTART;TZID=Europe/Berlin:20221002T140000
DTEND;TZID=Europe/Berlin:20221002T153000
SUMMARY:KLF SG Dresdner Bank vs ESV Dresden II (7003)
UID:b3235d1c-2c20-4f2e-8a9f-40fa0787c7fa
STATUS:CONFIRMED
LAST-MODIFIED:20221004T172919Z
DESCRIPTION:KreisLiga Frauen\nBegegnungs-Nr: 7003\nHeim: SG Dresdner Bank\nGast: ESV Dresden II\nHalle: SH Hülße-Gymnasium Dresden (33120)\nAdresse: Hülßestraße 16\, 01237 Dresden\n
LOCATION:SH Hülße-Gymnasium Dresden (33120): Hülßestraße 16\, 01237 Dresden
CATEGORIES:Saison 2022/23
END:VEVENT
BEGIN:VEVENT
DTSTAMP:20260420T045726Z
DTSTART;TZID=Europe/Berlin:20230305T160000
DTEND;TZID=Europe/Berlin:20230305T173000
SUMMARY:KLF SG Dresdner Bank vs SG Weixdorf (7012)
UID:3b1bfd48-a6d2-4e50-9cdf-0c548bb4f6d0
STATUS:CONFIRMED
LAST-MODIFIED:20230305T113723Z
DESCRIPTION:KreisLiga Frauen\nBegegnungs-Nr: 7012\nHeim: SG Dresdner Bank\nGast: SG Weixdorf\nHalle: SH Hülße-Gymnasium Dresden (33120)\nAdresse: Hülßestraße 16\, 01237 Dresden\n
LOCATION:SH Hülße-Gymnasium Dresden (33120): Hülßestraße 16\, 01237 Dresden
CATEGORIES:Saison 2022/23
END:VEVENT
BEGIN:VEVENT
DTSTAMP:20260420T045726Z
DTSTART;TZID=Europe/Berlin:20230312T160000
DTEND;TZID=Europe/Berlin:20230312T173000
SUMMARY:KLF SG Dresdner Bank vs TSV Dresden-Bühlau (7031)
UID:3cb1b720-34b6-4ab0-b288-e447148b60f1
STATUS:CONFIRMED
LAST-MODIFIED:20230312T175558Z
DESCRIPTION:KreisLiga Frauen\nBegegnungs-Nr: 7031\nHeim: SG Dresdner Bank\nGast: TSV Dresden-Bühlau\nHalle: SH Hülße-Gymnasium Dresden (33120)\nAdresse: Hülßestraße 16\, 01237 Dresden\n
LOCATION:SH Hülße-Gymnasium Dresden (33120): Hülßestraße 16\, 01237 Dresden
CATEGORIES:Saison 2022/23
END:VEVENT
BEGIN:VEVENT
DTSTAMP:20260420T045726Z
DTSTART;TZID=Europe/Berlin:20221204T160000
DTEND;TZID=Europe/Berlin:20221204T173000
SUMMARY:KLF SG Dresdner Bank vs SF 01 Dresden III (7016)
UID:33eb432c-de6a-413c-9b0b-ad566908102c
STATUS:CONFIRMED
LAST-MODIFIED:20221204T180310Z
DESCRIPTION:KreisLiga Frauen\nBegegnungs-Nr: 7016\nHeim: SG Dresdner Bank\nGast: SF 01 Dresden III\nHalle: SH Hülße-Gymnasium Dresden (33120)\nAdresse: Hülßestraße 16\, 01237 Dresden\n
LOCATION:SH Hülße-Gymnasium Dresden (33120): Hülßestraße 16\, 01237 Dresden
CATEGORIES:Saison 2022/23
END:VEVENT
BEGIN:VEVENT
DTSTAMP:20260420T045726Z
DTSTART;TZID=Europe/Berlin:20230402T140000
DTEND;TZID=Europe/Berlin:20230402T153000
SUMMARY:KLF SG Dresdner Bank vs SG Ruppendorf (7034)
UID:d23dec10-65db-43d5-a160-d745008f0408
STATUS:CONFIRMED
LAST-MODIFIED:20230402T143633Z
DESCRIPTION:KreisLiga Frauen\nBegegnungs-Nr: 7034\nHeim: SG Dresdner Bank\nGast: SG Ruppendorf\nHalle: SH Hülße-Gymnasium Dresden (33120)\nAdresse: Hülßestraße 16\, 01237 Dresden\n
LOCATION:SH Hülße-Gymnasium Dresden (33120): Hülßestraße 16\, 01237 Dresden
CATEGORIES:Saison 2022/23
END:VEVENT
BEGIN:VEVENT
DTSTAMP:20260420T045726Z
DTSTART;TZID=Europe/Berlin:20230429T000000
DTEND;TZID=Europe/Berlin:20230429T013000
SUMMARY:KLF SG Dresdner Bank vs spielfrei (7038)
UID:57d46a65-f9d6-40ef-b58d-1fed1921df7d
STATUS:CONFIRMED
LAST-MODIFIED:20230303T141158Z
DESCRIPTION:KreisLiga Frauen\nBegegnungs-Nr: 7038\nHeim: SG Dresdner Bank\nGast: spielfrei\nHalle: SH Hülße-Gymnasium Dresden (33120)\nAdresse: Hülßestraße 16\, 01237 Dresden\n
LOCATION:SH Hülße-Gymnasium Dresden (33120): Hülßestraße 16\, 01237 Dresden
CATEGORIES:Saison 2022/23
END:VEVENT
BEGIN:VEVENT
DTSTAMP:20260420T045726Z
DTSTART;TZID=Europe/Berlin:20230122T153000
DTEND;TZID=Europe/Berlin:20230122T170000
SUMMARY:KLF TSV Rotation Dresden vs SG Dresdner Bank (7017)
UID:c4d8d892-3e16-4a8c-b863-459ea702e309
STATUS:CONFIRMED
LAST-MODIFIED:20230303T141158Z
DESCRIPTION:KreisLiga Frauen\nBegegnungs-Nr: 7017\nHeim: TSV Rotation Dresden\nGast: SG Dresdner Bank\nHalle: SH 145. Oberschule Dresden-Pieschen (33140)\nAdresse: Gehestraße 10\, 01127 Dresden\n
LOCATION:SH 145. Oberschule Dresden-Pieschen (33140): Gehestraße 10\, 01127 Dresden
CATEGORIES:Saison 2022/23
END:VEVENT
BEGIN:VEVENT
DTSTAMP:20260420T045726Z
DTSTART;TZID=Europe/Berlin:20230326T100000
DTEND;TZID=Europe/Berlin:20230326T113000
SUMMARY:KLF SG Weixdorf vs SG Dresdner Bank (7033)
UID:9b0094a1-8c5d-483c-a209-e5a971d0b8fd
STATUS:CONFIRMED
LAST-MODIFIED:20230327T170152Z
DESCRIPTION:KreisLiga Frauen\nBegegnungs-Nr: 7033\nHeim: SG Weixdorf\nGast: SG Dresdner Bank\nHalle: Gerhard-Grafe-SH Weixdorf (33116)\nAdresse: Weixdorfer Rathausplatz 2a\, 01108 Dresden\n
LOCATION:Gerhard-Grafe-SH Weixdorf (33116): Weixdorfer Rathausplatz 2a\, 01108 Dresden
CATEGORIES:Saison 2022/23
END:VEVENT
BEGIN:VEVENT
DTSTAMP:20260420T045726Z
DTSTART;TZID=Europe/Berlin:20230128T110000
DTEND;TZID=Europe/Berlin:20230128T123000
SUMMARY:KLF ESV Dresden II vs SG Dresdner Bank (7024)
UID:6b7734ef-e599-4b40-ba49-b2042ddbfc3c
STATUS:CONFIRMED
LAST-MODIFIED:20230128T175307Z
DESCRIPTION:KreisLiga Frauen\nBegegnungs-Nr: 7024\nHeim: ESV Dresden II\nGast: SG Dresdner Bank\nHalle: Lok-SH Dresden (33106)\nAdresse: Emmerich-Ambros-Ufer 74\, 01159 Dresden\n
LOCATION:Lok-SH Dresden (33106): Emmerich-Ambros-Ufer 74\, 01159 Dresden
CATEGORIES:Saison 2022/23
END:VEVENT
BEGIN:VEVENT
DTSTAMP:20260420T045726Z
DTSTART;TZID=Europe/Berlin:20221105T140000
DTEND;TZID=Europe/Berlin:20221105T153000
SUMMARY:KLF TSV Dresden-Bühlau vs SG Dresdner Bank (7010)
UID:f58cc11f-5790-4152-9b68-2682ad29f2a8
STATUS:CONFIRMED
LAST-MODIFIED:20221105T181123Z
DESCRIPTION:KreisLiga Frauen\nBegegnungs-Nr: 7010\nHeim: TSV Dresden-Bühlau\nGast: SG Dresdner Bank\nHalle: SH Gymnasium Dresden-Bühlau (33118)\nAdresse: Quohrener Str. 12\, 01324 Dresden\n
LOCATION:SH Gymnasium Dresden-Bühlau (33118): Quohrener Str. 12\, 01324 Dresden
CATEGORIES:Saison 2022/23
END:VEVENT
BEGIN:VEVENT
DTSTAMP:20260420T045726Z
DTSTART;TZID=Europe/Berlin:20230423T140000
DTEND;TZID=Europe/Berlin:20230423T153000
SUMMARY:KLF SF 01 Dresden III vs SG Dresdner Bank (7037)
UID:22a72eee-bacc-403f-977f-66745e33a7ee
STATUS:CONFIRMED
LAST-MODIFIED:20230423T174300Z
DESCRIPTION:KreisLiga Frauen\nBegegnungs-Nr: 7037\nHeim: SF 01 Dresden III\nGast: SG Dresdner Bank\nHalle: SH Bertolt-Brecht-Gymnasium Dresden (33129)\nAdresse: Thomaestraße 60\, 01307 Dresden\n
LOCATION:SH Bertolt-Brecht-Gymnasium Dresden (33129): Thomaestraße 60\, 01307 Dresden
CATEGORIES:Saison 2022/23
END:VEVENT
END:VCALENDAR
