BEGIN:VCALENDAR
PRODID:-//nuDatenautomaten//framework iCal4j //DE
VERSION:2.0
CALSCALE:GREGORIAN
BEGIN:VTIMEZONE
TZID:Europe/Berlin
LAST-MODIFIED:20260306T231828Z
TZURL:https://www.tzurl.org/zoneinfo/Europe/Berlin
X-LIC-LOCATION:Europe/Berlin
X-PROLEPTIC-TZNAME:LMT
BEGIN:STANDARD
TZNAME:CET
TZOFFSETFROM:+005328
TZOFFSETTO:+0100
DTSTART:18930401T000000
END:STANDARD
BEGIN:DAYLIGHT
TZNAME:CEST
TZOFFSETFROM:+0100
TZOFFSETTO:+0200
DTSTART:19160430T230000
RDATE:19400401T020000
RDATE:19430329T020000
RDATE:19460414T020000
RDATE:19470406T030000
RDATE:19480418T020000
RDATE:19490410T020000
RDATE:19800406T020000
END:DAYLIGHT
BEGIN:STANDARD
TZNAME:CET
TZOFFSETFROM:+0200
TZOFFSETTO:+0100
DTSTART:19161001T010000
RDATE:19421102T030000
RDATE:19431004T030000
RDATE:19441002T030000
RDATE:19451118T030000
RDATE:19461007T030000
END:STANDARD
BEGIN:DAYLIGHT
TZNAME:CEST
TZOFFSETFROM:+0100
TZOFFSETTO:+0200
DTSTART:19170416T020000
RRULE:FREQ=YEARLY;UNTIL=19180415T010000Z;BYMONTH=4;BYDAY=3MO
END:DAYLIGHT
BEGIN:STANDARD
TZNAME:CET
TZOFFSETFROM:+0200
TZOFFSETTO:+0100
DTSTART:19170917T030000
RRULE:FREQ=YEARLY;UNTIL=19180916T010000Z;BYMONTH=9;BYDAY=3MO
END:STANDARD
BEGIN:DAYLIGHT
TZNAME:CEST
TZOFFSETFROM:+0100
TZOFFSETTO:+0200
DTSTART:19440403T020000
RRULE:FREQ=YEARLY;UNTIL=19450402T010000Z;BYMONTH=4;BYDAY=1MO
END:DAYLIGHT
BEGIN:DAYLIGHT
TZNAME:CEMT
TZOFFSETFROM:+0200
TZOFFSETTO:+0300
DTSTART:19450524T020000
RDATE:19470511T030000
END:DAYLIGHT
BEGIN:DAYLIGHT
TZNAME:CEST
TZOFFSETFROM:+0300
TZOFFSETTO:+0200
DTSTART:19450924T030000
RDATE:19470629T030000
END:DAYLIGHT
BEGIN:STANDARD
TZNAME:CET
TZOFFSETFROM:+0100
TZOFFSETTO:+0100
DTSTART:19460101T000000
RDATE:19800101T000000
END:STANDARD
BEGIN:STANDARD
TZNAME:CET
TZOFFSETFROM:+0200
TZOFFSETTO:+0100
DTSTART:19471005T030000
RRULE:FREQ=YEARLY;UNTIL=19491002T010000Z;BYMONTH=10;BYDAY=1SU
END:STANDARD
BEGIN:STANDARD
TZNAME:CET
TZOFFSETFROM:+0200
TZOFFSETTO:+0100
DTSTART:19800928T030000
RRULE:FREQ=YEARLY;UNTIL=19950924T010000Z;BYMONTH=9;BYDAY=-1SU
END:STANDARD
BEGIN:DAYLIGHT
TZNAME:CEST
TZOFFSETFROM:+0100
TZOFFSETTO:+0200
DTSTART:19810329T020000
RRULE:FREQ=YEARLY;BYMONTH=3;BYDAY=-1SU
END:DAYLIGHT
BEGIN:STANDARD
TZNAME:CET
TZOFFSETFROM:+0200
TZOFFSETTO:+0100
DTSTART:19961027T030000
RRULE:FREQ=YEARLY;BYMONTH=10;BYDAY=-1SU
END:STANDARD
END:VTIMEZONE
BEGIN:VEVENT
DTSTAMP:20260424T082432Z
DTSTART;TZID=Europe/Berlin:20221126T140000
DTEND;TZID=Europe/Berlin:20221126T153000
SUMMARY:BLM SG Klotzsche vs SSV Lommatzsch (1155)
UID:be58e14c-77ce-4b65-9ee9-8a712efda356
STATUS:CONFIRMED
LAST-MODIFIED:20221128T163948Z
DESCRIPTION:BezLiga SM Männer\nBegegnungs-Nr: 1155\nHeim: SG Klotzsche\nGast: SSV Lommatzsch\nHalle: SH Gymnasium Klotzsche (33126)\nAdresse: Karl-Marx-Straße 44\, 01109 Dresden\n
LOCATION:SH Gymnasium Klotzsche (33126): Karl-Marx-Straße 44\, 01109 Dresden
CATEGORIES:Saison 2022/23
END:VEVENT
BEGIN:VEVENT
DTSTAMP:20260424T082432Z
DTSTART;TZID=Europe/Berlin:20221105T170000
DTEND;TZID=Europe/Berlin:20221105T183000
SUMMARY:BLM SG Klotzsche vs HSV Weinböhla II (1033)
UID:c5cf0066-8421-456d-9488-62c3bba69c75
STATUS:CONFIRMED
LAST-MODIFIED:20221107T123807Z
DESCRIPTION:BezLiga SM Männer\nBegegnungs-Nr: 1033\nHeim: SG Klotzsche\nGast: HSV Weinböhla II\nHalle: SH Gymnasium Klotzsche (33126)\nAdresse: Karl-Marx-Straße 44\, 01109 Dresden\n
LOCATION:SH Gymnasium Klotzsche (33126): Karl-Marx-Straße 44\, 01109 Dresden
CATEGORIES:Saison 2022/23
END:VEVENT
BEGIN:VEVENT
DTSTAMP:20260424T082432Z
DTSTART;TZID=Europe/Berlin:20230128T170000
DTEND;TZID=Europe/Berlin:20230128T183000
SUMMARY:BLM SG Klotzsche vs SF 01 Dresden II (1083)
UID:1ca3b912-adbd-4b28-b1b8-35ba03277491
STATUS:CONFIRMED
LAST-MODIFIED:20230129T184226Z
DESCRIPTION:BezLiga SM Männer\nBegegnungs-Nr: 1083\nHeim: SG Klotzsche\nGast: SF 01 Dresden II\nHalle: SH Gymnasium Klotzsche (33126)\nAdresse: Karl-Marx-Straße 44\, 01109 Dresden\n
LOCATION:SH Gymnasium Klotzsche (33126): Karl-Marx-Straße 44\, 01109 Dresden
CATEGORIES:Saison 2022/23
END:VEVENT
BEGIN:VEVENT
DTSTAMP:20260424T082432Z
DTSTART;TZID=Europe/Berlin:20230304T190000
DTEND;TZID=Europe/Berlin:20230304T203000
SUMMARY:BLM SG Klotzsche vs HSV Dresden III (1093)
UID:a8a7104e-97cc-48ca-b6e1-a8fe5654e912
STATUS:CONFIRMED
LAST-MODIFIED:20230307T075522Z
DESCRIPTION:BezLiga SM Männer\nBegegnungs-Nr: 1093\nHeim: SG Klotzsche\nGast: HSV Dresden III\nHalle: SH Gymnasium Klotzsche (33126)\nAdresse: Karl-Marx-Straße 44\, 01109 Dresden\n
LOCATION:SH Gymnasium Klotzsche (33126): Karl-Marx-Straße 44\, 01109 Dresden
CATEGORIES:Saison 2022/23
END:VEVENT
BEGIN:VEVENT
DTSTAMP:20260424T082432Z
DTSTART;TZID=Europe/Berlin:20230506T140000
DTEND;TZID=Europe/Berlin:20230506T153000
SUMMARY:BLM SG Klotzsche vs SC Riesa II (1127)
UID:173ee8d8-8043-47dd-985f-6a30794e0498
STATUS:CONFIRMED
LAST-MODIFIED:20220816T170309Z
DESCRIPTION:BezLiga SM Männer\nBegegnungs-Nr: 1127\nHeim: SG Klotzsche\nGast: SC Riesa II\nHalle: SH Gymnasium Klotzsche (33126)\nAdresse: Karl-Marx-Straße 44\, 01109 Dresden\n
LOCATION:SH Gymnasium Klotzsche (33126): Karl-Marx-Straße 44\, 01109 Dresden
CATEGORIES:Saison 2022/23
END:VEVENT
BEGIN:VEVENT
DTSTAMP:20260424T082432Z
DTSTART;TZID=Europe/Berlin:20230325T170000
DTEND;TZID=Europe/Berlin:20230325T183000
SUMMARY:BLM SG Klotzsche vs TSV 1862 Radeburg (1105)
UID:48ebc563-7f93-4405-b9fb-2cab567c1b7e
STATUS:CONFIRMED
LAST-MODIFIED:20230327T081118Z
DESCRIPTION:BezLiga SM Männer\nBegegnungs-Nr: 1105\nHeim: SG Klotzsche\nGast: TSV 1862 Radeburg\nHalle: SH Gymnasium Klotzsche (33126)\nAdresse: Karl-Marx-Straße 44\, 01109 Dresden\n
LOCATION:SH Gymnasium Klotzsche (33126): Karl-Marx-Straße 44\, 01109 Dresden
CATEGORIES:Saison 2022/23
END:VEVENT
BEGIN:VEVENT
DTSTAMP:20260424T082432Z
DTSTART;TZID=Europe/Berlin:20220924T170000
DTEND;TZID=Europe/Berlin:20220924T183000
SUMMARY:BLM SG Klotzsche vs USV TU Dresden (1007)
UID:cae8c859-f6f4-4999-906f-35ddbf26ea18
STATUS:CONFIRMED
LAST-MODIFIED:20220925T155825Z
DESCRIPTION:BezLiga SM Männer\nBegegnungs-Nr: 1007\nHeim: SG Klotzsche\nGast: USV TU Dresden\nHalle: SH Gymnasium Klotzsche (33126)\nAdresse: Karl-Marx-Straße 44\, 01109 Dresden\n
LOCATION:SH Gymnasium Klotzsche (33126): Karl-Marx-Straße 44\, 01109 Dresden
CATEGORIES:Saison 2022/23
END:VEVENT
BEGIN:VEVENT
DTSTAMP:20260424T082432Z
DTSTART;TZID=Europe/Berlin:20221210T150000
DTEND;TZID=Europe/Berlin:20221210T163000
SUMMARY:BLM SG Klotzsche vs Kurort Hartha (1059)
UID:0c6bb5e3-ece3-4d27-99b8-98823349e833
STATUS:CONFIRMED
LAST-MODIFIED:20221215T221657Z
DESCRIPTION:BezLiga SM Männer\nBegegnungs-Nr: 1059\nHeim: SG Klotzsche\nGast: Kurort Hartha\nHalle: SH Gymnasium Klotzsche (33126)\nAdresse: Karl-Marx-Straße 44\, 01109 Dresden\n
LOCATION:SH Gymnasium Klotzsche (33126): Karl-Marx-Straße 44\, 01109 Dresden
CATEGORIES:Saison 2022/23
END:VEVENT
BEGIN:VEVENT
DTSTAMP:20260424T082432Z
DTSTART;TZID=Europe/Berlin:20230114T190000
DTEND;TZID=Europe/Berlin:20230114T203000
SUMMARY:BLM SG Klotzsche vs Radebeuler HV (1072)
UID:6b15449b-a222-400a-aff4-64df005a879a
STATUS:CONFIRMED
LAST-MODIFIED:20230117T122145Z
DESCRIPTION:BezLiga SM Männer\nBegegnungs-Nr: 1072\nHeim: SG Klotzsche\nGast: Radebeuler HV\nHalle: SH Gymnasium Klotzsche (33126)\nAdresse: Karl-Marx-Straße 44\, 01109 Dresden\n
LOCATION:SH Gymnasium Klotzsche (33126): Karl-Marx-Straße 44\, 01109 Dresden
CATEGORIES:Saison 2022/23
END:VEVENT
BEGIN:VEVENT
DTSTAMP:20260424T082432Z
DTSTART;TZID=Europe/Berlin:20230318T170000
DTEND;TZID=Europe/Berlin:20230318T183000
SUMMARY:BLM SG Klotzsche vs HC Elbflorenz 2006 III (1020)
UID:6909b556-f3c7-4424-a3a3-09c4c23f1677
STATUS:CONFIRMED
LAST-MODIFIED:20230324T075127Z
DESCRIPTION:BezLiga SM Männer\nBegegnungs-Nr: 1020\nHeim: SG Klotzsche\nGast: HC Elbflorenz 2006 III\nHalle: SH Gymnasium Klotzsche (33126)\nAdresse: Karl-Marx-Straße 44\, 01109 Dresden\n
LOCATION:SH Gymnasium Klotzsche (33126): Karl-Marx-Straße 44\, 01109 Dresden
CATEGORIES:Saison 2022/23
END:VEVENT
BEGIN:VEVENT
DTSTAMP:20260424T082432Z
DTSTART;TZID=Europe/Berlin:20230415T170000
DTEND;TZID=Europe/Berlin:20230415T183000
SUMMARY:BLM SG Klotzsche vs SV Niederau II (1153)
UID:164b996a-b161-4d7b-8726-38eb18e9eb3a
STATUS:CONFIRMED
LAST-MODIFIED:20230423T153740Z
DESCRIPTION:BezLiga SM Männer\nBegegnungs-Nr: 1153\nHeim: SG Klotzsche\nGast: SV Niederau II\nHalle: SH Gymnasium Klotzsche (33126)\nAdresse: Karl-Marx-Straße 44\, 01109 Dresden\n
LOCATION:SH Gymnasium Klotzsche (33126): Karl-Marx-Straße 44\, 01109 Dresden
CATEGORIES:Saison 2022/23
END:VEVENT
BEGIN:VEVENT
DTSTAMP:20260424T082432Z
DTSTART;TZID=Europe/Berlin:20221119T190000
DTEND;TZID=Europe/Berlin:20221119T203000
SUMMARY:BLM SG Klotzsche vs ESV Dresden II (1046)
UID:e20c170b-50c7-4d91-8e7f-6dd3c628c210
STATUS:CONFIRMED
LAST-MODIFIED:20221123T085612Z
DESCRIPTION:BezLiga SM Männer\nBegegnungs-Nr: 1046\nHeim: SG Klotzsche\nGast: ESV Dresden II\nHalle: SH Gymnasium Klotzsche (33126)\nAdresse: Karl-Marx-Straße 44\, 01109 Dresden\n
LOCATION:SH Gymnasium Klotzsche (33126): Karl-Marx-Straße 44\, 01109 Dresden
CATEGORIES:Saison 2022/23
END:VEVENT
BEGIN:VEVENT
DTSTAMP:20260424T082432Z
DTSTART;TZID=Europe/Berlin:20221022T120000
DTEND;TZID=Europe/Berlin:20221022T133000
SUMMARY:BLM HC Elbflorenz 2006 III vs SG Klotzsche (1138)
UID:a3e3bb7f-364d-4a79-9ba4-b02aa845ad37
STATUS:CONFIRMED
LAST-MODIFIED:20221023T142616Z
DESCRIPTION:BezLiga SM Männer\nBegegnungs-Nr: 1138\nHeim: HC Elbflorenz 2006 III\nGast: SG Klotzsche\nHalle: JOYNEXT Arena Dresden (Spielfeld 2) (33112b)\nAdresse: Magdeburger Straße 10\, 01067 Dresden\n
LOCATION:JOYNEXT Arena Dresden (Spielfeld 2) (33112b): Magdeburger Straße 10\, 01067 Dresden
CATEGORIES:Saison 2022/23
END:VEVENT
BEGIN:VEVENT
DTSTAMP:20260424T082432Z
DTSTART;TZID=Europe/Berlin:20230204T180000
DTEND;TZID=Europe/Berlin:20230204T193000
SUMMARY:BLM SSV Lommatzsch vs SG Klotzsche (1086)
UID:f0e1c070-0242-4e59-b24e-724238bc6027
STATUS:CONFIRMED
LAST-MODIFIED:20230205T143703Z
DESCRIPTION:BezLiga SM Männer\nBegegnungs-Nr: 1086\nHeim: SSV Lommatzsch\nGast: SG Klotzsche\nHalle: Lothar-Krauße-SH Lommatzsch (33211)\nAdresse: Domselwitzer Str. 21\, 01623 Lommatzsch\n
LOCATION:Lothar-Krauße-SH Lommatzsch (33211): Domselwitzer Str. 21\, 01623 Lommatzsch
CATEGORIES:Saison 2022/23
END:VEVENT
BEGIN:VEVENT
DTSTAMP:20260424T082432Z
DTSTART;TZID=Europe/Berlin:20230401T150000
DTEND;TZID=Europe/Berlin:20230401T163000
SUMMARY:BLM ESV Dresden II vs SG Klotzsche (1112)
UID:f506b30a-731f-4678-870b-1cfddebcc058
STATUS:CONFIRMED
LAST-MODIFIED:20230404T074805Z
DESCRIPTION:BezLiga SM Männer\nBegegnungs-Nr: 1112\nHeim: ESV Dresden II\nGast: SG Klotzsche\nHalle: Lok-SH Dresden (33106)\nAdresse: Emmerich-Ambros-Ufer 74\, 01159 Dresden\n
LOCATION:Lok-SH Dresden (33106): Emmerich-Ambros-Ufer 74\, 01159 Dresden
CATEGORIES:Saison 2022/23
END:VEVENT
BEGIN:VEVENT
DTSTAMP:20260424T082432Z
DTSTART;TZID=Europe/Berlin:20230430T170000
DTEND;TZID=Europe/Berlin:20230430T183000
SUMMARY:BLM Kurort Hartha vs SG Klotzsche (1125)
UID:031f119c-e095-49fb-8f57-d5c2a94fbbb1
STATUS:CONFIRMED
LAST-MODIFIED:20230504T170859Z
DESCRIPTION:BezLiga SM Männer\nBegegnungs-Nr: 1125\nHeim: Kurort Hartha\nGast: SG Klotzsche\nHalle: Saubach-SH Wilsdruff (33208)\nAdresse: Nossener Str. 21b\, 01723 Wilsdruff\n
LOCATION:Saubach-SH Wilsdruff (33208): Nossener Str. 21b\, 01723 Wilsdruff
CATEGORIES:Saison 2022/23
END:VEVENT
BEGIN:VEVENT
DTSTAMP:20260424T082432Z
DTSTART;TZID=Europe/Berlin:20221001T170000
DTEND;TZID=Europe/Berlin:20221001T183000
SUMMARY:BLM SF 01 Dresden II vs SG Klotzsche (1016)
UID:11d55d9f-751f-4f2e-bf11-2554ffc8b016
STATUS:CONFIRMED
LAST-MODIFIED:20221004T121638Z
DESCRIPTION:BezLiga SM Männer\nBegegnungs-Nr: 1016\nHeim: SF 01 Dresden II\nGast: SG Klotzsche\nHalle: SH 117. Grundschule Dresden (33132)\nAdresse: Reichenbachstr. 12\, 01069 Dresden\n
LOCATION:SH 117. Grundschule Dresden (33132): Reichenbachstr. 12\, 01069 Dresden
CATEGORIES:Saison 2022/23
END:VEVENT
BEGIN:VEVENT
DTSTAMP:20260424T082432Z
DTSTART;TZID=Europe/Berlin:20221112T180000
DTEND;TZID=Europe/Berlin:20221112T193000
SUMMARY:BLM TSV 1862 Radeburg vs SG Klotzsche (1038)
UID:009054dd-c3bf-4068-9f6f-200664a9300b
STATUS:CONFIRMED
LAST-MODIFIED:20221114T105526Z
DESCRIPTION:BezLiga SM Männer\nBegegnungs-Nr: 1038\nHeim: TSV 1862 Radeburg\nGast: SG Klotzsche\nHalle: Paul-Tiedemann-SH Radeburg (33214)\nAdresse: Meißner Berg 83c\, 01471 Radeburg\n
LOCATION:Paul-Tiedemann-SH Radeburg (33214): Meißner Berg 83c\, 01471 Radeburg
CATEGORIES:Saison 2022/23
END:VEVENT
BEGIN:VEVENT
DTSTAMP:20260424T082432Z
DTSTART;TZID=Europe/Berlin:20221204T150000
DTEND;TZID=Europe/Berlin:20221204T163000
SUMMARY:BLM SV Niederau II vs SG Klotzsche (1049)
UID:7b4482ee-1a12-459b-8abd-0021cc1b5efc
STATUS:CONFIRMED
LAST-MODIFIED:20221215T221355Z
DESCRIPTION:BezLiga SM Männer\nBegegnungs-Nr: 1049\nHeim: SV Niederau II\nGast: SG Klotzsche\nHalle: SH \"Heiliger Grund\" Meißen (33212)\nAdresse: Goethestraße 27\, 01662 Meißen\n
LOCATION:SH \"Heiliger Grund\" Meißen (33212): Goethestraße 27\, 01662 Meißen
CATEGORIES:Saison 2022/23
END:VEVENT
BEGIN:VEVENT
DTSTAMP:20260424T082432Z
DTSTART;TZID=Europe/Berlin:20221218T163000
DTEND;TZID=Europe/Berlin:20221218T180000
SUMMARY:BLM SC Riesa II vs SG Klotzsche (1061)
UID:a2d7d3f9-5fe2-45d5-a499-c1da078433e7
STATUS:CONFIRMED
LAST-MODIFIED:20230107T204652Z
DESCRIPTION:BezLiga SM Männer\nBegegnungs-Nr: 1061\nHeim: SC Riesa II\nGast: SG Klotzsche\nHalle: WM-Sporthalle Riesa (33213)\nAdresse: Am Sportzentrum 1\, 01587 Riesa\n
LOCATION:WM-Sporthalle Riesa (33213): Am Sportzentrum 1\, 01587 Riesa
CATEGORIES:Saison 2022/23
END:VEVENT
BEGIN:VEVENT
DTSTAMP:20260424T082432Z
DTSTART;TZID=Europe/Berlin:20230121T140000
DTEND;TZID=Europe/Berlin:20230121T153000
SUMMARY:BLM USV TU Dresden vs SG Klotzsche (1073)
UID:1b231955-b529-4e22-9211-29ee0f3ac417
STATUS:CONFIRMED
LAST-MODIFIED:20230122T124953Z
DESCRIPTION:BezLiga SM Männer\nBegegnungs-Nr: 1073\nHeim: USV TU Dresden\nGast: SG Klotzsche\nHalle: JOYNEXT Arena Dresden (Spielfeld 2) (33112b)\nAdresse: Magdeburger Straße 10\, 01067 Dresden\n
LOCATION:JOYNEXT Arena Dresden (Spielfeld 2) (33112b): Magdeburger Straße 10\, 01067 Dresden
CATEGORIES:Saison 2022/23
END:VEVENT
BEGIN:VEVENT
DTSTAMP:20260424T082432Z
DTSTART;TZID=Europe/Berlin:20220917T183000
DTEND;TZID=Europe/Berlin:20220917T200000
SUMMARY:BLM Radebeuler HV vs SG Klotzsche (1006)
UID:9d71339f-d845-427a-b8e2-2feea92af1ba
STATUS:CONFIRMED
LAST-MODIFIED:20220918T183004Z
DESCRIPTION:BezLiga SM Männer\nBegegnungs-Nr: 1006\nHeim: Radebeuler HV\nGast: SG Klotzsche\nHalle: Lößnitz-SH Radebeul (33204)\nAdresse: Steinbachstr. 13\, 01445 Radebeul\n
LOCATION:Lößnitz-SH Radebeul (33204): Steinbachstr. 13\, 01445 Radebeul
CATEGORIES:Saison 2022/23
END:VEVENT
BEGIN:VEVENT
DTSTAMP:20260424T082432Z
DTSTART;TZID=Europe/Berlin:20221015T143000
DTEND;TZID=Europe/Berlin:20221015T160000
SUMMARY:BLM HSV Dresden III vs SG Klotzsche (1028)
UID:aea30fcb-8633-4764-b212-dbe2bf871f23
STATUS:CONFIRMED
LAST-MODIFIED:20221018T180512Z
DESCRIPTION:BezLiga SM Männer\nBegegnungs-Nr: 1028\nHeim: HSV Dresden III\nGast: SG Klotzsche\nHalle: SH 121. Oberschule Dresden (33102)\nAdresse: Gamigstraße 28/30\, 01239 Dresden\n
LOCATION:SH 121. Oberschule Dresden (33102): Gamigstraße 28/30\, 01239 Dresden
CATEGORIES:Saison 2022/23
END:VEVENT
BEGIN:VEVENT
DTSTAMP:20260424T082432Z
DTSTART;TZID=Europe/Berlin:20230311T150000
DTEND;TZID=Europe/Berlin:20230311T163000
SUMMARY:BLM HSV Weinböhla II vs SG Klotzsche (1099)
UID:68f20c7c-23cb-4cfe-b3c6-f4d8337bd523
STATUS:CONFIRMED
LAST-MODIFIED:20230313T062945Z
DESCRIPTION:BezLiga SM Männer\nBegegnungs-Nr: 1099\nHeim: HSV Weinböhla II\nGast: SG Klotzsche\nHalle: Nassau-SH Weinböhla (33224)\nAdresse: Meißner Str. 1\, 01689 Weinböhla\n
LOCATION:Nassau-SH Weinböhla (33224): Meißner Str. 1\, 01689 Weinböhla
CATEGORIES:Saison 2022/23
END:VEVENT
END:VCALENDAR
