BEGIN:VCALENDAR
PRODID:-//nuDatenautomaten//framework iCal4j //DE
VERSION:2.0
CALSCALE:GREGORIAN
BEGIN:VTIMEZONE
TZID:Europe/Berlin
LAST-MODIFIED:20260306T231828Z
TZURL:https://www.tzurl.org/zoneinfo/Europe/Berlin
X-LIC-LOCATION:Europe/Berlin
X-PROLEPTIC-TZNAME:LMT
BEGIN:STANDARD
TZNAME:CET
TZOFFSETFROM:+005328
TZOFFSETTO:+0100
DTSTART:18930401T000000
END:STANDARD
BEGIN:DAYLIGHT
TZNAME:CEST
TZOFFSETFROM:+0100
TZOFFSETTO:+0200
DTSTART:19160430T230000
RDATE:19400401T020000
RDATE:19430329T020000
RDATE:19460414T020000
RDATE:19470406T030000
RDATE:19480418T020000
RDATE:19490410T020000
RDATE:19800406T020000
END:DAYLIGHT
BEGIN:STANDARD
TZNAME:CET
TZOFFSETFROM:+0200
TZOFFSETTO:+0100
DTSTART:19161001T010000
RDATE:19421102T030000
RDATE:19431004T030000
RDATE:19441002T030000
RDATE:19451118T030000
RDATE:19461007T030000
END:STANDARD
BEGIN:DAYLIGHT
TZNAME:CEST
TZOFFSETFROM:+0100
TZOFFSETTO:+0200
DTSTART:19170416T020000
RRULE:FREQ=YEARLY;UNTIL=19180415T010000Z;BYMONTH=4;BYDAY=3MO
END:DAYLIGHT
BEGIN:STANDARD
TZNAME:CET
TZOFFSETFROM:+0200
TZOFFSETTO:+0100
DTSTART:19170917T030000
RRULE:FREQ=YEARLY;UNTIL=19180916T010000Z;BYMONTH=9;BYDAY=3MO
END:STANDARD
BEGIN:DAYLIGHT
TZNAME:CEST
TZOFFSETFROM:+0100
TZOFFSETTO:+0200
DTSTART:19440403T020000
RRULE:FREQ=YEARLY;UNTIL=19450402T010000Z;BYMONTH=4;BYDAY=1MO
END:DAYLIGHT
BEGIN:DAYLIGHT
TZNAME:CEMT
TZOFFSETFROM:+0200
TZOFFSETTO:+0300
DTSTART:19450524T020000
RDATE:19470511T030000
END:DAYLIGHT
BEGIN:DAYLIGHT
TZNAME:CEST
TZOFFSETFROM:+0300
TZOFFSETTO:+0200
DTSTART:19450924T030000
RDATE:19470629T030000
END:DAYLIGHT
BEGIN:STANDARD
TZNAME:CET
TZOFFSETFROM:+0100
TZOFFSETTO:+0100
DTSTART:19460101T000000
RDATE:19800101T000000
END:STANDARD
BEGIN:STANDARD
TZNAME:CET
TZOFFSETFROM:+0200
TZOFFSETTO:+0100
DTSTART:19471005T030000
RRULE:FREQ=YEARLY;UNTIL=19491002T010000Z;BYMONTH=10;BYDAY=1SU
END:STANDARD
BEGIN:STANDARD
TZNAME:CET
TZOFFSETFROM:+0200
TZOFFSETTO:+0100
DTSTART:19800928T030000
RRULE:FREQ=YEARLY;UNTIL=19950924T010000Z;BYMONTH=9;BYDAY=-1SU
END:STANDARD
BEGIN:DAYLIGHT
TZNAME:CEST
TZOFFSETFROM:+0100
TZOFFSETTO:+0200
DTSTART:19810329T020000
RRULE:FREQ=YEARLY;BYMONTH=3;BYDAY=-1SU
END:DAYLIGHT
BEGIN:STANDARD
TZNAME:CET
TZOFFSETFROM:+0200
TZOFFSETTO:+0100
DTSTART:19961027T030000
RRULE:FREQ=YEARLY;BYMONTH=10;BYDAY=-1SU
END:STANDARD
END:VTIMEZONE
BEGIN:VEVENT
DTSTAMP:20260421T185107Z
DTSTART;TZID=Europe/Berlin:20221105T183000
DTEND;TZID=Europe/Berlin:20221105T200000
SUMMARY:Sachsenliga (SLF) SC Hoyerswerda  vs TuS Leipzig-Mockau (11035)
UID:74f95ba3-8ee7-42bd-b59f-5097d1783982
STATUS:CONFIRMED
LAST-MODIFIED:20221115T111545Z
DESCRIPTION:Sachsenliga Frauen\nBegegnungs-Nr: 11035\nHeim: SC Hoyerswerda \nGast: TuS Leipzig-Mockau\nHalle: VBH Arena Hoyerswerda (34202)\nAdresse: Lieselotte-Herrmann-Str. 11\, 02977 Hoyerswerda\n
LOCATION:VBH Arena Hoyerswerda (34202): Lieselotte-Herrmann-Str. 11\, 02977 Hoyerswerda
CATEGORIES:Saison 2022/23
END:VEVENT
BEGIN:VEVENT
DTSTAMP:20260421T185107Z
DTSTART;TZID=Europe/Berlin:20230401T183000
DTEND;TZID=Europe/Berlin:20230401T200000
SUMMARY:Sachsenliga (SLF) SC Hoyerswerda  vs AAC Amazonen (11114)
UID:52aa505d-1f53-489e-bcc5-fa8596f8bb35
STATUS:CONFIRMED
LAST-MODIFIED:20230420T125005Z
DESCRIPTION:Sachsenliga Frauen\nBegegnungs-Nr: 11114\nHeim: SC Hoyerswerda \nGast: AAC Amazonen\nHalle: VBH Arena Hoyerswerda (34202)\nAdresse: Lieselotte-Herrmann-Str. 11\, 02977 Hoyerswerda\n
LOCATION:VBH Arena Hoyerswerda (34202): Lieselotte-Herrmann-Str. 11\, 02977 Hoyerswerda
CATEGORIES:Saison 2022/23
END:VEVENT
BEGIN:VEVENT
DTSTAMP:20260421T185107Z
DTSTART;TZID=Europe/Berlin:20230325T183000
DTEND;TZID=Europe/Berlin:20230325T200000
SUMMARY:Sachsenliga (SLF) SC Hoyerswerda  vs HC Rödertal  II (11103)
UID:da9feb9a-9f24-4439-b144-3396346ea34f
STATUS:CONFIRMED
LAST-MODIFIED:20230328T051206Z
DESCRIPTION:Sachsenliga Frauen\nBegegnungs-Nr: 11103\nHeim: SC Hoyerswerda \nGast: HC Rödertal  II\nHalle: VBH Arena Hoyerswerda (34202)\nAdresse: Lieselotte-Herrmann-Str. 11\, 02977 Hoyerswerda\n
LOCATION:VBH Arena Hoyerswerda (34202): Lieselotte-Herrmann-Str. 11\, 02977 Hoyerswerda
CATEGORIES:Saison 2022/23
END:VEVENT
BEGIN:VEVENT
DTSTAMP:20260421T185107Z
DTSTART;TZID=Europe/Berlin:20230304T183000
DTEND;TZID=Europe/Berlin:20230304T200000
SUMMARY:Sachsenliga (SLF) SC Hoyerswerda  vs VfB Bischofswerda (11092)
UID:d512ecda-8f6a-4887-93ef-28ca968696ca
STATUS:CONFIRMED
LAST-MODIFIED:20230306T152357Z
DESCRIPTION:Sachsenliga Frauen\nBegegnungs-Nr: 11092\nHeim: SC Hoyerswerda \nGast: VfB Bischofswerda\nHalle: VBH Arena Hoyerswerda (34202)\nAdresse: Lieselotte-Herrmann-Str. 11\, 02977 Hoyerswerda\n
LOCATION:VBH Arena Hoyerswerda (34202): Lieselotte-Herrmann-Str. 11\, 02977 Hoyerswerda
CATEGORIES:Saison 2022/23
END:VEVENT
BEGIN:VEVENT
DTSTAMP:20260421T185107Z
DTSTART;TZID=Europe/Berlin:20230128T183000
DTEND;TZID=Europe/Berlin:20230128T200000
SUMMARY:Sachsenliga (SLF) SC Hoyerswerda  vs HV Chemnitz II (11081)
UID:c7336b7e-46eb-409f-83b4-a25bdee8911d
STATUS:CONFIRMED
LAST-MODIFIED:20230202T132538Z
DESCRIPTION:Sachsenliga Frauen\nBegegnungs-Nr: 11081\nHeim: SC Hoyerswerda \nGast: HV Chemnitz II\nHalle: VBH Arena Hoyerswerda (34202)\nAdresse: Lieselotte-Herrmann-Str. 11\, 02977 Hoyerswerda\n
LOCATION:VBH Arena Hoyerswerda (34202): Lieselotte-Herrmann-Str. 11\, 02977 Hoyerswerda
CATEGORIES:Saison 2022/23
END:VEVENT
BEGIN:VEVENT
DTSTAMP:20260421T185107Z
DTSTART;TZID=Europe/Berlin:20230114T183000
DTEND;TZID=Europe/Berlin:20230114T200000
SUMMARY:Sachsenliga (SLF) SC Hoyerswerda  vs HSG Neudorf/Döbeln (11070)
UID:8bc56715-9d45-4d31-8f9e-cedcd8ff1947
STATUS:CONFIRMED
LAST-MODIFIED:20230119T142829Z
DESCRIPTION:Sachsenliga Frauen\nBegegnungs-Nr: 11070\nHeim: SC Hoyerswerda \nGast: HSG Neudorf/Döbeln\nHalle: VBH Arena Hoyerswerda (34202)\nAdresse: Lieselotte-Herrmann-Str. 11\, 02977 Hoyerswerda\n
LOCATION:VBH Arena Hoyerswerda (34202): Lieselotte-Herrmann-Str. 11\, 02977 Hoyerswerda
CATEGORIES:Saison 2022/23
END:VEVENT
BEGIN:VEVENT
DTSTAMP:20260421T185107Z
DTSTART;TZID=Europe/Berlin:20230107T183000
DTEND;TZID=Europe/Berlin:20230107T200000
SUMMARY:Sachsenliga (SLF) SC Hoyerswerda  vs SC Markranstädt II (11062)
UID:89af216a-f718-443d-a428-a6994227e184
STATUS:CONFIRMED
LAST-MODIFIED:20230110T093326Z
DESCRIPTION:Sachsenliga Frauen\nBegegnungs-Nr: 11062\nHeim: SC Hoyerswerda \nGast: SC Markranstädt II\nHalle: VBH Arena Hoyerswerda (34202)\nAdresse: Lieselotte-Herrmann-Str. 11\, 02977 Hoyerswerda\n
LOCATION:VBH Arena Hoyerswerda (34202): Lieselotte-Herrmann-Str. 11\, 02977 Hoyerswerda
CATEGORIES:Saison 2022/23
END:VEVENT
BEGIN:VEVENT
DTSTAMP:20260421T185107Z
DTSTART;TZID=Europe/Berlin:20221203T183000
DTEND;TZID=Europe/Berlin:20221203T200000
SUMMARY:Sachsenliga (SLF) SC Hoyerswerda  vs HSV Marienberg (11049)
UID:b865cdb4-7fe5-4f9c-b9c8-8c3603801a1a
STATUS:CONFIRMED
LAST-MODIFIED:20221206T141443Z
DESCRIPTION:Sachsenliga Frauen\nBegegnungs-Nr: 11049\nHeim: SC Hoyerswerda \nGast: HSV Marienberg\nHalle: VBH Arena Hoyerswerda (34202)\nAdresse: Lieselotte-Herrmann-Str. 11\, 02977 Hoyerswerda\n
LOCATION:VBH Arena Hoyerswerda (34202): Lieselotte-Herrmann-Str. 11\, 02977 Hoyerswerda
CATEGORIES:Saison 2022/23
END:VEVENT
BEGIN:VEVENT
DTSTAMP:20260421T185107Z
DTSTART;TZID=Europe/Berlin:20221217T183000
DTEND;TZID=Europe/Berlin:20221217T200000
SUMMARY:Sachsenliga (SLF) SC Hoyerswerda  vs SV Schneeberg (11022)
UID:11a6ec3a-158b-47ae-bb1d-7ea7e0cc0392
STATUS:CONFIRMED
LAST-MODIFIED:20221218T084337Z
DESCRIPTION:Sachsenliga Frauen\nBegegnungs-Nr: 11022\nHeim: SC Hoyerswerda \nGast: SV Schneeberg\nHalle: VBH Arena Hoyerswerda (34202)\nAdresse: Lieselotte-Herrmann-Str. 11\, 02977 Hoyerswerda\n
LOCATION:VBH Arena Hoyerswerda (34202): Lieselotte-Herrmann-Str. 11\, 02977 Hoyerswerda
CATEGORIES:Saison 2022/23
END:VEVENT
BEGIN:VEVENT
DTSTAMP:20260421T185107Z
DTSTART;TZID=Europe/Berlin:20220924T183000
DTEND;TZID=Europe/Berlin:20220924T200000
SUMMARY:Sachsenliga (SLF) SC Hoyerswerda  vs HSG Rückmarsdorf (11009)
UID:f9d39954-d442-4c67-9a4a-32c3abd4e39b
STATUS:CONFIRMED
LAST-MODIFIED:20220929T055911Z
DESCRIPTION:Sachsenliga Frauen\nBegegnungs-Nr: 11009\nHeim: SC Hoyerswerda \nGast: HSG Rückmarsdorf\nHalle: VBH Arena Hoyerswerda (34202)\nAdresse: Lieselotte-Herrmann-Str. 11\, 02977 Hoyerswerda\n
LOCATION:VBH Arena Hoyerswerda (34202): Lieselotte-Herrmann-Str. 11\, 02977 Hoyerswerda
CATEGORIES:Saison 2022/23
END:VEVENT
BEGIN:VEVENT
DTSTAMP:20260421T185107Z
DTSTART;TZID=Europe/Berlin:20230429T183000
DTEND;TZID=Europe/Berlin:20230429T200000
SUMMARY:Sachsenliga (SLF) SC Hoyerswerda  vs SG Klotzsche (11125)
UID:f1339f58-213f-4cf1-9ab2-f3f0eca06bb4
STATUS:CONFIRMED
LAST-MODIFIED:20230429T190716Z
DESCRIPTION:Sachsenliga Frauen\nBegegnungs-Nr: 11125\nHeim: SC Hoyerswerda \nGast: SG Klotzsche\nHalle: VBH Arena Hoyerswerda (34202)\nAdresse: Lieselotte-Herrmann-Str. 11\, 02977 Hoyerswerda\n
LOCATION:VBH Arena Hoyerswerda (34202): Lieselotte-Herrmann-Str. 11\, 02977 Hoyerswerda
CATEGORIES:Saison 2022/23
END:VEVENT
BEGIN:VEVENT
DTSTAMP:20260421T185107Z
DTSTART;TZID=Europe/Berlin:20221030T160000
DTEND;TZID=Europe/Berlin:20221030T173000
SUMMARY:Sachsenliga (SLF) HC Rödertal  II vs SC Hoyerswerda  (11037)
UID:63987592-23ee-400f-acce-7b4775701b97
STATUS:CONFIRMED
LAST-MODIFIED:20221111T140144Z
DESCRIPTION:Sachsenliga Frauen\nBegegnungs-Nr: 11037\nHeim: HC Rödertal  II\nGast: SC Hoyerswerda \nHalle: 3-Feld-Halle-GY Großröhrsdorf (34514)\nAdresse: Melanchthonstraße 21\, 01900  Großröhrsdorf\n
LOCATION:3-Feld-Halle-GY Großröhrsdorf (34514): Melanchthonstraße 21\, 01900  Großröhrsdorf
CATEGORIES:Saison 2022/23
END:VEVENT
BEGIN:VEVENT
DTSTAMP:20260421T185107Z
DTSTART;TZID=Europe/Berlin:20221002T143000
DTEND;TZID=Europe/Berlin:20221002T160000
SUMMARY:Sachsenliga (SLF) HV Chemnitz II vs SC Hoyerswerda  (11015)
UID:f891aa90-58c7-43c4-b574-18529fd8f47e
STATUS:CONFIRMED
LAST-MODIFIED:20221006T082158Z
DESCRIPTION:Sachsenliga Frauen\nBegegnungs-Nr: 11015\nHeim: HV Chemnitz II\nGast: SC Hoyerswerda \nHalle: Sachsenhalle Chemnitz (32101)\nAdresse: Straße Usti nad Labem 275\, 09119 Chemnitz\n
LOCATION:Sachsenhalle Chemnitz (32101): Straße Usti nad Labem 275\, 09119 Chemnitz
CATEGORIES:Saison 2022/23
END:VEVENT
BEGIN:VEVENT
DTSTAMP:20260421T185107Z
DTSTART;TZID=Europe/Berlin:20221015T170000
DTEND;TZID=Europe/Berlin:20221015T183000
SUMMARY:Sachsenliga (SLF) VfB Bischofswerda vs SC Hoyerswerda  (11026)
UID:1804d714-d3a5-4223-90c0-e2322566ba9e
STATUS:CONFIRMED
LAST-MODIFIED:20221018T191102Z
DESCRIPTION:Sachsenliga Frauen\nBegegnungs-Nr: 11026\nHeim: VfB Bischofswerda\nGast: SC Hoyerswerda \nHalle: SH Albert-Schweitzer-Gymnasium Kamenz (34204)\nAdresse: Am Flugplatz\, 01917 Kamenz\, Parkplatz - Macherstraße 142\n
LOCATION:SH Albert-Schweitzer-Gymnasium Kamenz (34204): Am Flugplatz\, 01917 Kamenz\, Parkplatz - Macherstraße 142
CATEGORIES:Saison 2022/23
END:VEVENT
BEGIN:VEVENT
DTSTAMP:20260421T185107Z
DTSTART;TZID=Europe/Berlin:20230422T170000
DTEND;TZID=Europe/Berlin:20230422T183000
SUMMARY:Sachsenliga (SLF) HSV Marienberg vs SC Hoyerswerda  (11115)
UID:8be8eec6-8389-402e-bb80-a3860790513a
STATUS:CONFIRMED
LAST-MODIFIED:20230429T091430Z
DESCRIPTION:Sachsenliga Frauen\nBegegnungs-Nr: 11115\nHeim: HSV Marienberg\nGast: SC Hoyerswerda \nHalle: SH am Goldkindstein Marienberg (32416)\nAdresse: Dr.-Wilhelm-Külz-Allee 23\, 09496 Marienberg\n
LOCATION:SH am Goldkindstein Marienberg (32416): Dr.-Wilhelm-Külz-Allee 23\, 09496 Marienberg
CATEGORIES:Saison 2022/23
END:VEVENT
BEGIN:VEVENT
DTSTAMP:20260421T185107Z
DTSTART;TZID=Europe/Berlin:20230204T193000
DTEND;TZID=Europe/Berlin:20230204T210000
SUMMARY:Sachsenliga (SLF) SV Schneeberg vs SC Hoyerswerda  (11088)
UID:8ffa618f-305a-45cc-80b3-2f505d9401d0
STATUS:CONFIRMED
LAST-MODIFIED:20230306T151721Z
DESCRIPTION:Sachsenliga Frauen\nBegegnungs-Nr: 11088\nHeim: SV Schneeberg\nGast: SC Hoyerswerda \nHalle: Silberstrom-Halle Schneeberg (32307)\nAdresse: Keilbergring 20\, 08289 Schneeberg\n
LOCATION:Silberstrom-Halle Schneeberg (32307): Keilbergring 20\, 08289 Schneeberg
CATEGORIES:Saison 2022/23
END:VEVENT
BEGIN:VEVENT
DTSTAMP:20260421T185107Z
DTSTART;TZID=Europe/Berlin:20230121T170000
DTEND;TZID=Europe/Berlin:20230121T183000
SUMMARY:Sachsenliga (SLF) HSG Rückmarsdorf vs SC Hoyerswerda  (11075)
UID:8a90ef61-3090-425f-8ae2-e27e590895e1
STATUS:CONFIRMED
LAST-MODIFIED:20230202T131159Z
DESCRIPTION:Sachsenliga Frauen\nBegegnungs-Nr: 11075\nHeim: HSG Rückmarsdorf\nGast: SC Hoyerswerda \nHalle: SH An der Radrennbahn Leipzig (31128)\nAdresse: Windorfer Straße 63\, 04229 Leipzig\n
LOCATION:SH An der Radrennbahn Leipzig (31128): Windorfer Straße 63\, 04229 Leipzig
CATEGORIES:Saison 2022/23
END:VEVENT
BEGIN:VEVENT
DTSTAMP:20260421T185107Z
DTSTART;TZID=Europe/Berlin:20221210T170000
DTEND;TZID=Europe/Berlin:20221210T183000
SUMMARY:Sachsenliga (SLF) SG Klotzsche vs SC Hoyerswerda  (11059)
UID:cd0d995f-6fe8-46a0-86e4-ae343e7bea03
STATUS:CONFIRMED
LAST-MODIFIED:20221211T093256Z
DESCRIPTION:Sachsenliga Frauen\nBegegnungs-Nr: 11059\nHeim: SG Klotzsche\nGast: SC Hoyerswerda \nHalle: SH Gymnasium Klotzsche (33126)\nAdresse: Karl-Marx-Straße 44\, 01109 Dresden\n
LOCATION:SH Gymnasium Klotzsche (33126): Karl-Marx-Straße 44\, 01109 Dresden
CATEGORIES:Saison 2022/23
END:VEVENT
BEGIN:VEVENT
DTSTAMP:20260421T185107Z
DTSTART;TZID=Europe/Berlin:20221119T193000
DTEND;TZID=Europe/Berlin:20221119T210000
SUMMARY:Sachsenliga (SLF) AAC Amazonen vs SC Hoyerswerda  (11048)
UID:fbba5094-baf1-441d-aa9a-ca0f79fb8f47
STATUS:CONFIRMED
LAST-MODIFIED:20221120T145612Z
DESCRIPTION:Sachsenliga Frauen\nBegegnungs-Nr: 11048\nHeim: AAC Amazonen\nGast: SC Hoyerswerda \nHalle: SH Sportoberschule (31132)\nAdresse: Max -Planck-Str. 53-55\, 04105 Leipzig\n
LOCATION:SH Sportoberschule (31132): Max -Planck-Str. 53-55\, 04105 Leipzig
CATEGORIES:Saison 2022/23
END:VEVENT
BEGIN:VEVENT
DTSTAMP:20260421T185107Z
DTSTART;TZID=Europe/Berlin:20221127T170000
DTEND;TZID=Europe/Berlin:20221127T183000
SUMMARY:Sachsenliga (SLF) HSG Neudorf/Döbeln vs SC Hoyerswerda  (11004)
UID:50bceb49-5a7e-4231-8d82-05001a5a23f4
STATUS:CONFIRMED
LAST-MODIFIED:20221206T142813Z
DESCRIPTION:Sachsenliga Frauen\nBegegnungs-Nr: 11004\nHeim: HSG Neudorf/Döbeln\nGast: SC Hoyerswerda \nHalle: Stadt-SH Döbeln (31202)\nAdresse: Str. des Friedens 9\, 04720 Döbeln\n
LOCATION:Stadt-SH Döbeln (31202): Str. des Friedens 9\, 04720 Döbeln
CATEGORIES:Saison 2022/23
END:VEVENT
BEGIN:VEVENT
DTSTAMP:20260421T185107Z
DTSTART;TZID=Europe/Berlin:20230506T160000
DTEND;TZID=Europe/Berlin:20230506T173000
SUMMARY:Sachsenliga (SLF) SC Markranstädt II vs SC Hoyerswerda  (11128)
UID:8801f9e3-4301-47f5-9b73-938ef02660fb
STATUS:CONFIRMED
LAST-MODIFIED:20230507T182139Z
DESCRIPTION:Sachsenliga Frauen\nBegegnungs-Nr: 11128\nHeim: SC Markranstädt II\nGast: SC Hoyerswerda \nHalle: Sportcenter Markranstädt (31127)\nAdresse: Leipziger Str. 47\, 04420 Markranstädt\n
LOCATION:Sportcenter Markranstädt (31127): Leipziger Str. 47\, 04420 Markranstädt
CATEGORIES:Saison 2022/23
END:VEVENT
END:VCALENDAR
