BEGIN:VCALENDAR
PRODID:-//nuDatenautomaten//framework iCal4j //DE
VERSION:2.0
CALSCALE:GREGORIAN
BEGIN:VTIMEZONE
TZID:Europe/Berlin
LAST-MODIFIED:20260306T231828Z
TZURL:https://www.tzurl.org/zoneinfo/Europe/Berlin
X-LIC-LOCATION:Europe/Berlin
X-PROLEPTIC-TZNAME:LMT
BEGIN:STANDARD
TZNAME:CET
TZOFFSETFROM:+005328
TZOFFSETTO:+0100
DTSTART:18930401T000000
END:STANDARD
BEGIN:DAYLIGHT
TZNAME:CEST
TZOFFSETFROM:+0100
TZOFFSETTO:+0200
DTSTART:19160430T230000
RDATE:19400401T020000
RDATE:19430329T020000
RDATE:19460414T020000
RDATE:19470406T030000
RDATE:19480418T020000
RDATE:19490410T020000
RDATE:19800406T020000
END:DAYLIGHT
BEGIN:STANDARD
TZNAME:CET
TZOFFSETFROM:+0200
TZOFFSETTO:+0100
DTSTART:19161001T010000
RDATE:19421102T030000
RDATE:19431004T030000
RDATE:19441002T030000
RDATE:19451118T030000
RDATE:19461007T030000
END:STANDARD
BEGIN:DAYLIGHT
TZNAME:CEST
TZOFFSETFROM:+0100
TZOFFSETTO:+0200
DTSTART:19170416T020000
RRULE:FREQ=YEARLY;UNTIL=19180415T010000Z;BYMONTH=4;BYDAY=3MO
END:DAYLIGHT
BEGIN:STANDARD
TZNAME:CET
TZOFFSETFROM:+0200
TZOFFSETTO:+0100
DTSTART:19170917T030000
RRULE:FREQ=YEARLY;UNTIL=19180916T010000Z;BYMONTH=9;BYDAY=3MO
END:STANDARD
BEGIN:DAYLIGHT
TZNAME:CEST
TZOFFSETFROM:+0100
TZOFFSETTO:+0200
DTSTART:19440403T020000
RRULE:FREQ=YEARLY;UNTIL=19450402T010000Z;BYMONTH=4;BYDAY=1MO
END:DAYLIGHT
BEGIN:DAYLIGHT
TZNAME:CEMT
TZOFFSETFROM:+0200
TZOFFSETTO:+0300
DTSTART:19450524T020000
RDATE:19470511T030000
END:DAYLIGHT
BEGIN:DAYLIGHT
TZNAME:CEST
TZOFFSETFROM:+0300
TZOFFSETTO:+0200
DTSTART:19450924T030000
RDATE:19470629T030000
END:DAYLIGHT
BEGIN:STANDARD
TZNAME:CET
TZOFFSETFROM:+0100
TZOFFSETTO:+0100
DTSTART:19460101T000000
RDATE:19800101T000000
END:STANDARD
BEGIN:STANDARD
TZNAME:CET
TZOFFSETFROM:+0200
TZOFFSETTO:+0100
DTSTART:19471005T030000
RRULE:FREQ=YEARLY;UNTIL=19491002T010000Z;BYMONTH=10;BYDAY=1SU
END:STANDARD
BEGIN:STANDARD
TZNAME:CET
TZOFFSETFROM:+0200
TZOFFSETTO:+0100
DTSTART:19800928T030000
RRULE:FREQ=YEARLY;UNTIL=19950924T010000Z;BYMONTH=9;BYDAY=-1SU
END:STANDARD
BEGIN:DAYLIGHT
TZNAME:CEST
TZOFFSETFROM:+0100
TZOFFSETTO:+0200
DTSTART:19810329T020000
RRULE:FREQ=YEARLY;BYMONTH=3;BYDAY=-1SU
END:DAYLIGHT
BEGIN:STANDARD
TZNAME:CET
TZOFFSETFROM:+0200
TZOFFSETTO:+0100
DTSTART:19961027T030000
RRULE:FREQ=YEARLY;BYMONTH=10;BYDAY=-1SU
END:STANDARD
END:VTIMEZONE
BEGIN:VEVENT
DTSTAMP:20260425T215037Z
DTSTART;TZID=Europe/Berlin:20230507T140000
DTEND;TZID=Europe/Berlin:20230507T153000
SUMMARY:BLM USV TU Dresden vs Kurort Hartha (1128)
UID:72d3795f-cda7-40be-96d5-c409e028fd80
STATUS:CONFIRMED
LAST-MODIFIED:20220816T170309Z
DESCRIPTION:BezLiga SM Männer\nBegegnungs-Nr: 1128\nHeim: USV TU Dresden\nGast: Kurort Hartha\nHalle: JOYNEXT Arena Dresden (Spielfeld 2) (33112b)\nAdresse: Magdeburger Straße 10\, 01067 Dresden\n
LOCATION:JOYNEXT Arena Dresden (Spielfeld 2) (33112b): Magdeburger Straße 10\, 01067 Dresden
CATEGORIES:Saison 2022/23
END:VEVENT
BEGIN:VEVENT
DTSTAMP:20260425T215037Z
DTSTART;TZID=Europe/Berlin:20230211T140000
DTEND;TZID=Europe/Berlin:20230211T153000
SUMMARY:BLM USV TU Dresden vs Radebeuler HV (1148)
UID:d6698ebf-9d3d-4a11-8c8d-349ea51c47f8
STATUS:CONFIRMED
LAST-MODIFIED:20230213T132729Z
DESCRIPTION:BezLiga SM Männer\nBegegnungs-Nr: 1148\nHeim: USV TU Dresden\nGast: Radebeuler HV\nHalle: JOYNEXT Arena Dresden (Spielfeld 2) (33112b)\nAdresse: Magdeburger Straße 10\, 01067 Dresden\n
LOCATION:JOYNEXT Arena Dresden (Spielfeld 2) (33112b): Magdeburger Straße 10\, 01067 Dresden
CATEGORIES:Saison 2022/23
END:VEVENT
BEGIN:VEVENT
DTSTAMP:20260425T215037Z
DTSTART;TZID=Europe/Berlin:20221105T160000
DTEND;TZID=Europe/Berlin:20221105T173000
SUMMARY:BLM USV TU Dresden vs HSV Dresden III (1032)
UID:4a343c70-3ebe-4669-9568-eb00163e2408
STATUS:CONFIRMED
LAST-MODIFIED:20221107T123343Z
DESCRIPTION:BezLiga SM Männer\nBegegnungs-Nr: 1032\nHeim: USV TU Dresden\nGast: HSV Dresden III\nHalle: JOYNEXT Arena Dresden (Spielfeld 2) (33112b)\nAdresse: Magdeburger Straße 10\, 01067 Dresden\n
LOCATION:JOYNEXT Arena Dresden (Spielfeld 2) (33112b): Magdeburger Straße 10\, 01067 Dresden
CATEGORIES:Saison 2022/23
END:VEVENT
BEGIN:VEVENT
DTSTAMP:20260425T215037Z
DTSTART;TZID=Europe/Berlin:20230128T140000
DTEND;TZID=Europe/Berlin:20230128T153000
SUMMARY:BLM USV TU Dresden vs HC Elbflorenz 2006 III (1084)
UID:c576331d-d7b1-4daf-baf9-8c74e1d38080
STATUS:CONFIRMED
LAST-MODIFIED:20230129T184043Z
DESCRIPTION:BezLiga SM Männer\nBegegnungs-Nr: 1084\nHeim: USV TU Dresden\nGast: HC Elbflorenz 2006 III\nHalle: SH 25. Grund-/Oberschule Dresden (33117)\nAdresse: Pohlandstraße 40\, 01309 Dresden\n
LOCATION:SH 25. Grund-/Oberschule Dresden (33117): Pohlandstraße 40\, 01309 Dresden
CATEGORIES:Saison 2022/23
END:VEVENT
BEGIN:VEVENT
DTSTAMP:20260425T215037Z
DTSTART;TZID=Europe/Berlin:20230304T140000
DTEND;TZID=Europe/Berlin:20230304T153000
SUMMARY:BLM USV TU Dresden vs SSV Lommatzsch (1094)
UID:537f5d73-bafc-477f-94e0-3ac360c96551
STATUS:CONFIRMED
LAST-MODIFIED:20230307T075304Z
DESCRIPTION:BezLiga SM Männer\nBegegnungs-Nr: 1094\nHeim: USV TU Dresden\nGast: SSV Lommatzsch\nHalle: JOYNEXT Arena Dresden (Spielfeld 1) (33112a)\nAdresse: Magdeburger Straße 10\, 01067 Dresden\n
LOCATION:JOYNEXT Arena Dresden (Spielfeld 1) (33112a): Magdeburger Straße 10\, 01067 Dresden
CATEGORIES:Saison 2022/23
END:VEVENT
BEGIN:VEVENT
DTSTAMP:20260425T215037Z
DTSTART;TZID=Europe/Berlin:20230422T140000
DTEND;TZID=Europe/Berlin:20230422T153000
SUMMARY:BLM USV TU Dresden vs ESV Dresden II (1116)
UID:0d296a38-8dd4-47a0-b182-dfc6d4911eb1
STATUS:CONFIRMED
LAST-MODIFIED:20230423T154712Z
DESCRIPTION:BezLiga SM Männer\nBegegnungs-Nr: 1116\nHeim: USV TU Dresden\nGast: ESV Dresden II\nHalle: JOYNEXT Arena Dresden (Spielfeld 2) (33112b)\nAdresse: Magdeburger Straße 10\, 01067 Dresden\n
LOCATION:JOYNEXT Arena Dresden (Spielfeld 2) (33112b): Magdeburger Straße 10\, 01067 Dresden
CATEGORIES:Saison 2022/23
END:VEVENT
BEGIN:VEVENT
DTSTAMP:20260425T215037Z
DTSTART;TZID=Europe/Berlin:20230325T140000
DTEND;TZID=Europe/Berlin:20230325T153000
SUMMARY:BLM USV TU Dresden vs HSV Weinböhla II (1106)
UID:5eeeb70c-33c1-4088-ad1a-23fe77ae0ad9
STATUS:CONFIRMED
LAST-MODIFIED:20230327T081011Z
DESCRIPTION:BezLiga SM Männer\nBegegnungs-Nr: 1106\nHeim: USV TU Dresden\nGast: HSV Weinböhla II\nHalle: JOYNEXT Arena Dresden (Spielfeld 2) (33112b)\nAdresse: Magdeburger Straße 10\, 01067 Dresden\n
LOCATION:JOYNEXT Arena Dresden (Spielfeld 2) (33112b): Magdeburger Straße 10\, 01067 Dresden
CATEGORIES:Saison 2022/23
END:VEVENT
BEGIN:VEVENT
DTSTAMP:20260425T215037Z
DTSTART;TZID=Europe/Berlin:20221008T120000
DTEND;TZID=Europe/Berlin:20221008T133000
SUMMARY:BLM USV TU Dresden vs SF 01 Dresden II (1019)
UID:1c9cbac8-0b4a-45c8-b6dd-32cf4e95efed
STATUS:CONFIRMED
LAST-MODIFIED:20221010T110548Z
DESCRIPTION:BezLiga SM Männer\nBegegnungs-Nr: 1019\nHeim: USV TU Dresden\nGast: SF 01 Dresden II\nHalle: JOYNEXT Arena Dresden (Spielfeld 2) (33112b)\nAdresse: Magdeburger Straße 10\, 01067 Dresden\n
LOCATION:JOYNEXT Arena Dresden (Spielfeld 2) (33112b): Magdeburger Straße 10\, 01067 Dresden
CATEGORIES:Saison 2022/23
END:VEVENT
BEGIN:VEVENT
DTSTAMP:20260425T215037Z
DTSTART;TZID=Europe/Berlin:20221210T140000
DTEND;TZID=Europe/Berlin:20221210T153000
SUMMARY:BLM USV TU Dresden vs SV Niederau II (1058)
UID:1bb0a1f2-53bd-4196-80c1-5b0cd90b9dab
STATUS:CONFIRMED
LAST-MODIFIED:20221230T222758Z
DESCRIPTION:BezLiga SM Männer\nBegegnungs-Nr: 1058\nHeim: USV TU Dresden\nGast: SV Niederau II\nHalle: JOYNEXT Arena Dresden (Spielfeld 2) (33112b)\nAdresse: Magdeburger Straße 10\, 01067 Dresden\n
LOCATION:JOYNEXT Arena Dresden (Spielfeld 2) (33112b): Magdeburger Straße 10\, 01067 Dresden
CATEGORIES:Saison 2022/23
END:VEVENT
BEGIN:VEVENT
DTSTAMP:20260425T215037Z
DTSTART;TZID=Europe/Berlin:20230121T140000
DTEND;TZID=Europe/Berlin:20230121T153000
SUMMARY:BLM USV TU Dresden vs SG Klotzsche (1073)
UID:1b231955-b529-4e22-9211-29ee0f3ac417
STATUS:CONFIRMED
LAST-MODIFIED:20230122T124953Z
DESCRIPTION:BezLiga SM Männer\nBegegnungs-Nr: 1073\nHeim: USV TU Dresden\nGast: SG Klotzsche\nHalle: JOYNEXT Arena Dresden (Spielfeld 2) (33112b)\nAdresse: Magdeburger Straße 10\, 01067 Dresden\n
LOCATION:JOYNEXT Arena Dresden (Spielfeld 2) (33112b): Magdeburger Straße 10\, 01067 Dresden
CATEGORIES:Saison 2022/23
END:VEVENT
BEGIN:VEVENT
DTSTAMP:20260425T215037Z
DTSTART;TZID=Europe/Berlin:20220918T140000
DTEND;TZID=Europe/Berlin:20220918T153000
SUMMARY:BLM USV TU Dresden vs SC Riesa II (1005)
UID:ba86e871-0fd3-4a58-a529-bdb190588612
STATUS:CONFIRMED
LAST-MODIFIED:20220918T201843Z
DESCRIPTION:BezLiga SM Männer\nBegegnungs-Nr: 1005\nHeim: USV TU Dresden\nGast: SC Riesa II\nHalle: JOYNEXT Arena Dresden (Spielfeld 2) (33112b)\nAdresse: Magdeburger Straße 10\, 01067 Dresden\n
LOCATION:JOYNEXT Arena Dresden (Spielfeld 2) (33112b): Magdeburger Straße 10\, 01067 Dresden
CATEGORIES:Saison 2022/23
END:VEVENT
BEGIN:VEVENT
DTSTAMP:20260425T215037Z
DTSTART;TZID=Europe/Berlin:20221119T140000
DTEND;TZID=Europe/Berlin:20221119T153000
SUMMARY:BLM USV TU Dresden vs TSV 1862 Radeburg (1045)
UID:92f25e04-6e90-478f-9c3a-bb54a3946341
STATUS:CONFIRMED
LAST-MODIFIED:20221123T085028Z
DESCRIPTION:BezLiga SM Männer\nBegegnungs-Nr: 1045\nHeim: USV TU Dresden\nGast: TSV 1862 Radeburg\nHalle: JOYNEXT Arena Dresden (Spielfeld 2) (33112b)\nAdresse: Magdeburger Straße 10\, 01067 Dresden\n
LOCATION:JOYNEXT Arena Dresden (Spielfeld 2) (33112b): Magdeburger Straße 10\, 01067 Dresden
CATEGORIES:Saison 2022/23
END:VEVENT
BEGIN:VEVENT
DTSTAMP:20260425T215037Z
DTSTART;TZID=Europe/Berlin:20230218T180000
DTEND;TZID=Europe/Berlin:20230218T193000
SUMMARY:BLM SSV Lommatzsch vs USV TU Dresden (1149)
UID:241cd342-1f7b-4e95-a5cf-e7c5c43d2aa8
STATUS:CONFIRMED
LAST-MODIFIED:20230227T085126Z
DESCRIPTION:BezLiga SM Männer\nBegegnungs-Nr: 1149\nHeim: SSV Lommatzsch\nGast: USV TU Dresden\nHalle: Lothar-Krauße-SH Lommatzsch (33211)\nAdresse: Domselwitzer Str. 21\, 01623 Lommatzsch\n
LOCATION:Lothar-Krauße-SH Lommatzsch (33211): Domselwitzer Str. 21\, 01623 Lommatzsch
CATEGORIES:Saison 2022/23
END:VEVENT
BEGIN:VEVENT
DTSTAMP:20260425T215037Z
DTSTART;TZID=Europe/Berlin:20221112T150000
DTEND;TZID=Europe/Berlin:20221112T163000
SUMMARY:BLM HSV Weinböhla II vs USV TU Dresden (1039)
UID:6458aa05-c5d5-45e6-b2b4-9d41697acf80
STATUS:CONFIRMED
LAST-MODIFIED:20221114T105446Z
DESCRIPTION:BezLiga SM Männer\nBegegnungs-Nr: 1039\nHeim: HSV Weinböhla II\nGast: USV TU Dresden\nHalle: Nassau-SH Weinböhla (33224)\nAdresse: Meißner Str. 1\, 01689 Weinböhla\n
LOCATION:Nassau-SH Weinböhla (33224): Meißner Str. 1\, 01689 Weinböhla
CATEGORIES:Saison 2022/23
END:VEVENT
BEGIN:VEVENT
DTSTAMP:20260425T215037Z
DTSTART;TZID=Europe/Berlin:20230204T150000
DTEND;TZID=Europe/Berlin:20230204T163000
SUMMARY:BLM SF 01 Dresden II vs USV TU Dresden (1085)
UID:a1e235a5-146e-48ce-be39-73efd4c97b78
STATUS:CONFIRMED
LAST-MODIFIED:20230205T143453Z
DESCRIPTION:BezLiga SM Männer\nBegegnungs-Nr: 1085\nHeim: SF 01 Dresden II\nGast: USV TU Dresden\nHalle: SH 117. Grundschule Dresden (33132)\nAdresse: Reichenbachstr. 12\, 01069 Dresden\n
LOCATION:SH 117. Grundschule Dresden (33132): Reichenbachstr. 12\, 01069 Dresden
CATEGORIES:Saison 2022/23
END:VEVENT
BEGIN:VEVENT
DTSTAMP:20260425T215037Z
DTSTART;TZID=Europe/Berlin:20230401T190000
DTEND;TZID=Europe/Berlin:20230401T203000
SUMMARY:BLM TSV 1862 Radeburg vs USV TU Dresden (1111)
UID:7629640e-f059-40fc-8476-62b1e00c417e
STATUS:CONFIRMED
LAST-MODIFIED:20230404T074828Z
DESCRIPTION:BezLiga SM Männer\nBegegnungs-Nr: 1111\nHeim: TSV 1862 Radeburg\nGast: USV TU Dresden\nHalle: Paul-Tiedemann-SH Radeburg (33214)\nAdresse: Meißner Berg 83c\, 01471 Radeburg\n
LOCATION:Paul-Tiedemann-SH Radeburg (33214): Meißner Berg 83c\, 01471 Radeburg
CATEGORIES:Saison 2022/23
END:VEVENT
BEGIN:VEVENT
DTSTAMP:20260425T215037Z
DTSTART;TZID=Europe/Berlin:20220924T170000
DTEND;TZID=Europe/Berlin:20220924T183000
SUMMARY:BLM SG Klotzsche vs USV TU Dresden (1007)
UID:cae8c859-f6f4-4999-906f-35ddbf26ea18
STATUS:CONFIRMED
LAST-MODIFIED:20220925T155825Z
DESCRIPTION:BezLiga SM Männer\nBegegnungs-Nr: 1007\nHeim: SG Klotzsche\nGast: USV TU Dresden\nHalle: SH Gymnasium Klotzsche (33126)\nAdresse: Karl-Marx-Straße 44\, 01109 Dresden\n
LOCATION:SH Gymnasium Klotzsche (33126): Karl-Marx-Straße 44\, 01109 Dresden
CATEGORIES:Saison 2022/23
END:VEVENT
BEGIN:VEVENT
DTSTAMP:20260425T215037Z
DTSTART;TZID=Europe/Berlin:20221015T160000
DTEND;TZID=Europe/Berlin:20221015T173000
SUMMARY:BLM HC Elbflorenz 2006 III vs USV TU Dresden (1030)
UID:f0ee795e-78f4-43b7-8b69-b602d54928cb
STATUS:CONFIRMED
LAST-MODIFIED:20221021T152736Z
DESCRIPTION:BezLiga SM Männer\nBegegnungs-Nr: 1030\nHeim: HC Elbflorenz 2006 III\nGast: USV TU Dresden\nHalle: BallsportARENA Dresden (33133)\nAdresse: Weißeritzstraße 4\, 01067 Dresden\n
LOCATION:BallsportARENA Dresden (33133): Weißeritzstraße 4\, 01067 Dresden
CATEGORIES:Saison 2022/23
END:VEVENT
BEGIN:VEVENT
DTSTAMP:20260425T215037Z
DTSTART;TZID=Europe/Berlin:20221203T130000
DTEND;TZID=Europe/Berlin:20221203T143000
SUMMARY:BLM ESV Dresden II vs USV TU Dresden (1050)
UID:4914058f-f83f-4a0b-976f-b76cc1691c3f
STATUS:CONFIRMED
LAST-MODIFIED:20221208T180655Z
DESCRIPTION:BezLiga SM Männer\nBegegnungs-Nr: 1050\nHeim: ESV Dresden II\nGast: USV TU Dresden\nHalle: Lok-SH Dresden (33106)\nAdresse: Emmerich-Ambros-Ufer 74\, 01159 Dresden\n
LOCATION:Lok-SH Dresden (33106): Emmerich-Ambros-Ufer 74\, 01159 Dresden
CATEGORIES:Saison 2022/23
END:VEVENT
BEGIN:VEVENT
DTSTAMP:20260425T215037Z
DTSTART;TZID=Europe/Berlin:20230108T160000
DTEND;TZID=Europe/Berlin:20230108T173000
SUMMARY:BLM Kurort Hartha vs USV TU Dresden (1062)
UID:8092288a-930e-4043-bd76-1a74f19beab4
STATUS:CONFIRMED
LAST-MODIFIED:20230117T121643Z
DESCRIPTION:BezLiga SM Männer\nBegegnungs-Nr: 1062\nHeim: Kurort Hartha\nGast: USV TU Dresden\nHalle: Saubach-SH Wilsdruff (33208)\nAdresse: Nossener Str. 21b\, 01723 Wilsdruff\n
LOCATION:Saubach-SH Wilsdruff (33208): Nossener Str. 21b\, 01723 Wilsdruff
CATEGORIES:Saison 2022/23
END:VEVENT
BEGIN:VEVENT
DTSTAMP:20260425T215037Z
DTSTART;TZID=Europe/Berlin:20230114T190000
DTEND;TZID=Europe/Berlin:20230114T203000
SUMMARY:BLM SC Riesa II vs USV TU Dresden (1071)
UID:d8861173-0da4-4e68-8e46-28759fa8b099
STATUS:CONFIRMED
LAST-MODIFIED:20230117T122115Z
DESCRIPTION:BezLiga SM Männer\nBegegnungs-Nr: 1071\nHeim: SC Riesa II\nGast: USV TU Dresden\nHalle: WM-Sporthalle Riesa (33213)\nAdresse: Am Sportzentrum 1\, 01587 Riesa\n
LOCATION:WM-Sporthalle Riesa (33213): Am Sportzentrum 1\, 01587 Riesa
CATEGORIES:Saison 2022/23
END:VEVENT
BEGIN:VEVENT
DTSTAMP:20260425T215037Z
DTSTART;TZID=Europe/Berlin:20230429T150000
DTEND;TZID=Europe/Berlin:20230429T163000
SUMMARY:BLM SV Niederau II vs USV TU Dresden (1124)
UID:22824a0b-4b15-432d-a03b-e33b61433314
STATUS:CONFIRMED
LAST-MODIFIED:20230504T170653Z
DESCRIPTION:BezLiga SM Männer\nBegegnungs-Nr: 1124\nHeim: SV Niederau II\nGast: USV TU Dresden\nHalle: SH BSZ Meißen (33220)\nAdresse: Goethestraße 21\, 01662 Meißen\n
LOCATION:SH BSZ Meißen (33220): Goethestraße 21\, 01662 Meißen
CATEGORIES:Saison 2022/23
END:VEVENT
BEGIN:VEVENT
DTSTAMP:20260425T215037Z
DTSTART;TZID=Europe/Berlin:20221001T180000
DTEND;TZID=Europe/Berlin:20221001T193000
SUMMARY:BLM Radebeuler HV vs USV TU Dresden (1017)
UID:14361421-65d4-459f-aa1d-d527da224abd
STATUS:CONFIRMED
LAST-MODIFIED:20221004T121821Z
DESCRIPTION:BezLiga SM Männer\nBegegnungs-Nr: 1017\nHeim: Radebeuler HV\nGast: USV TU Dresden\nHalle: Lößnitz-SH Radebeul (33204)\nAdresse: Steinbachstr. 13\, 01445 Radebeul\n
LOCATION:Lößnitz-SH Radebeul (33204): Steinbachstr. 13\, 01445 Radebeul
CATEGORIES:Saison 2022/23
END:VEVENT
BEGIN:VEVENT
DTSTAMP:20260425T215037Z
DTSTART;TZID=Europe/Berlin:20221126T163000
DTEND;TZID=Europe/Berlin:20221126T180000
SUMMARY:BLM HSV Dresden III vs USV TU Dresden (1139)
UID:f53c9e9f-eb1b-493a-8d1f-d12c300b4fea
STATUS:CONFIRMED
LAST-MODIFIED:20221128T164052Z
DESCRIPTION:BezLiga SM Männer\nBegegnungs-Nr: 1139\nHeim: HSV Dresden III\nGast: USV TU Dresden\nHalle: SH 121. Oberschule Dresden (33102)\nAdresse: Gamigstraße 28/30\, 01239 Dresden\n
LOCATION:SH 121. Oberschule Dresden (33102): Gamigstraße 28/30\, 01239 Dresden
CATEGORIES:Saison 2022/23
END:VEVENT
END:VCALENDAR
