BEGIN:VCALENDAR
PRODID:-//nuDatenautomaten//framework iCal4j //DE
VERSION:2.0
CALSCALE:GREGORIAN
BEGIN:VTIMEZONE
TZID:Europe/Berlin
LAST-MODIFIED:20260306T231828Z
TZURL:https://www.tzurl.org/zoneinfo/Europe/Berlin
X-LIC-LOCATION:Europe/Berlin
X-PROLEPTIC-TZNAME:LMT
BEGIN:STANDARD
TZNAME:CET
TZOFFSETFROM:+005328
TZOFFSETTO:+0100
DTSTART:18930401T000000
END:STANDARD
BEGIN:DAYLIGHT
TZNAME:CEST
TZOFFSETFROM:+0100
TZOFFSETTO:+0200
DTSTART:19160430T230000
RDATE:19400401T020000
RDATE:19430329T020000
RDATE:19460414T020000
RDATE:19470406T030000
RDATE:19480418T020000
RDATE:19490410T020000
RDATE:19800406T020000
END:DAYLIGHT
BEGIN:STANDARD
TZNAME:CET
TZOFFSETFROM:+0200
TZOFFSETTO:+0100
DTSTART:19161001T010000
RDATE:19421102T030000
RDATE:19431004T030000
RDATE:19441002T030000
RDATE:19451118T030000
RDATE:19461007T030000
END:STANDARD
BEGIN:DAYLIGHT
TZNAME:CEST
TZOFFSETFROM:+0100
TZOFFSETTO:+0200
DTSTART:19170416T020000
RRULE:FREQ=YEARLY;UNTIL=19180415T010000Z;BYMONTH=4;BYDAY=3MO
END:DAYLIGHT
BEGIN:STANDARD
TZNAME:CET
TZOFFSETFROM:+0200
TZOFFSETTO:+0100
DTSTART:19170917T030000
RRULE:FREQ=YEARLY;UNTIL=19180916T010000Z;BYMONTH=9;BYDAY=3MO
END:STANDARD
BEGIN:DAYLIGHT
TZNAME:CEST
TZOFFSETFROM:+0100
TZOFFSETTO:+0200
DTSTART:19440403T020000
RRULE:FREQ=YEARLY;UNTIL=19450402T010000Z;BYMONTH=4;BYDAY=1MO
END:DAYLIGHT
BEGIN:DAYLIGHT
TZNAME:CEMT
TZOFFSETFROM:+0200
TZOFFSETTO:+0300
DTSTART:19450524T020000
RDATE:19470511T030000
END:DAYLIGHT
BEGIN:DAYLIGHT
TZNAME:CEST
TZOFFSETFROM:+0300
TZOFFSETTO:+0200
DTSTART:19450924T030000
RDATE:19470629T030000
END:DAYLIGHT
BEGIN:STANDARD
TZNAME:CET
TZOFFSETFROM:+0100
TZOFFSETTO:+0100
DTSTART:19460101T000000
RDATE:19800101T000000
END:STANDARD
BEGIN:STANDARD
TZNAME:CET
TZOFFSETFROM:+0200
TZOFFSETTO:+0100
DTSTART:19471005T030000
RRULE:FREQ=YEARLY;UNTIL=19491002T010000Z;BYMONTH=10;BYDAY=1SU
END:STANDARD
BEGIN:STANDARD
TZNAME:CET
TZOFFSETFROM:+0200
TZOFFSETTO:+0100
DTSTART:19800928T030000
RRULE:FREQ=YEARLY;UNTIL=19950924T010000Z;BYMONTH=9;BYDAY=-1SU
END:STANDARD
BEGIN:DAYLIGHT
TZNAME:CEST
TZOFFSETFROM:+0100
TZOFFSETTO:+0200
DTSTART:19810329T020000
RRULE:FREQ=YEARLY;BYMONTH=3;BYDAY=-1SU
END:DAYLIGHT
BEGIN:STANDARD
TZNAME:CET
TZOFFSETFROM:+0200
TZOFFSETTO:+0100
DTSTART:19961027T030000
RRULE:FREQ=YEARLY;BYMONTH=10;BYDAY=-1SU
END:STANDARD
END:VTIMEZONE
BEGIN:VEVENT
DTSTAMP:20260419T170652Z
DTSTART;TZID=Europe/Berlin:20221120T130000
DTEND;TZID=Europe/Berlin:20221120T143000
SUMMARY:WLLMä2 TBSV Neugersdorf III vs Stahl Rietschen III (10052)
UID:1a7883bc-5bc0-4ba2-909e-9beae513b466
STATUS:CONFIRMED
LAST-MODIFIED:20221121T074002Z
DESCRIPTION:Westlausitzliga Männer Gruppe 2\nBegegnungs-Nr: 10052\nHeim: TBSV Neugersdorf III\nGast: Stahl Rietschen III\nHalle: FSZ Oberland \"Albert Schweitzer\" (34112)\nAdresse: Friedrich-Ebert-Str.27\, 02730 Ebersbach-Neugersdorf\n
LOCATION:FSZ Oberland \"Albert Schweitzer\" (34112): Friedrich-Ebert-Str.27\, 02730 Ebersbach-Neugersdorf
CATEGORIES:Saison 2022/23
END:VEVENT
BEGIN:VEVENT
DTSTAMP:20260419T170652Z
DTSTART;TZID=Europe/Berlin:20221008T160000
DTEND;TZID=Europe/Berlin:20221008T173000
SUMMARY:WLLMä2 TBSV Neugersdorf III vs SG Eibau/Zittau II (10051)
UID:bebe547d-1476-4f1d-856f-f69b32183526
STATUS:CONFIRMED
LAST-MODIFIED:20221112T190633Z
DESCRIPTION:Westlausitzliga Männer Gruppe 2\nBegegnungs-Nr: 10051\nHeim: TBSV Neugersdorf III\nGast: SG Eibau/Zittau II\nHalle: FSZ Oberland \"Albert Schweitzer\" (34112)\nAdresse: Friedrich-Ebert-Str.27\, 02730 Ebersbach-Neugersdorf\n
LOCATION:FSZ Oberland \"Albert Schweitzer\" (34112): Friedrich-Ebert-Str.27\, 02730 Ebersbach-Neugersdorf
CATEGORIES:Saison 2022/23
END:VEVENT
BEGIN:VEVENT
DTSTAMP:20260419T170652Z
DTSTART;TZID=Europe/Berlin:20230326T150000
DTEND;TZID=Europe/Berlin:20230326T163000
SUMMARY:Platzierung_1 TBSV Neugersdorf III vs HSV 1923 Pulsnitz III (2)
UID:2cf44071-6e95-45a2-ba8e-fc42f07dfa01
STATUS:CONFIRMED
LAST-MODIFIED:20230326T165956Z
DESCRIPTION:Platz_1\nBegegnungs-Nr: 2\nHeim: TBSV Neugersdorf III\nGast: HSV 1923 Pulsnitz III\nHalle: FSZ Oberland \"Albert Schweitzer\" (34112)\nAdresse: Friedrich-Ebert-Str.27\, 02730 Ebersbach-Neugersdorf\n
LOCATION:FSZ Oberland \"Albert Schweitzer\" (34112): Friedrich-Ebert-Str.27\, 02730 Ebersbach-Neugersdorf
CATEGORIES:Saison 2022/23
END:VEVENT
BEGIN:VEVENT
DTSTAMP:20260419T170652Z
DTSTART;TZID=Europe/Berlin:20230204T160000
DTEND;TZID=Europe/Berlin:20230204T173000
SUMMARY:WLLMä2 TBSV Neugersdorf III vs SG Sohland/Friedersdorf II (10061)
UID:786ec202-64d6-4f5c-999c-adf258c686f2
STATUS:CONFIRMED
LAST-MODIFIED:20230213T140241Z
DESCRIPTION:Westlausitzliga Männer Gruppe 2\nBegegnungs-Nr: 10061\nHeim: TBSV Neugersdorf III\nGast: SG Sohland/Friedersdorf II\nHalle: FSZ Oberland \"Albert Schweitzer\" (34112)\nAdresse: Friedrich-Ebert-Str.27\, 02730 Ebersbach-Neugersdorf\n
LOCATION:FSZ Oberland \"Albert Schweitzer\" (34112): Friedrich-Ebert-Str.27\, 02730 Ebersbach-Neugersdorf
CATEGORIES:Saison 2022/23
END:VEVENT
BEGIN:VEVENT
DTSTAMP:20260419T170652Z
DTSTART;TZID=Europe/Berlin:20221126T170000
DTEND;TZID=Europe/Berlin:20221126T183000
SUMMARY:WLLMä2 SG Sohland/Friedersdorf II vs TBSV Neugersdorf III (10055)
UID:6e7960e1-6ed8-4ee8-b5ff-ee0439e26b45
STATUS:CONFIRMED
LAST-MODIFIED:20230103T134800Z
DESCRIPTION:Westlausitzliga Männer Gruppe 2\nBegegnungs-Nr: 10055\nHeim: SG Sohland/Friedersdorf II\nGast: TBSV Neugersdorf III\nHalle: \"Oberland-Sporthalle\" Sohland (34501)\nAdresse: G. - Hauptmann - Str. 4 A\, 02689 Sohland\n
LOCATION:\"Oberland-Sporthalle\" Sohland (34501): G. - Hauptmann - Str. 4 A\, 02689 Sohland
CATEGORIES:Saison 2022/23
END:VEVENT
BEGIN:VEVENT
DTSTAMP:20260419T170652Z
DTSTART;TZID=Europe/Berlin:20221211T160000
DTEND;TZID=Europe/Berlin:20221211T173000
SUMMARY:WLLMä2 SG Eibau/Zittau II vs TBSV Neugersdorf III (10057)
UID:65932cd9-92f4-498c-90cc-59966f0835c4
STATUS:CONFIRMED
LAST-MODIFIED:20230112T060518Z
DESCRIPTION:Westlausitzliga Männer Gruppe 2\nBegegnungs-Nr: 10057\nHeim: SG Eibau/Zittau II\nGast: TBSV Neugersdorf III\nHalle: SH BSZ Zittau Ottokarplatz (34109)
LOCATION:SH BSZ Zittau Ottokarplatz (34109): 
CATEGORIES:Saison 2022/23
END:VEVENT
BEGIN:VEVENT
DTSTAMP:20260419T170652Z
DTSTART;TZID=Europe/Berlin:20230121T160000
DTEND;TZID=Europe/Berlin:20230121T173000
SUMMARY:WLLMä2 Stahl Rietschen III vs TBSV Neugersdorf III (10058)
UID:6b1558c8-5007-4e46-868b-9a415b568c5a
STATUS:CONFIRMED
LAST-MODIFIED:20230124T095854Z
DESCRIPTION:Westlausitzliga Männer Gruppe 2\nBegegnungs-Nr: 10058\nHeim: Stahl Rietschen III\nGast: TBSV Neugersdorf III\nHalle: Oberlausitz-SH Rietschen (34403)\nAdresse: Am Festplatz 1\, 02956 Rietschen\n
LOCATION:Oberlausitz-SH Rietschen (34403): Am Festplatz 1\, 02956 Rietschen
CATEGORIES:Saison 2022/23
END:VEVENT
BEGIN:VEVENT
DTSTAMP:20260419T170652Z
DTSTART;TZID=Europe/Berlin:20230312T120000
DTEND;TZID=Europe/Berlin:20230312T133000
SUMMARY:Platzierung_1 HSV 1923 Pulsnitz III vs TBSV Neugersdorf III (1)
UID:833b0dac-3eeb-42a6-9735-a4d429a77073
STATUS:CONFIRMED
LAST-MODIFIED:20230313T092917Z
DESCRIPTION:Platz_1\nBegegnungs-Nr: 1\nHeim: HSV 1923 Pulsnitz III\nGast: TBSV Neugersdorf III\nHalle: Sportkomplex Pulsnitz (34208)\nAdresse: Hempelstr. 8\, 01896 Pulsnitz\n
LOCATION:Sportkomplex Pulsnitz (34208): Hempelstr. 8\, 01896 Pulsnitz
CATEGORIES:Saison 2022/23
END:VEVENT
END:VCALENDAR
